Workbook

Sheet Сводная
C1: Сводная ведомость оценочных процедур ОО
C2: 1 А | O2: 1 Б | AA2: 1 В
B3: Предметы | C3: сентябрь | D3: октябрь | E3: ноябрь | F3: декабрь | G3: январь | H3: февраль | I3: март | J3: апрель | K3: май | L3: Всего оценочных процедур за год | M3: Кол-во часов по учебному плану (УП) | N3: % соотношение кол-ва оценочных процедур к кол-ву часов УП | O3: сентябрь | P3: октябрь | Q3: ноябрь | R3: декабрь | S3: январь | T3: февраль | U3: март | V3: апрель | W3: май | X3: Всего оценочных процедур за год | Y3: Кол-во часов по учебному плану (УП) | Z3: % соотношение кол-ва оценочных процедур к кол-ву часов УП | AA3: сентябрь | AB3: октябрь | AC3: ноябрь | AD3: декабрь | AE3: январь | AF3: февраль | AG3: март | AH3: апрель | AI3: май | AJ3: Всего оценочных процедур за год | AK3: Кол-во часов по учебному плану (УП) | AL3: % соотношение кол-ва оценочных процедур к кол-ву часов УП | AM3: сентябрь | AN3: октябрь | AO3: ноябрь | AP3: декабрь | AQ3: январь | AR3: февраль | AS3: март | AT3: апрель | AU3: май | AV3: Всего оценочных процедур за год | AW3: Кол-во часов по учебному плану (УП) | AX3: % соотношение кол-ва оценочных процедур к кол-ву часов УП | AY3: сентябрь | AZ3: октябрь | BA3: ноябрь | BB3: декабрь | BC3: январь | BD3: февраль | BE3: март | BF3: апрель | BG3: май | BH3: Всего оценочных процедур за год | BI3: Кол-во часов по учебному плану (УП) | BJ3: % соотношение кол-ва оценочных процедур к кол-ву часов УП | BK3: сентябрь | BL3: октябрь | BM3: ноябрь | BN3: декабрь | BO3: январь | BP3: февраль | BQ3: март | BR3: апрель | BS3: май | BT3: Всего оценочных процедур за год | BU3: Кол-во часов по учебному плану (УП) | BV3: % соотношение кол-ва оценочных процедур к кол-ву часов УП
A4: 1 | B4: Русский язык | C4: =IF(сентябрь!G4="","",сентябрь!G4) | D4: =IF(октябрь!G4="","",октябрь!G4) | E4: =IF(ноябрь!G4="","",ноябрь!G4) | F4: =IF(декабрь!G4="","",декабрь!G4) | G4: =IF(январь!G4="","",январь!G4) | H4: =IF(февраль!G4="","",февраль!G4) | I4: =IF(март!G4="","",март!G4) | J4: =IF(апрель!G4="","",апрель!G4) | K4: =IF(май!G4="","",май!G4) -> 1 | L4: =IF(AND(C4="",D4="",E4="",F4="",G4="",H4="",I4="",J4="",K4=""),"",SUM(C4:K4)) -> 1 | M4: =IF('Кол.часов по УП'!C3="","",'Кол.часов по УП'!C3) -> 165 | N4: =IF(AND(L4="",M4=""),"",L4/M4*100) -> 0.60606061 | O4: =IF(сентябрь!L4="","",сентябрь!L4) | P4: =IF(октябрь!L4="","",октябрь!L4) | Q4: =IF(ноябрь!L4="","",ноябрь!L4) | R4: =IF(декабрь!L4="","",декабрь!L4) | S4: =IF(январь!L4="","",январь!L4) | T4: =IF(февраль!L4="","",февраль!L4) | U4: =IF(март!L4="","",март!L4) | V4: =IF(апрель!L4="","",апрель!L4) | W4: =IF(май!L4="","",май!L4) -> 1 | X4: =IF(AND(O4="",P4="",Q4="",R4="",S4="",T4="",U4="",V4="",W4=""),"",SUM(O4:W4)) -> 1 | Y4: =IF('Кол.часов по УП'!D3="","",'Кол.часов по УП'!D3) -> 165 | Z4: =IF(AND(X4="",Y4=""),"",X4/Y4*100) -> 0.60606061 | AA4: =IF(сентябрь!Q4="","",сентябрь!Q4) | AB4: =IF(октябрь!Q4="","",октябрь!Q4) | AC4: =IF(ноябрь!Q4="","",ноябрь!Q4) | AD4: =IF(декабрь!Q4="","",декабрь!Q4) | AE4: =IF(январь!Q4="","",январь!Q4) | AF4: =IF(февраль!Q4="","",февраль!Q4) | AG4: =IF(март!Q4="","",март!Q4) | AH4: =IF(апрель!Q4="","",апрель!Q4) | AI4: =IF(май!Q4="","",май!Q4) -> 1 | AJ4: =IF(AND(AA4="",AB4="",AC4="",AD4="",AE4="",AF4="",AG4="",AH4="",AI4=""),"",SUM(AA4:AI4)) -> 1 | AK4: =IF('Кол.часов по УП'!E3="","",'Кол.часов по УП'!E3) -> 165 | AL4: =IF(AND(AJ4="",AK4=""),"",AJ4/AK4*100) -> 0.60606061 | AM4: =IF(сентябрь!V4="","",сентябрь!V4) -> 0 | AN4: =IF(октябрь!V4="","",октябрь!V4) -> 0 | AO4: =IF(ноябрь!V4="","",ноябрь!V4) -> 0 | AP4: =IF(декабрь!V4="","",декабрь!V4) -> 0 | AQ4: =IF(январь!V4="","",январь!V4) -> 0 | AR4: =IF(февраль!V4="","",февраль!V4) -> 0 | AS4: =IF(март!V4="","",март!V4) -> 0 | AT4: =IF(апрель!V4="","",апрель!V4) -> 0 | AU4: =IF(май!V4="","",май!V4) -> 1 | AV4: =IF(AND(AM4="",AN4="",AO4="",AP4="",AQ4="",AR4="",AS4="",AT4="",AU4=""),"",SUM(AM4:AU4)) -> 1 | AW4: =IF('Кол.часов по УП'!F3="","",'Кол.часов по УП'!F3) -> 165 | AX4: =IF(AND(AV4="",AW4=""),"",AV4/AW4*100) -> 0.60606061 | AY4: =IF(сентябрь!AA4="","",сентябрь!AA4) | AZ4: =IF(октябрь!AA4="","",октябрь!AA4) | BA4: =IF(ноябрь!AA4="","",ноябрь!AA4) | BB4: =IF(декабрь!AA4="","",декабрь!AA4) | BC4: =IF(январь!AA4="","",январь!AA4) | BD4: =IF(февраль!AA4="","",февраль!AA4) | BE4: =IF(март!AA4="","",март!AA4) | BF4: =IF(апрель!AA4="","",апрель!AA4) | BG4: =IF(май!AA4="","",май!AA4) | BH4: =IF(AND(AY4="",AZ4="",BA4="",BB4="",BC4="",BD4="",BE4="",BF4="",BG4=""),"",SUM(AY4:BG4)) | BI4: =IF('Кол.часов по УП'!G3="","",'Кол.часов по УП'!G3) | BJ4: =IF(AND(BH4="",BI4=""),"",BH4/BI4*100) | BK4: =IF(сентябрь!AF4="","",сентябрь!AF4) | BL4: =IF(октябрь!AF4="","",октябрь!AF4) | BM4: =IF(ноябрь!AF4="","",ноябрь!AF4) | BN4: =IF(декабрь!AF4="","",декабрь!AF4) | BO4: =IF(январь!AF4="","",январь!AF4) | BP4: =IF(февраль!AF4="","",февраль!AF4) | BQ4: =IF(март!AF4="","",март!AF4) | BR4: =IF(апрель!AF4="","",апрель!AF4) | BS4: =IF(май!AF4="","",май!AF4) | BT4: =IF(AND(BK4="",BL4="",BM4="",BN4="",BO4="",BP4="",BQ4="",BR4="",BS4=""),"",SUM(BK4:BS4)) | BU4: =IF('Кол.часов по УП'!H3="","",'Кол.часов по УП'!H3) | BV4: =IF(AND(BT4="",BU4=""),"",BT4/BU4*100)
A5: 2 | B5: Литературное чтение | C5: =IF(сентябрь!G5="","",сентябрь!G5) | D5: =IF(октябрь!G5="","",октябрь!G5) | E5: =IF(ноябрь!G5="","",ноябрь!G5) | F5: =IF(декабрь!G5="","",декабрь!G5) | G5: =IF(январь!G5="","",январь!G5) | H5: =IF(февраль!G5="","",февраль!G5) | I5: =IF(март!G5="","",март!G5) | J5: =IF(апрель!G5="","",апрель!G5) | K5: =IF(май!G5="","",май!G5) -> 1 | L5: =IF(AND(C5="",D5="",E5="",F5="",G5="",H5="",I5="",J5="",K5=""),"",SUM(C5:K5)) -> 1 | M5: =IF('Кол.часов по УП'!C4="","",'Кол.часов по УП'!C4) -> 132 | N5: =IF(AND(L5="",M5=""),"",L5/M5*100) -> 0.75757576 | O5: =IF(сентябрь!L5="","",сентябрь!L5) | P5: =IF(октябрь!L5="","",октябрь!L5) | Q5: =IF(ноябрь!L5="","",ноябрь!L5) | R5: =IF(декабрь!L5="","",декабрь!L5) | S5: =IF(январь!L5="","",январь!L5) | T5: =IF(февраль!L5="","",февраль!L5) | U5: =IF(март!L5="","",март!L5) | V5: =IF(апрель!L5="","",апрель!L5) | W5: =IF(май!L5="","",май!L5) -> 1 | X5: =IF(AND(O5="",P5="",Q5="",R5="",S5="",T5="",U5="",V5="",W5=""),"",SUM(O5:W5)) -> 1 | Y5: =IF('Кол.часов по УП'!D4="","",'Кол.часов по УП'!D4) -> 132 | Z5: =IF(AND(X5="",Y5=""),"",X5/Y5*100) -> 0.75757576 | AA5: =IF(сентябрь!Q5="","",сентябрь!Q5) | AB5: =IF(октябрь!Q5="","",октябрь!Q5) | AC5: =IF(ноябрь!Q5="","",ноябрь!Q5) | AD5: =IF(декабрь!Q5="","",декабрь!Q5) | AE5: =IF(январь!Q5="","",январь!Q5) | AF5: =IF(февраль!Q5="","",февраль!Q5) | AG5: =IF(март!Q5="","",март!Q5) | AH5: =IF(апрель!Q5="","",апрель!Q5) | AI5: =IF(май!Q5="","",май!Q5) -> 1 | AJ5: =IF(AND(AA5="",AB5="",AC5="",AD5="",AE5="",AF5="",AG5="",AH5="",AI5=""),"",SUM(AA5:AI5)) -> 1 | AK5: =IF('Кол.часов по УП'!E4="","",'Кол.часов по УП'!E4) -> 132 | AL5: =IF(AND(AJ5="",AK5=""),"",AJ5/AK5*100) -> 0.75757576 | AM5: =IF(сентябрь!V5="","",сентябрь!V5) -> 0 | AN5: =IF(октябрь!V5="","",октябрь!V5) -> 0 | AO5: =IF(ноябрь!V5="","",ноябрь!V5) -> 0 | AP5: =IF(декабрь!V5="","",декабрь!V5) -> 0 | AQ5: =IF(январь!V5="","",январь!V5) -> 0 | AR5: =IF(февраль!V5="","",февраль!V5) -> 0 | AS5: =IF(март!V5="","",март!V5) -> 0 | AT5: =IF(апрель!V5="","",апрель!V5) -> 0 | AU5: =IF(май!V5="","",май!V5) -> 1 | AV5: =IF(AND(AM5="",AN5="",AO5="",AP5="",AQ5="",AR5="",AS5="",AT5="",AU5=""),"",SUM(AM5:AU5)) -> 1 | AW5: =IF('Кол.часов по УП'!F4="","",'Кол.часов по УП'!F4) -> 132 | AX5: =IF(AND(AV5="",AW5=""),"",AV5/AW5*100) -> 0.75757576 | AY5: =IF(сентябрь!AA5="","",сентябрь!AA5) | AZ5: =IF(октябрь!AA5="","",октябрь!AA5) | BA5: =IF(ноябрь!AA5="","",ноябрь!AA5) | BB5: =IF(декабрь!AA5="","",декабрь!AA5) | BC5: =IF(январь!AA5="","",январь!AA5) | BD5: =IF(февраль!AA5="","",февраль!AA5) | BE5: =IF(март!AA5="","",март!AA5) | BF5: =IF(апрель!AA5="","",апрель!AA5) | BG5: =IF(май!AA5="","",май!AA5) | BH5: =IF(AND(AY5="",AZ5="",BA5="",BB5="",BC5="",BD5="",BE5="",BF5="",BG5=""),"",SUM(AY5:BG5)) | BI5: =IF('Кол.часов по УП'!G4="","",'Кол.часов по УП'!G4) | BJ5: =IF(AND(BH5="",BI5=""),"",BH5/BI5*100) | BK5: =IF(сентябрь!AF5="","",сентябрь!AF5) | BL5: =IF(октябрь!AF5="","",октябрь!AF5) | BM5: =IF(ноябрь!AF5="","",ноябрь!AF5) | BN5: =IF(декабрь!AF5="","",декабрь!AF5) | BO5: =IF(январь!AF5="","",январь!AF5) | BP5: =IF(февраль!AF5="","",февраль!AF5) | BQ5: =IF(март!AF5="","",март!AF5) | BR5: =IF(апрель!AF5="","",апрель!AF5) | BS5: =IF(май!AF5="","",май!AF5) | BT5: =IF(AND(BK5="",BL5="",BM5="",BN5="",BO5="",BP5="",BQ5="",BR5="",BS5=""),"",SUM(BK5:BS5)) | BU5: =IF('Кол.часов по УП'!H4="","",'Кол.часов по УП'!H4) | BV5: =IF(AND(BT5="",BU5=""),"",BT5/BU5*100)
A6: 3 | B6: Математика | C6: =IF(сентябрь!G6="","",сентябрь!G6) | D6: =IF(октябрь!G6="","",октябрь!G6) | E6: =IF(ноябрь!G6="","",ноябрь!G6) | F6: =IF(декабрь!G6="","",декабрь!G6) | G6: =IF(январь!G6="","",январь!G6) | H6: =IF(февраль!G6="","",февраль!G6) | I6: =IF(март!G6="","",март!G6) | J6: =IF(апрель!G6="","",апрель!G6) | K6: =IF(май!G6="","",май!G6) -> 1 | L6: =IF(AND(C6="",D6="",E6="",F6="",G6="",H6="",I6="",J6="",K6=""),"",SUM(C6:K6)) -> 1 | M6: =IF('Кол.часов по УП'!C5="","",'Кол.часов по УП'!C5) -> 132 | N6: =IF(AND(L6="",M6=""),"",L6/M6*100) -> 0.75757576 | O6: =IF(сентябрь!L6="","",сентябрь!L6) | P6: =IF(октябрь!L6="","",октябрь!L6) | Q6: =IF(ноябрь!L6="","",ноябрь!L6) | R6: =IF(декабрь!L6="","",декабрь!L6) | S6: =IF(январь!L6="","",январь!L6) | T6: =IF(февраль!L6="","",февраль!L6) | U6: =IF(март!L6="","",март!L6) | V6: =IF(апрель!L6="","",апрель!L6) | W6: =IF(май!L6="","",май!L6) -> 1 | X6: =IF(AND(O6="",P6="",Q6="",R6="",S6="",T6="",U6="",V6="",W6=""),"",SUM(O6:W6)) -> 1 | Y6: =IF('Кол.часов по УП'!D5="","",'Кол.часов по УП'!D5) -> 132 | Z6: =IF(AND(X6="",Y6=""),"",X6/Y6*100) -> 0.75757576 | AA6: =IF(сентябрь!Q6="","",сентябрь!Q6) | AB6: =IF(октябрь!Q6="","",октябрь!Q6) | AC6: =IF(ноябрь!Q6="","",ноябрь!Q6) | AD6: =IF(декабрь!Q6="","",декабрь!Q6) | AE6: =IF(январь!Q6="","",январь!Q6) | AF6: =IF(февраль!Q6="","",февраль!Q6) | AG6: =IF(март!Q6="","",март!Q6) | AH6: =IF(апрель!Q6="","",апрель!Q6) | AI6: =IF(май!Q6="","",май!Q6) -> 1 | AJ6: =IF(AND(AA6="",AB6="",AC6="",AD6="",AE6="",AF6="",AG6="",AH6="",AI6=""),"",SUM(AA6:AI6)) -> 1 | AK6: =IF('Кол.часов по УП'!E5="","",'Кол.часов по УП'!E5) -> 132 | AL6: =IF(AND(AJ6="",AK6=""),"",AJ6/AK6*100) -> 0.75757576 | AM6: =IF(сентябрь!V6="","",сентябрь!V6) -> 0 | AN6: =IF(октябрь!V6="","",октябрь!V6) -> 0 | AO6: =IF(ноябрь!V6="","",ноябрь!V6) -> 0 | AP6: =IF(декабрь!V6="","",декабрь!V6) -> 0 | AQ6: =IF(январь!V6="","",январь!V6) -> 0 | AR6: =IF(февраль!V6="","",февраль!V6) -> 0 | AS6: =IF(март!V6="","",март!V6) -> 0 | AT6: =IF(апрель!V6="","",апрель!V6) -> 0 | AU6: =IF(май!V6="","",май!V6) -> 1 | AV6: =IF(AND(AM6="",AN6="",AO6="",AP6="",AQ6="",AR6="",AS6="",AT6="",AU6=""),"",SUM(AM6:AU6)) -> 1 | AW6: =IF('Кол.часов по УП'!F5="","",'Кол.часов по УП'!F5) -> 132 | AX6: =IF(AND(AV6="",AW6=""),"",AV6/AW6*100) -> 0.75757576 | AY6: =IF(сентябрь!AA6="","",сентябрь!AA6) | AZ6: =IF(октябрь!AA6="","",октябрь!AA6) | BA6: =IF(ноябрь!AA6="","",ноябрь!AA6) | BB6: =IF(декабрь!AA6="","",декабрь!AA6) | BC6: =IF(январь!AA6="","",январь!AA6) | BD6: =IF(февраль!AA6="","",февраль!AA6) | BE6: =IF(март!AA6="","",март!AA6) | BF6: =IF(апрель!AA6="","",апрель!AA6) | BG6: =IF(май!AA6="","",май!AA6) | BH6: =IF(AND(AY6="",AZ6="",BA6="",BB6="",BC6="",BD6="",BE6="",BF6="",BG6=""),"",SUM(AY6:BG6)) | BI6: =IF('Кол.часов по УП'!G5="","",'Кол.часов по УП'!G5) | BJ6: =IF(AND(BH6="",BI6=""),"",BH6/BI6*100) | BK6: =IF(сентябрь!AF6="","",сентябрь!AF6) | BL6: =IF(октябрь!AF6="","",октябрь!AF6) | BM6: =IF(ноябрь!AF6="","",ноябрь!AF6) | BN6: =IF(декабрь!AF6="","",декабрь!AF6) | BO6: =IF(январь!AF6="","",январь!AF6) | BP6: =IF(февраль!AF6="","",февраль!AF6) | BQ6: =IF(март!AF6="","",март!AF6) | BR6: =IF(апрель!AF6="","",апрель!AF6) | BS6: =IF(май!AF6="","",май!AF6) | BT6: =IF(AND(BK6="",BL6="",BM6="",BN6="",BO6="",BP6="",BQ6="",BR6="",BS6=""),"",SUM(BK6:BS6)) | BU6: =IF('Кол.часов по УП'!H5="","",'Кол.часов по УП'!H5) | BV6: =IF(AND(BT6="",BU6=""),"",BT6/BU6*100)
A7: 4 | B7: Окружающий мир | C7: =IF(сентябрь!G7="","",сентябрь!G7) | D7: =IF(октябрь!G7="","",октябрь!G7) | E7: =IF(ноябрь!G7="","",ноябрь!G7) | F7: =IF(декабрь!G7="","",декабрь!G7) | G7: =IF(январь!G7="","",январь!G7) | H7: =IF(февраль!G7="","",февраль!G7) | I7: =IF(март!G7="","",март!G7) | J7: =IF(апрель!G7="","",апрель!G7) | K7: =IF(май!G7="","",май!G7) -> 0 | L7: =IF(AND(C7="",D7="",E7="",F7="",G7="",H7="",I7="",J7="",K7=""),"",SUM(C7:K7)) -> 0 | M7: =IF('Кол.часов по УП'!C6="","",'Кол.часов по УП'!C6) -> 66 | N7: =IF(AND(L7="",M7=""),"",L7/M7*100) -> 0 | O7: =IF(сентябрь!L7="","",сентябрь!L7) | P7: =IF(октябрь!L7="","",октябрь!L7) | Q7: =IF(ноябрь!L7="","",ноябрь!L7) | R7: =IF(декабрь!L7="","",декабрь!L7) | S7: =IF(январь!L7="","",январь!L7) | T7: =IF(февраль!L7="","",февраль!L7) | U7: =IF(март!L7="","",март!L7) | V7: =IF(апрель!L7="","",апрель!L7) | W7: =IF(май!L7="","",май!L7) -> 0 | X7: =IF(AND(O7="",P7="",Q7="",R7="",S7="",T7="",U7="",V7="",W7=""),"",SUM(O7:W7)) -> 0 | Y7: =IF('Кол.часов по УП'!D6="","",'Кол.часов по УП'!D6) -> 66 | Z7: =IF(AND(X7="",Y7=""),"",X7/Y7*100) -> 0 | AA7: =IF(сентябрь!Q7="","",сентябрь!Q7) | AB7: =IF(октябрь!Q7="","",октябрь!Q7) | AC7: =IF(ноябрь!Q7="","",ноябрь!Q7) | AD7: =IF(декабрь!Q7="","",декабрь!Q7) | AE7: =IF(январь!Q7="","",январь!Q7) | AF7: =IF(февраль!Q7="","",февраль!Q7) | AG7: =IF(март!Q7="","",март!Q7) | AH7: =IF(апрель!Q7="","",апрель!Q7) | AI7: =IF(май!Q7="","",май!Q7) -> 0 | AJ7: =IF(AND(AA7="",AB7="",AC7="",AD7="",AE7="",AF7="",AG7="",AH7="",AI7=""),"",SUM(AA7:AI7)) -> 0 | AK7: =IF('Кол.часов по УП'!E6="","",'Кол.часов по УП'!E6) -> 66 | AL7: =IF(AND(AJ7="",AK7=""),"",AJ7/AK7*100) -> 0 | AM7: =IF(сентябрь!V7="","",сентябрь!V7) -> 0 | AN7: =IF(октябрь!V7="","",октябрь!V7) -> 0 | AO7: =IF(ноябрь!V7="","",ноябрь!V7) -> 0 | AP7: =IF(декабрь!V7="","",декабрь!V7) -> 0 | AQ7: =IF(январь!V7="","",январь!V7) -> 0 | AR7: =IF(февраль!V7="","",февраль!V7) -> 0 | AS7: =IF(март!V7="","",март!V7) -> 0 | AT7: =IF(апрель!V7="","",апрель!V7) -> 0 | AU7: =IF(май!V7="","",май!V7) -> 0 | AV7: =IF(AND(AM7="",AN7="",AO7="",AP7="",AQ7="",AR7="",AS7="",AT7="",AU7=""),"",SUM(AM7:AU7)) -> 0 | AW7: =IF('Кол.часов по УП'!F6="","",'Кол.часов по УП'!F6) -> 66 | AX7: =IF(AND(AV7="",AW7=""),"",AV7/AW7*100) -> 0 | AY7: =IF(сентябрь!AA7="","",сентябрь!AA7) | AZ7: =IF(октябрь!AA7="","",октябрь!AA7) | BA7: =IF(ноябрь!AA7="","",ноябрь!AA7) | BB7: =IF(декабрь!AA7="","",декабрь!AA7) | BC7: =IF(январь!AA7="","",январь!AA7) | BD7: =IF(февраль!AA7="","",февраль!AA7) | BE7: =IF(март!AA7="","",март!AA7) | BF7: =IF(апрель!AA7="","",апрель!AA7) | BG7: =IF(май!AA7="","",май!AA7) | BH7: =IF(AND(AY7="",AZ7="",BA7="",BB7="",BC7="",BD7="",BE7="",BF7="",BG7=""),"",SUM(AY7:BG7)) | BI7: =IF('Кол.часов по УП'!G6="","",'Кол.часов по УП'!G6) | BJ7: =IF(AND(BH7="",BI7=""),"",BH7/BI7*100) | BK7: =IF(сентябрь!AF7="","",сентябрь!AF7) | BL7: =IF(октябрь!AF7="","",октябрь!AF7) | BM7: =IF(ноябрь!AF7="","",ноябрь!AF7) | BN7: =IF(декабрь!AF7="","",декабрь!AF7) | BO7: =IF(январь!AF7="","",январь!AF7) | BP7: =IF(февраль!AF7="","",февраль!AF7) | BQ7: =IF(март!AF7="","",март!AF7) | BR7: =IF(апрель!AF7="","",апрель!AF7) | BS7: =IF(май!AF7="","",май!AF7) | BT7: =IF(AND(BK7="",BL7="",BM7="",BN7="",BO7="",BP7="",BQ7="",BR7="",BS7=""),"",SUM(BK7:BS7)) | BU7: =IF('Кол.часов по УП'!H6="","",'Кол.часов по УП'!H6) | BV7: =IF(AND(BT7="",BU7=""),"",BT7/BU7*100)
A8: 5 | B8: Музыка | C8: =IF(сентябрь!G8="","",сентябрь!G8) | D8: =IF(октябрь!G8="","",октябрь!G8) | E8: =IF(ноябрь!G8="","",ноябрь!G8) | F8: =IF(декабрь!G8="","",декабрь!G8) | G8: =IF(январь!G8="","",январь!G8) | H8: =IF(февраль!G8="","",февраль!G8) | I8: =IF(март!G8="","",март!G8) | J8: =IF(апрель!G8="","",апрель!G8) | K8: =IF(май!G8="","",май!G8) | L8: =IF(AND(C8="",D8="",E8="",F8="",G8="",H8="",I8="",J8="",K8=""),"",SUM(C8:K8)) | M8: =IF('Кол.часов по УП'!C7="","",'Кол.часов по УП'!C7) | N8: =IF(AND(L8="",M8=""),"",L8/M8*100) | O8: =IF(сентябрь!L8="","",сентябрь!L8) | P8: =IF(октябрь!L8="","",октябрь!L8) | Q8: =IF(ноябрь!L8="","",ноябрь!L8) | R8: =IF(декабрь!L8="","",декабрь!L8) | S8: =IF(январь!L8="","",январь!L8) | T8: =IF(февраль!L8="","",февраль!L8) | U8: =IF(март!L8="","",март!L8) | V8: =IF(апрель!L8="","",апрель!L8) | W8: =IF(май!L8="","",май!L8) | X8: =IF(AND(O8="",P8="",Q8="",R8="",S8="",T8="",U8="",V8="",W8=""),"",SUM(O8:W8)) | Y8: =IF('Кол.часов по УП'!D7="","",'Кол.часов по УП'!D7) | Z8: =IF(AND(X8="",Y8=""),"",X8/Y8*100) | AA8: =IF(сентябрь!Q8="","",сентябрь!Q8) | AB8: =IF(октябрь!Q8="","",октябрь!Q8) | AC8: =IF(ноябрь!Q8="","",ноябрь!Q8) | AD8: =IF(декабрь!Q8="","",декабрь!Q8) | AE8: =IF(январь!Q8="","",январь!Q8) | AF8: =IF(февраль!Q8="","",февраль!Q8) | AG8: =IF(март!Q8="","",март!Q8) | AH8: =IF(апрель!Q8="","",апрель!Q8) | AI8: =IF(май!Q8="","",май!Q8) | AJ8: =IF(AND(AA8="",AB8="",AC8="",AD8="",AE8="",AF8="",AG8="",AH8="",AI8=""),"",SUM(AA8:AI8)) | AK8: =IF('Кол.часов по УП'!E7="","",'Кол.часов по УП'!E7) | AL8: =IF(AND(AJ8="",AK8=""),"",AJ8/AK8*100) | AM8: =IF(сентябрь!V8="","",сентябрь!V8) | AN8: =IF(октябрь!V8="","",октябрь!V8) | AO8: =IF(ноябрь!V8="","",ноябрь!V8) | AP8: =IF(декабрь!V8="","",декабрь!V8) | AQ8: =IF(январь!V8="","",январь!V8) | AR8: =IF(февраль!V8="","",февраль!V8) | AS8: =IF(март!V8="","",март!V8) | AT8: =IF(апрель!V8="","",апрель!V8) | AU8: =IF(май!V8="","",май!V8) | AV8: =IF(AND(AM8="",AN8="",AO8="",AP8="",AQ8="",AR8="",AS8="",AT8="",AU8=""),"",SUM(AM8:AU8)) | AW8: =IF('Кол.часов по УП'!F7="","",'Кол.часов по УП'!F7) | AX8: =IF(AND(AV8="",AW8=""),"",AV8/AW8*100) | AY8: =IF(сентябрь!AA8="","",сентябрь!AA8) | AZ8: =IF(октябрь!AA8="","",октябрь!AA8) | BA8: =IF(ноябрь!AA8="","",ноябрь!AA8) | BB8: =IF(декабрь!AA8="","",декабрь!AA8) | BC8: =IF(январь!AA8="","",январь!AA8) | BD8: =IF(февраль!AA8="","",февраль!AA8) | BE8: =IF(март!AA8="","",март!AA8) | BF8: =IF(апрель!AA8="","",апрель!AA8) | BG8: =IF(май!AA8="","",май!AA8) | BH8: =IF(AND(AY8="",AZ8="",BA8="",BB8="",BC8="",BD8="",BE8="",BF8="",BG8=""),"",SUM(AY8:BG8)) | BI8: =IF('Кол.часов по УП'!G7="","",'Кол.часов по УП'!G7) | BJ8: =IF(AND(BH8="",BI8=""),"",BH8/BI8*100) | BK8: =IF(сентябрь!AF8="","",сентябрь!AF8) | BL8: =IF(октябрь!AF8="","",октябрь!AF8) | BM8: =IF(ноябрь!AF8="","",ноябрь!AF8) | BN8: =IF(декабрь!AF8="","",декабрь!AF8) | BO8: =IF(январь!AF8="","",январь!AF8) | BP8: =IF(февраль!AF8="","",февраль!AF8) | BQ8: =IF(март!AF8="","",март!AF8) | BR8: =IF(апрель!AF8="","",апрель!AF8) | BS8: =IF(май!AF8="","",май!AF8) | BT8: =IF(AND(BK8="",BL8="",BM8="",BN8="",BO8="",BP8="",BQ8="",BR8="",BS8=""),"",SUM(BK8:BS8)) | BU8: =IF('Кол.часов по УП'!H7="","",'Кол.часов по УП'!H7) | BV8: =IF(AND(BT8="",BU8=""),"",BT8/BU8*100)
A9: 6 | B9: Изобразительное искусство | C9: =IF(сентябрь!G9="","",сентябрь!G9) | D9: =IF(октябрь!G9="","",октябрь!G9) | E9: =IF(ноябрь!G9="","",ноябрь!G9) | F9: =IF(декабрь!G9="","",декабрь!G9) | G9: =IF(январь!G9="","",январь!G9) | H9: =IF(февраль!G9="","",февраль!G9) | I9: =IF(март!G9="","",март!G9) | J9: =IF(апрель!G9="","",апрель!G9) | K9: =IF(май!G9="","",май!G9) -> 0 | L9: =IF(AND(C9="",D9="",E9="",F9="",G9="",H9="",I9="",J9="",K9=""),"",SUM(C9:K9)) -> 0 | M9: =IF('Кол.часов по УП'!C8="","",'Кол.часов по УП'!C8) -> 33 | N9: =IF(AND(L9="",M9=""),"",L9/M9*100) -> 0 | O9: =IF(сентябрь!L9="","",сентябрь!L9) | P9: =IF(октябрь!L9="","",октябрь!L9) | Q9: =IF(ноябрь!L9="","",ноябрь!L9) | R9: =IF(декабрь!L9="","",декабрь!L9) | S9: =IF(январь!L9="","",январь!L9) | T9: =IF(февраль!L9="","",февраль!L9) | U9: =IF(март!L9="","",март!L9) | V9: =IF(апрель!L9="","",апрель!L9) | W9: =IF(май!L9="","",май!L9) -> 0 | X9: =IF(AND(O9="",P9="",Q9="",R9="",S9="",T9="",U9="",V9="",W9=""),"",SUM(O9:W9)) -> 0 | Y9: =IF('Кол.часов по УП'!D8="","",'Кол.часов по УП'!D8) -> 33 | Z9: =IF(AND(X9="",Y9=""),"",X9/Y9*100) -> 0 | AA9: =IF(сентябрь!Q9="","",сентябрь!Q9) | AB9: =IF(октябрь!Q9="","",октябрь!Q9) | AC9: =IF(ноябрь!Q9="","",ноябрь!Q9) | AD9: =IF(декабрь!Q9="","",декабрь!Q9) | AE9: =IF(январь!Q9="","",январь!Q9) | AF9: =IF(февраль!Q9="","",февраль!Q9) | AG9: =IF(март!Q9="","",март!Q9) | AH9: =IF(апрель!Q9="","",апрель!Q9) | AI9: =IF(май!Q9="","",май!Q9) -> 0 | AJ9: =IF(AND(AA9="",AB9="",AC9="",AD9="",AE9="",AF9="",AG9="",AH9="",AI9=""),"",SUM(AA9:AI9)) -> 0 | AK9: =IF('Кол.часов по УП'!E8="","",'Кол.часов по УП'!E8) -> 33 | AL9: =IF(AND(AJ9="",AK9=""),"",AJ9/AK9*100) -> 0 | AM9: =IF(сентябрь!V9="","",сентябрь!V9) -> 0 | AN9: =IF(октябрь!V9="","",октябрь!V9) -> 0 | AO9: =IF(ноябрь!V9="","",ноябрь!V9) -> 0 | AP9: =IF(декабрь!V9="","",декабрь!V9) -> 0 | AQ9: =IF(январь!V9="","",январь!V9) -> 0 | AR9: =IF(февраль!V9="","",февраль!V9) -> 0 | AS9: =IF(март!V9="","",март!V9) -> 0 | AT9: =IF(апрель!V9="","",апрель!V9) -> 0 | AU9: =IF(май!V9="","",май!V9) -> 0 | AV9: =IF(AND(AM9="",AN9="",AO9="",AP9="",AQ9="",AR9="",AS9="",AT9="",AU9=""),"",SUM(AM9:AU9)) -> 0 | AW9: =IF('Кол.часов по УП'!F8="","",'Кол.часов по УП'!F8) -> 33 | AX9: =IF(AND(AV9="",AW9=""),"",AV9/AW9*100) -> 0 | AY9: =IF(сентябрь!AA9="","",сентябрь!AA9) | AZ9: =IF(октябрь!AA9="","",октябрь!AA9) | BA9: =IF(ноябрь!AA9="","",ноябрь!AA9) | BB9: =IF(декабрь!AA9="","",декабрь!AA9) | BC9: =IF(январь!AA9="","",январь!AA9) | BD9: =IF(февраль!AA9="","",февраль!AA9) | BE9: =IF(март!AA9="","",март!AA9) | BF9: =IF(апрель!AA9="","",апрель!AA9) | BG9: =IF(май!AA9="","",май!AA9) | BH9: =IF(AND(AY9="",AZ9="",BA9="",BB9="",BC9="",BD9="",BE9="",BF9="",BG9=""),"",SUM(AY9:BG9)) | BI9: =IF('Кол.часов по УП'!G8="","",'Кол.часов по УП'!G8) | BJ9: =IF(AND(BH9="",BI9=""),"",BH9/BI9*100) | BK9: =IF(сентябрь!AF9="","",сентябрь!AF9) | BL9: =IF(октябрь!AF9="","",октябрь!AF9) | BM9: =IF(ноябрь!AF9="","",ноябрь!AF9) | BN9: =IF(декабрь!AF9="","",декабрь!AF9) | BO9: =IF(январь!AF9="","",январь!AF9) | BP9: =IF(февраль!AF9="","",февраль!AF9) | BQ9: =IF(март!AF9="","",март!AF9) | BR9: =IF(апрель!AF9="","",апрель!AF9) | BS9: =IF(май!AF9="","",май!AF9) | BT9: =IF(AND(BK9="",BL9="",BM9="",BN9="",BO9="",BP9="",BQ9="",BR9="",BS9=""),"",SUM(BK9:BS9)) | BU9: =IF('Кол.часов по УП'!H8="","",'Кол.часов по УП'!H8) | BV9: =IF(AND(BT9="",BU9=""),"",BT9/BU9*100)
A10: 7 | B10: Труд (технология) | C10: =IF(сентябрь!G10="","",сентябрь!G10) | D10: =IF(октябрь!G10="","",октябрь!G10) | E10: =IF(ноябрь!G10="","",ноябрь!G10) | F10: =IF(декабрь!G10="","",декабрь!G10) | G10: =IF(январь!G10="","",январь!G10) | H10: =IF(февраль!G10="","",февраль!G10) | I10: =IF(март!G10="","",март!G10) | J10: =IF(апрель!G10="","",апрель!G10) | K10: =IF(май!G10="","",май!G10) -> 0 | L10: =IF(AND(C10="",D10="",E10="",F10="",G10="",H10="",I10="",J10="",K10=""),"",SUM(C10:K10)) -> 0 | M10: =IF('Кол.часов по УП'!C9="","",'Кол.часов по УП'!C9) -> 33 | N10: =IF(AND(L10="",M10=""),"",L10/M10*100) -> 0 | O10: =IF(сентябрь!L10="","",сентябрь!L10) | P10: =IF(октябрь!L10="","",октябрь!L10) | Q10: =IF(ноябрь!L10="","",ноябрь!L10) | R10: =IF(декабрь!L10="","",декабрь!L10) | S10: =IF(январь!L10="","",январь!L10) | T10: =IF(февраль!L10="","",февраль!L10) | U10: =IF(март!L10="","",март!L10) | V10: =IF(апрель!L10="","",апрель!L10) | W10: =IF(май!L10="","",май!L10) -> 0 | X10: =IF(AND(O10="",P10="",Q10="",R10="",S10="",T10="",U10="",V10="",W10=""),"",SUM(O10:W10)) -> 0 | Y10: =IF('Кол.часов по УП'!D9="","",'Кол.часов по УП'!D9) -> 33 | Z10: =IF(AND(X10="",Y10=""),"",X10/Y10*100) -> 0 | AA10: =IF(сентябрь!Q10="","",сентябрь!Q10) | AB10: =IF(октябрь!Q10="","",октябрь!Q10) | AC10: =IF(ноябрь!Q10="","",ноябрь!Q10) | AD10: =IF(декабрь!Q10="","",декабрь!Q10) | AE10: =IF(январь!Q10="","",январь!Q10) | AF10: =IF(февраль!Q10="","",февраль!Q10) | AG10: =IF(март!Q10="","",март!Q10) | AH10: =IF(апрель!Q10="","",апрель!Q10) | AI10: =IF(май!Q10="","",май!Q10) -> 0 | AJ10: =IF(AND(AA10="",AB10="",AC10="",AD10="",AE10="",AF10="",AG10="",AH10="",AI10=""),"",SUM(AA10:AI10)) -> 0 | AK10: =IF('Кол.часов по УП'!E9="","",'Кол.часов по УП'!E9) -> 33 | AL10: =IF(AND(AJ10="",AK10=""),"",AJ10/AK10*100) -> 0 | AM10: =IF(сентябрь!V10="","",сентябрь!V10) -> 0 | AN10: =IF(октябрь!V10="","",октябрь!V10) -> 0 | AO10: =IF(ноябрь!V10="","",ноябрь!V10) -> 0 | AP10: =IF(декабрь!V10="","",декабрь!V10) -> 0 | AQ10: =IF(январь!V10="","",январь!V10) -> 0 | AR10: =IF(февраль!V10="","",февраль!V10) -> 0 | AS10: =IF(март!V10="","",март!V10) -> 0 | AT10: =IF(апрель!V10="","",апрель!V10) -> 0 | AU10: =IF(май!V10="","",май!V10) -> 0 | AV10: =IF(AND(AM10="",AN10="",AO10="",AP10="",AQ10="",AR10="",AS10="",AT10="",AU10=""),"",SUM(AM10:AU10)) -> 0 | AW10: =IF('Кол.часов по УП'!F9="","",'Кол.часов по УП'!F9) -> 33 | AX10: =IF(AND(AV10="",AW10=""),"",AV10/AW10*100) -> 0 | AY10: =IF(сентябрь!AA10="","",сентябрь!AA10) | AZ10: =IF(октябрь!AA10="","",октябрь!AA10) | BA10: =IF(ноябрь!AA10="","",ноябрь!AA10) | BB10: =IF(декабрь!AA10="","",декабрь!AA10) | BC10: =IF(январь!AA10="","",январь!AA10) | BD10: =IF(февраль!AA10="","",февраль!AA10) | BE10: =IF(март!AA10="","",март!AA10) | BF10: =IF(апрель!AA10="","",апрель!AA10) | BG10: =IF(май!AA10="","",май!AA10) | BH10: =IF(AND(AY10="",AZ10="",BA10="",BB10="",BC10="",BD10="",BE10="",BF10="",BG10=""),"",SUM(AY10:BG10)) | BI10: =IF('Кол.часов по УП'!G9="","",'Кол.часов по УП'!G9) | BJ10: =IF(AND(BH10="",BI10=""),"",BH10/BI10*100) | BK10: =IF(сентябрь!AF10="","",сентябрь!AF10) | BL10: =IF(октябрь!AF10="","",октябрь!AF10) | BM10: =IF(ноябрь!AF10="","",ноябрь!AF10) | BN10: =IF(декабрь!AF10="","",декабрь!AF10) | BO10: =IF(январь!AF10="","",январь!AF10) | BP10: =IF(февраль!AF10="","",февраль!AF10) | BQ10: =IF(март!AF10="","",март!AF10) | BR10: =IF(апрель!AF10="","",апрель!AF10) | BS10: =IF(май!AF10="","",май!AF10) | BT10: =IF(AND(BK10="",BL10="",BM10="",BN10="",BO10="",BP10="",BQ10="",BR10="",BS10=""),"",SUM(BK10:BS10)) | BU10: =IF('Кол.часов по УП'!H9="","",'Кол.часов по УП'!H9) | BV10: =IF(AND(BT10="",BU10=""),"",BT10/BU10*100)
A11: 8 | B11: Физическая культура | C11: =IF(сентябрь!G11="","",сентябрь!G11) | D11: =IF(октябрь!G11="","",октябрь!G11) | E11: =IF(ноябрь!G11="","",ноябрь!G11) | F11: =IF(декабрь!G11="","",декабрь!G11) | G11: =IF(январь!G11="","",январь!G11) | H11: =IF(февраль!G11="","",февраль!G11) | I11: =IF(март!G11="","",март!G11) | J11: =IF(апрель!G11="","",апрель!G11) | K11: =IF(май!G11="","",май!G11) | L11: =IF(AND(C11="",D11="",E11="",F11="",G11="",H11="",I11="",J11="",K11=""),"",SUM(C11:K11)) | M11: =IF('Кол.часов по УП'!C10="","",'Кол.часов по УП'!C10) | N11: =IF(AND(L11="",M11=""),"",L11/M11*100) | O11: =IF(сентябрь!L11="","",сентябрь!L11) | P11: =IF(октябрь!L11="","",октябрь!L11) | Q11: =IF(ноябрь!L11="","",ноябрь!L11) | R11: =IF(декабрь!L11="","",декабрь!L11) | S11: =IF(январь!L11="","",январь!L11) | T11: =IF(февраль!L11="","",февраль!L11) | U11: =IF(март!L11="","",март!L11) | V11: =IF(апрель!L11="","",апрель!L11) | W11: =IF(май!L11="","",май!L11) | X11: =IF(AND(O11="",P11="",Q11="",R11="",S11="",T11="",U11="",V11="",W11=""),"",SUM(O11:W11)) | Y11: =IF('Кол.часов по УП'!D10="","",'Кол.часов по УП'!D10) | Z11: =IF(AND(X11="",Y11=""),"",X11/Y11*100) | AA11: =IF(сентябрь!Q11="","",сентябрь!Q11) | AB11: =IF(октябрь!Q11="","",октябрь!Q11) | AC11: =IF(ноябрь!Q11="","",ноябрь!Q11) | AD11: =IF(декабрь!Q11="","",декабрь!Q11) | AE11: =IF(январь!Q11="","",январь!Q11) | AF11: =IF(февраль!Q11="","",февраль!Q11) | AG11: =IF(март!Q11="","",март!Q11) | AH11: =IF(апрель!Q11="","",апрель!Q11) | AI11: =IF(май!Q11="","",май!Q11) | AJ11: =IF(AND(AA11="",AB11="",AC11="",AD11="",AE11="",AF11="",AG11="",AH11="",AI11=""),"",SUM(AA11:AI11)) | AK11: =IF('Кол.часов по УП'!E10="","",'Кол.часов по УП'!E10) | AL11: =IF(AND(AJ11="",AK11=""),"",AJ11/AK11*100) | AM11: =IF(сентябрь!V11="","",сентябрь!V11) | AN11: =IF(октябрь!V11="","",октябрь!V11) | AO11: =IF(ноябрь!V11="","",ноябрь!V11) | AP11: =IF(декабрь!V11="","",декабрь!V11) | AQ11: =IF(январь!V11="","",январь!V11) | AR11: =IF(февраль!V11="","",февраль!V11) | AS11: =IF(март!V11="","",март!V11) | AT11: =IF(апрель!V11="","",апрель!V11) | AU11: =IF(май!V11="","",май!V11) | AV11: =IF(AND(AM11="",AN11="",AO11="",AP11="",AQ11="",AR11="",AS11="",AT11="",AU11=""),"",SUM(AM11:AU11)) | AW11: =IF('Кол.часов по УП'!F10="","",'Кол.часов по УП'!F10) | AX11: =IF(AND(AV11="",AW11=""),"",AV11/AW11*100) | AY11: =IF(сентябрь!AA11="","",сентябрь!AA11) | AZ11: =IF(октябрь!AA11="","",октябрь!AA11) | BA11: =IF(ноябрь!AA11="","",ноябрь!AA11) | BB11: =IF(декабрь!AA11="","",декабрь!AA11) | BC11: =IF(январь!AA11="","",январь!AA11) | BD11: =IF(февраль!AA11="","",февраль!AA11) | BE11: =IF(март!AA11="","",март!AA11) | BF11: =IF(апрель!AA11="","",апрель!AA11) | BG11: =IF(май!AA11="","",май!AA11) | BH11: =IF(AND(AY11="",AZ11="",BA11="",BB11="",BC11="",BD11="",BE11="",BF11="",BG11=""),"",SUM(AY11:BG11)) | BI11: =IF('Кол.часов по УП'!G10="","",'Кол.часов по УП'!G10) | BJ11: =IF(AND(BH11="",BI11=""),"",BH11/BI11*100) | BK11: =IF(сентябрь!AF11="","",сентябрь!AF11) | BL11: =IF(октябрь!AF11="","",октябрь!AF11) | BM11: =IF(ноябрь!AF11="","",ноябрь!AF11) | BN11: =IF(декабрь!AF11="","",декабрь!AF11) | BO11: =IF(январь!AF11="","",январь!AF11) | BP11: =IF(февраль!AF11="","",февраль!AF11) | BQ11: =IF(март!AF11="","",март!AF11) | BR11: =IF(апрель!AF11="","",апрель!AF11) | BS11: =IF(май!AF11="","",май!AF11) | BT11: =IF(AND(BK11="",BL11="",BM11="",BN11="",BO11="",BP11="",BQ11="",BR11="",BS11=""),"",SUM(BK11:BS11)) | BU11: =IF('Кол.часов по УП'!H10="","",'Кол.часов по УП'!H10) | BV11: =IF(AND(BT11="",BU11=""),"",BT11/BU11*100)
C13: 2 А | O13: 2 Б | AA13: 2 В | AM13: 2 Г
B14: Предметы | C14: сентябрь | D14: октябрь | E14: ноябрь | F14: декабрь | G14: январь | H14: февраль | I14: март | J14: апрель | K14: май | L14: Всего оценочных процедур за год | M14: Кол-во часов по учебному плану (УП) | N14: % соотношение кол-ва оценочных процедур к кол-ву часов УП | O14: сентябрь | P14: октябрь | Q14: ноябрь | R14: декабрь | S14: январь | T14: февраль | U14: март | V14: апрель | W14: май | X14: Всего оценочных процедур за год | Y14: Кол-во часов по учебному плану (УП) | Z14: % соотношение кол-ва оценочных процедур к кол-ву часов УП | AA14: сентябрь | AB14: октябрь | AC14: ноябрь | AD14: декабрь | AE14: январь | AF14: февраль | AG14: март | AH14: апрель | AI14: май | AJ14: Всего оценочных процедур за год | AK14: Кол-во часов по учебному плану (УП) | AL14: % соотношение кол-ва оценочных процедур к кол-ву часов УП | AM14: сентябрь | AN14: октябрь | AO14: ноябрь | AP14: декабрь | AQ14: январь | AR14: февраль | AS14: март | AT14: апрель | AU14: май | AV14: Всего оценочных процедур за год | AW14: Кол-во часов по учебному плану (УП) | AX14: % соотношение кол-ва оценочных процедур к кол-ву часов УП | AY14: сентябрь | AZ14: октябрь | BA14: ноябрь | BB14: декабрь | BC14: январь | BD14: февраль | BE14: март | BF14: апрель | BG14: май | BH14: Всего оценочных процедур за год | BI14: Кол-во часов по учебному плану (УП) | BJ14: % соотношение кол-ва оценочных процедур к кол-ву часов УП | BK14: сентябрь | BL14: октябрь | BM14: ноябрь | BN14: декабрь | BO14: январь | BP14: февраль | BQ14: март | BR14: апрель | BS14: май | BT14: Всего оценочных процедур за год | BU14: Кол-во часов по учебному плану (УП) | BV14: % соотношение кол-ва оценочных процедур к кол-ву часов УП
A15: 1 | B15: Русский язык | C15: =IF(сентябрь!G15="","",сентябрь!G15) -> 1 | D15: =IF(октябрь!G15="","",октябрь!G15) -> 2 | E15: =IF(ноябрь!G15="","",ноябрь!G15) -> 1 | F15: =IF(декабрь!G15="","",декабрь!G15) -> 2 | G15: =IF(январь!G15="","",январь!G15) -> 2 | H15: =IF(февраль!G15="","",февраль!G15) -> 1 | I15: =IF(март!G15="","",март!G15) | J15: =IF(апрель!G15="","",апрель!G15) -> 2 | K15: =IF(май!G15="","",май!G15) -> 1 | L15: =IF(AND(C15="",D15="",E15="",F15="",G15="",H15="",I15="",J15="",K15=""),"",SUM(C15:K15)) -> 12 | M15: =IF('Кол.часов по УП'!C14="","",'Кол.часов по УП'!C14) -> 170 | N15: =IF(AND(L15="",M15=""),"",L15/M15*100) -> 7.0588235 | O15: =IF(сентябрь!L15="","",сентябрь!L15) -> 1 | P15: =IF(октябрь!L15="","",октябрь!L15) -> 2 | Q15: =IF(ноябрь!L15="","",ноябрь!L15) -> 1 | R15: =IF(декабрь!L15="","",декабрь!L15) -> 3 | S15: =IF(январь!L15="","",январь!L15) -> 2 | T15: =IF(февраль!L15="","",февраль!L15) -> 2 | U15: =IF(март!L15="","",март!L15) -> 1 | V15: =IF(апрель!L15="","",апрель!L15) -> 2 | W15: =IF(май!L15="","",май!L15) -> 1 | X15: =IF(AND(O15="",P15="",Q15="",R15="",S15="",T15="",U15="",V15="",W15=""),"",SUM(O15:W15)) -> 15 | Y15: =IF('Кол.часов по УП'!D14="","",'Кол.часов по УП'!D14) -> 170 | Z15: =IF(AND(X15="",Y15=""),"",X15/Y15*100) -> 8.8235294 | AA15: =IF(сентябрь!Q15="","",сентябрь!Q15) -> 1 | AB15: =IF(октябрь!Q15="","",октябрь!Q15) -> 2 | AC15: =IF(ноябрь!Q15="","",ноябрь!Q15) -> 1 | AD15: =IF(декабрь!Q15="","",декабрь!Q15) -> 1 | AE15: =IF(январь!Q15="","",январь!Q15) | AF15: =IF(февраль!Q15="","",февраль!Q15) -> 1 | AG15: =IF(март!Q15="","",март!Q15) | AH15: =IF(апрель!Q15="","",апрель!Q15) | AI15: =IF(май!Q15="","",май!Q15) -> 1 | AJ15: =IF(AND(AA15="",AB15="",AC15="",AD15="",AE15="",AF15="",AG15="",AH15="",AI15=""),"",SUM(AA15:AI15)) -> 7 | AK15: =IF('Кол.часов по УП'!E14="","",'Кол.часов по УП'!E14) -> 170 | AL15: =IF(AND(AJ15="",AK15=""),"",AJ15/AK15*100) -> 4.1176471 | AM15: =IF(сентябрь!V15="","",сентябрь!V15) | AN15: =IF(октябрь!V15="","",октябрь!V15) | AO15: =IF(ноябрь!V15="","",ноябрь!V15) | AP15: =IF(декабрь!V15="","",декабрь!V15) | AQ15: =IF(январь!V15="","",январь!V15) | AR15: =IF(февраль!V15="","",февраль!V15) | AS15: =IF(март!V15="","",март!V15) | AT15: =IF(апрель!V15="","",апрель!V15) | AU15: =IF(май!V15="","",май!V15) | AV15: =IF(AND(AM15="",AN15="",AO15="",AP15="",AQ15="",AR15="",AS15="",AT15="",AU15=""),"",SUM(AM15:AU15)) | AW15: =IF('Кол.часов по УП'!F14="","",'Кол.часов по УП'!F14) | AX15: =IF(AND(AV15="",AW15=""),"",AV15/AW15*100) | AY15: =IF(сентябрь!AA15="","",сентябрь!AA15) | AZ15: =IF(октябрь!AA15="","",октябрь!AA15) | BA15: =IF(ноябрь!AA15="","",ноябрь!AA15) | BB15: =IF(декабрь!AA15="","",декабрь!AA15) | BC15: =IF(январь!AA15="","",январь!AA15) | BD15: =IF(февраль!AA15="","",февраль!AA15) | BE15: =IF(март!AA15="","",март!AA15) | BF15: =IF(апрель!AA15="","",апрель!AA15) | BG15: =IF(май!AA15="","",май!AA15) | BH15: =IF(AND(AY15="",AZ15="",BA15="",BB15="",BC15="",BD15="",BE15="",BF15="",BG15=""),"",SUM(AY15:BG15)) | BI15: =IF('Кол.часов по УП'!G14="","",'Кол.часов по УП'!G14) | BJ15: =IF(AND(BH15="",BI15=""),"",BH15/BI15*100) | BK15: =IF(сентябрь!AF15="","",сентябрь!AF15) | BL15: =IF(октябрь!AF15="","",октябрь!AF15) | BM15: =IF(ноябрь!AF15="","",ноябрь!AF15) | BN15: =IF(декабрь!AF15="","",декабрь!AF15) | BO15: =IF(январь!AF15="","",январь!AF15) | BP15: =IF(февраль!AF15="","",февраль!AF15) | BQ15: =IF(март!AF15="","",март!AF15) | BR15: =IF(апрель!AF15="","",апрель!AF15) | BS15: =IF(май!AF15="","",май!AF15) | BT15: =IF(AND(BK15="",BL15="",BM15="",BN15="",BO15="",BP15="",BQ15="",BR15="",BS15=""),"",SUM(BK15:BS15)) | BU15: =IF('Кол.часов по УП'!H14="","",'Кол.часов по УП'!H14) | BV15: =IF(AND(BT15="",BU15=""),"",BT15/BU15*100)
A16: 2 | B16: Литературное чтение | C16: =IF(сентябрь!G16="","",сентябрь!G16) -> 2 | D16: =IF(октябрь!G16="","",октябрь!G16) -> 1 | E16: =IF(ноябрь!G16="","",ноябрь!G16) | F16: =IF(декабрь!G16="","",декабрь!G16) -> 1 | G16: =IF(январь!G16="","",январь!G16) | H16: =IF(февраль!G16="","",февраль!G16) -> 1 | I16: =IF(март!G16="","",март!G16) | J16: =IF(апрель!G16="","",апрель!G16) | K16: =IF(май!G16="","",май!G16) -> 2 | L16: =IF(AND(C16="",D16="",E16="",F16="",G16="",H16="",I16="",J16="",K16=""),"",SUM(C16:K16)) -> 7 | M16: =IF('Кол.часов по УП'!C15="","",'Кол.часов по УП'!C15) -> 136 | N16: =IF(AND(L16="",M16=""),"",L16/M16*100) -> 5.1470588 | O16: =IF(сентябрь!L16="","",сентябрь!L16) -> 2 | P16: =IF(октябрь!L16="","",октябрь!L16) -> 1 | Q16: =IF(ноябрь!L16="","",ноябрь!L16) | R16: =IF(декабрь!L16="","",декабрь!L16) -> 1 | S16: =IF(январь!L16="","",январь!L16) | T16: =IF(февраль!L16="","",февраль!L16) -> 1 | U16: =IF(март!L16="","",март!L16) -> 1 | V16: =IF(апрель!L16="","",апрель!L16) | W16: =IF(май!L16="","",май!L16) -> 1 | X16: =IF(AND(O16="",P16="",Q16="",R16="",S16="",T16="",U16="",V16="",W16=""),"",SUM(O16:W16)) -> 7 | Y16: =IF('Кол.часов по УП'!D15="","",'Кол.часов по УП'!D15) -> 136 | Z16: =IF(AND(X16="",Y16=""),"",X16/Y16*100) -> 5.1470588 | AA16: =IF(сентябрь!Q16="","",сентябрь!Q16) -> 2 | AB16: =IF(октябрь!Q16="","",октябрь!Q16) -> 1 | AC16: =IF(ноябрь!Q16="","",ноябрь!Q16) | AD16: =IF(декабрь!Q16="","",декабрь!Q16) -> 1 | AE16: =IF(январь!Q16="","",январь!Q16) | AF16: =IF(февраль!Q16="","",февраль!Q16) -> 1 | AG16: =IF(март!Q16="","",март!Q16) -> 1 | AH16: =IF(апрель!Q16="","",апрель!Q16) | AI16: =IF(май!Q16="","",май!Q16) -> 2 | AJ16: =IF(AND(AA16="",AB16="",AC16="",AD16="",AE16="",AF16="",AG16="",AH16="",AI16=""),"",SUM(AA16:AI16)) -> 8 | AK16: =IF('Кол.часов по УП'!E15="","",'Кол.часов по УП'!E15) -> 136 | AL16: =IF(AND(AJ16="",AK16=""),"",AJ16/AK16*100) -> 5.8823529 | AM16: =IF(сентябрь!V16="","",сентябрь!V16) | AN16: =IF(октябрь!V16="","",октябрь!V16) | AO16: =IF(ноябрь!V16="","",ноябрь!V16) | AP16: =IF(декабрь!V16="","",декабрь!V16) | AQ16: =IF(январь!V16="","",январь!V16) | AR16: =IF(февраль!V16="","",февраль!V16) | AS16: =IF(март!V16="","",март!V16) | AT16: =IF(апрель!V16="","",апрель!V16) | AU16: =IF(май!V16="","",май!V16) | AV16: =IF(AND(AM16="",AN16="",AO16="",AP16="",AQ16="",AR16="",AS16="",AT16="",AU16=""),"",SUM(AM16:AU16)) | AW16: =IF('Кол.часов по УП'!F15="","",'Кол.часов по УП'!F15) | AX16: =IF(AND(AV16="",AW16=""),"",AV16/AW16*100) | AY16: =IF(сентябрь!AA16="","",сентябрь!AA16) | AZ16: =IF(октябрь!AA16="","",октябрь!AA16) | BA16: =IF(ноябрь!AA16="","",ноябрь!AA16) | BB16: =IF(декабрь!AA16="","",декабрь!AA16) | BC16: =IF(январь!AA16="","",январь!AA16) | BD16: =IF(февраль!AA16="","",февраль!AA16) | BE16: =IF(март!AA16="","",март!AA16) | BF16: =IF(апрель!AA16="","",апрель!AA16) | BG16: =IF(май!AA16="","",май!AA16) | BH16: =IF(AND(AY16="",AZ16="",BA16="",BB16="",BC16="",BD16="",BE16="",BF16="",BG16=""),"",SUM(AY16:BG16)) | BI16: =IF('Кол.часов по УП'!G15="","",'Кол.часов по УП'!G15) | BJ16: =IF(AND(BH16="",BI16=""),"",BH16/BI16*100) | BK16: =IF(сентябрь!AF16="","",сентябрь!AF16) | BL16: =IF(октябрь!AF16="","",октябрь!AF16) | BM16: =IF(ноябрь!AF16="","",ноябрь!AF16) | BN16: =IF(декабрь!AF16="","",декабрь!AF16) | BO16: =IF(январь!AF16="","",январь!AF16) | BP16: =IF(февраль!AF16="","",февраль!AF16) | BQ16: =IF(март!AF16="","",март!AF16) | BR16: =IF(апрель!AF16="","",апрель!AF16) | BS16: =IF(май!AF16="","",май!AF16) | BT16: =IF(AND(BK16="",BL16="",BM16="",BN16="",BO16="",BP16="",BQ16="",BR16="",BS16=""),"",SUM(BK16:BS16)) | BU16: =IF('Кол.часов по УП'!H15="","",'Кол.часов по УП'!H15) | BV16: =IF(AND(BT16="",BU16=""),"",BT16/BU16*100)
A17: 3 | B17: Иностранный язык (английский) | C17: =IF(сентябрь!G17="","",сентябрь!G17) | D17: =IF(октябрь!G17="","",октябрь!G17) | E17: =IF(ноябрь!G17="","",ноябрь!G17) | F17: =IF(декабрь!G17="","",декабрь!G17) -> 1 | G17: =IF(январь!G17="","",январь!G17) | H17: =IF(февраль!G17="","",февраль!G17) -> 1 | I17: =IF(март!G17="","",март!G17) | J17: =IF(апрель!G17="","",апрель!G17) -> 1 | K17: =IF(май!G17="","",май!G17) | L17: =IF(AND(C17="",D17="",E17="",F17="",G17="",H17="",I17="",J17="",K17=""),"",SUM(C17:K17)) -> 3 | M17: =IF('Кол.часов по УП'!C16="","",'Кол.часов по УП'!C16) -> 68 | N17: =IF(AND(L17="",M17=""),"",L17/M17*100) -> 4.4117647 | O17: =IF(сентябрь!L17="","",сентябрь!L17) | P17: =IF(октябрь!L17="","",октябрь!L17) | Q17: =IF(ноябрь!L17="","",ноябрь!L17) | R17: =IF(декабрь!L17="","",декабрь!L17) -> 1 | S17: =IF(январь!L17="","",январь!L17) | T17: =IF(февраль!L17="","",февраль!L17) -> 1 | U17: =IF(март!L17="","",март!L17) | V17: =IF(апрель!L17="","",апрель!L17) -> 1 | W17: =IF(май!L17="","",май!L17) | X17: =IF(AND(O17="",P17="",Q17="",R17="",S17="",T17="",U17="",V17="",W17=""),"",SUM(O17:W17)) -> 3 | Y17: =IF('Кол.часов по УП'!D16="","",'Кол.часов по УП'!D16) -> 68 | Z17: =IF(AND(X17="",Y17=""),"",X17/Y17*100) -> 4.4117647 | AA17: =IF(сентябрь!Q17="","",сентябрь!Q17) | AB17: =IF(октябрь!Q17="","",октябрь!Q17) | AC17: =IF(ноябрь!Q17="","",ноябрь!Q17) | AD17: =IF(декабрь!Q17="","",декабрь!Q17) -> 1 | AE17: =IF(январь!Q17="","",январь!Q17) | AF17: =IF(февраль!Q17="","",февраль!Q17) -> 1 | AG17: =IF(март!Q17="","",март!Q17) | AH17: =IF(апрель!Q17="","",апрель!Q17) -> 1 | AI17: =IF(май!Q17="","",май!Q17) | AJ17: =IF(AND(AA17="",AB17="",AC17="",AD17="",AE17="",AF17="",AG17="",AH17="",AI17=""),"",SUM(AA17:AI17)) -> 3 | AK17: =IF('Кол.часов по УП'!E16="","",'Кол.часов по УП'!E16) -> 68 | AL17: =IF(AND(AJ17="",AK17=""),"",AJ17/AK17*100) -> 4.4117647 | AM17: =IF(сентябрь!V17="","",сентябрь!V17) | AN17: =IF(октябрь!V17="","",октябрь!V17) | AO17: =IF(ноябрь!V17="","",ноябрь!V17) | AP17: =IF(декабрь!V17="","",декабрь!V17) | AQ17: =IF(январь!V17="","",январь!V17) | AR17: =IF(февраль!V17="","",февраль!V17) | AS17: =IF(март!V17="","",март!V17) | AT17: =IF(апрель!V17="","",апрель!V17) | AU17: =IF(май!V17="","",май!V17) | AV17: =IF(AND(AM17="",AN17="",AO17="",AP17="",AQ17="",AR17="",AS17="",AT17="",AU17=""),"",SUM(AM17:AU17)) | AW17: =IF('Кол.часов по УП'!F16="","",'Кол.часов по УП'!F16) | AX17: =IF(AND(AV17="",AW17=""),"",AV17/AW17*100) | AY17: =IF(сентябрь!AA17="","",сентябрь!AA17) | AZ17: =IF(октябрь!AA17="","",октябрь!AA17) | BA17: =IF(ноябрь!AA17="","",ноябрь!AA17) | BB17: =IF(декабрь!AA17="","",декабрь!AA17) | BC17: =IF(январь!AA17="","",январь!AA17) | BD17: =IF(февраль!AA17="","",февраль!AA17) | BE17: =IF(март!AA17="","",март!AA17) | BF17: =IF(апрель!AA17="","",апрель!AA17) | BG17: =IF(май!AA17="","",май!AA17) | BH17: =IF(AND(AY17="",AZ17="",BA17="",BB17="",BC17="",BD17="",BE17="",BF17="",BG17=""),"",SUM(AY17:BG17)) | BI17: =IF('Кол.часов по УП'!G16="","",'Кол.часов по УП'!G16) | BJ17: =IF(AND(BH17="",BI17=""),"",BH17/BI17*100) | BK17: =IF(сентябрь!AF17="","",сентябрь!AF17) | BL17: =IF(октябрь!AF17="","",октябрь!AF17) | BM17: =IF(ноябрь!AF17="","",ноябрь!AF17) | BN17: =IF(декабрь!AF17="","",декабрь!AF17) | BO17: =IF(январь!AF17="","",январь!AF17) | BP17: =IF(февраль!AF17="","",февраль!AF17) | BQ17: =IF(март!AF17="","",март!AF17) | BR17: =IF(апрель!AF17="","",апрель!AF17) | BS17: =IF(май!AF17="","",май!AF17) | BT17: =IF(AND(BK17="",BL17="",BM17="",BN17="",BO17="",BP17="",BQ17="",BR17="",BS17=""),"",SUM(BK17:BS17)) | BU17: =IF('Кол.часов по УП'!H16="","",'Кол.часов по УП'!H16) | BV17: =IF(AND(BT17="",BU17=""),"",BT17/BU17*100)
A18: 4 | B18: Математика | C18: =IF(сентябрь!G18="","",сентябрь!G18) -> 1 | D18: =IF(октябрь!G18="","",октябрь!G18) -> 1 | E18: =IF(ноябрь!G18="","",ноябрь!G18) -> 1 | F18: =IF(декабрь!G18="","",декабрь!G18) -> 1 | G18: =IF(январь!G18="","",январь!G18) -> 1 | H18: =IF(февраль!G18="","",февраль!G18) -> 1 | I18: =IF(март!G18="","",март!G18) | J18: =IF(апрель!G18="","",апрель!G18) -> 1 | K18: =IF(май!G18="","",май!G18) -> 1 | L18: =IF(AND(C18="",D18="",E18="",F18="",G18="",H18="",I18="",J18="",K18=""),"",SUM(C18:K18)) -> 8 | M18: =IF('Кол.часов по УП'!C17="","",'Кол.часов по УП'!C17) -> 136 | N18: =IF(AND(L18="",M18=""),"",L18/M18*100) -> 5.8823529 | O18: =IF(сентябрь!L18="","",сентябрь!L18) -> 1 | P18: =IF(октябрь!L18="","",октябрь!L18) -> 1 | Q18: =IF(ноябрь!L18="","",ноябрь!L18) -> 1 | R18: =IF(декабрь!L18="","",декабрь!L18) -> 1 | S18: =IF(январь!L18="","",январь!L18) | T18: =IF(февраль!L18="","",февраль!L18) -> 1 | U18: =IF(март!L18="","",март!L18) -> 1 | V18: =IF(апрель!L18="","",апрель!L18) -> 1 | W18: =IF(май!L18="","",май!L18) | X18: =IF(AND(O18="",P18="",Q18="",R18="",S18="",T18="",U18="",V18="",W18=""),"",SUM(O18:W18)) -> 7 | Y18: =IF('Кол.часов по УП'!D17="","",'Кол.часов по УП'!D17) -> 136 | Z18: =IF(AND(X18="",Y18=""),"",X18/Y18*100) -> 5.1470588 | AA18: =IF(сентябрь!Q18="","",сентябрь!Q18) -> 1 | AB18: =IF(октябрь!Q18="","",октябрь!Q18) -> 1 | AC18: =IF(ноябрь!Q18="","",ноябрь!Q18) -> 1 | AD18: =IF(декабрь!Q18="","",декабрь!Q18) -> 1 | AE18: =IF(январь!Q18="","",январь!Q18) | AF18: =IF(февраль!Q18="","",февраль!Q18) -> 1 | AG18: =IF(март!Q18="","",март!Q18) -> 2 | AH18: =IF(апрель!Q18="","",апрель!Q18) | AI18: =IF(май!Q18="","",май!Q18) -> 1 | AJ18: =IF(AND(AA18="",AB18="",AC18="",AD18="",AE18="",AF18="",AG18="",AH18="",AI18=""),"",SUM(AA18:AI18)) -> 8 | AK18: =IF('Кол.часов по УП'!E17="","",'Кол.часов по УП'!E17) -> 136 | AL18: =IF(AND(AJ18="",AK18=""),"",AJ18/AK18*100) -> 5.8823529 | AM18: =IF(сентябрь!V18="","",сентябрь!V18) | AN18: =IF(октябрь!V18="","",октябрь!V18) | AO18: =IF(ноябрь!V18="","",ноябрь!V18) | AP18: =IF(декабрь!V18="","",декабрь!V18) | AQ18: =IF(январь!V18="","",январь!V18) | AR18: =IF(февраль!V18="","",февраль!V18) | AS18: =IF(март!V18="","",март!V18) | AT18: =IF(апрель!V18="","",апрель!V18) | AU18: =IF(май!V18="","",май!V18) | AV18: =IF(AND(AM18="",AN18="",AO18="",AP18="",AQ18="",AR18="",AS18="",AT18="",AU18=""),"",SUM(AM18:AU18)) | AW18: =IF('Кол.часов по УП'!F17="","",'Кол.часов по УП'!F17) | AX18: =IF(AND(AV18="",AW18=""),"",AV18/AW18*100) | AY18: =IF(сентябрь!AA18="","",сентябрь!AA18) | AZ18: =IF(октябрь!AA18="","",октябрь!AA18) | BA18: =IF(ноябрь!AA18="","",ноябрь!AA18) | BB18: =IF(декабрь!AA18="","",декабрь!AA18) | BC18: =IF(январь!AA18="","",январь!AA18) | BD18: =IF(февраль!AA18="","",февраль!AA18) | BE18: =IF(март!AA18="","",март!AA18) | BF18: =IF(апрель!AA18="","",апрель!AA18) | BG18: =IF(май!AA18="","",май!AA18) | BH18: =IF(AND(AY18="",AZ18="",BA18="",BB18="",BC18="",BD18="",BE18="",BF18="",BG18=""),"",SUM(AY18:BG18)) | BI18: =IF('Кол.часов по УП'!G17="","",'Кол.часов по УП'!G17) | BJ18: =IF(AND(BH18="",BI18=""),"",BH18/BI18*100) | BK18: =IF(сентябрь!AF18="","",сентябрь!AF18) | BL18: =IF(октябрь!AF18="","",октябрь!AF18) | BM18: =IF(ноябрь!AF18="","",ноябрь!AF18) | BN18: =IF(декабрь!AF18="","",декабрь!AF18) | BO18: =IF(январь!AF18="","",январь!AF18) | BP18: =IF(февраль!AF18="","",февраль!AF18) | BQ18: =IF(март!AF18="","",март!AF18) | BR18: =IF(апрель!AF18="","",апрель!AF18) | BS18: =IF(май!AF18="","",май!AF18) | BT18: =IF(AND(BK18="",BL18="",BM18="",BN18="",BO18="",BP18="",BQ18="",BR18="",BS18=""),"",SUM(BK18:BS18)) | BU18: =IF('Кол.часов по УП'!H17="","",'Кол.часов по УП'!H17) | BV18: =IF(AND(BT18="",BU18=""),"",BT18/BU18*100)
A19: 5 | B19: Окружающий мир | C19: =IF(сентябрь!G19="","",сентябрь!G19) -> 1 | D19: =IF(октябрь!G19="","",октябрь!G19) | E19: =IF(ноябрь!G19="","",ноябрь!G19) | F19: =IF(декабрь!G19="","",декабрь!G19) | G19: =IF(январь!G19="","",январь!G19) -> 1 | H19: =IF(февраль!G19="","",февраль!G19) | I19: =IF(март!G19="","",март!G19) | J19: =IF(апрель!G19="","",апрель!G19) | K19: =IF(май!G19="","",май!G19) -> 1 | L19: =IF(AND(C19="",D19="",E19="",F19="",G19="",H19="",I19="",J19="",K19=""),"",SUM(C19:K19)) -> 3 | M19: =IF('Кол.часов по УП'!C18="","",'Кол.часов по УП'!C18) -> 68 | N19: =IF(AND(L19="",M19=""),"",L19/M19*100) -> 4.4117647 | O19: =IF(сентябрь!L19="","",сентябрь!L19) -> 1 | P19: =IF(октябрь!L19="","",октябрь!L19) | Q19: =IF(ноябрь!L19="","",ноябрь!L19) | R19: =IF(декабрь!L19="","",декабрь!L19) | S19: =IF(январь!L19="","",январь!L19) -> 1 | T19: =IF(февраль!L19="","",февраль!L19) | U19: =IF(март!L19="","",март!L19) -> 1 | V19: =IF(апрель!L19="","",апрель!L19) | W19: =IF(май!L19="","",май!L19) -> 1 | X19: =IF(AND(O19="",P19="",Q19="",R19="",S19="",T19="",U19="",V19="",W19=""),"",SUM(O19:W19)) -> 4 | Y19: =IF('Кол.часов по УП'!D18="","",'Кол.часов по УП'!D18) -> 68 | Z19: =IF(AND(X19="",Y19=""),"",X19/Y19*100) -> 5.8823529 | AA19: =IF(сентябрь!Q19="","",сентябрь!Q19) -> 1 | AB19: =IF(октябрь!Q19="","",октябрь!Q19) | AC19: =IF(ноябрь!Q19="","",ноябрь!Q19) | AD19: =IF(декабрь!Q19="","",декабрь!Q19) | AE19: =IF(январь!Q19="","",январь!Q19) | AF19: =IF(февраль!Q19="","",февраль!Q19) | AG19: =IF(март!Q19="","",март!Q19) | AH19: =IF(апрель!Q19="","",апрель!Q19) | AI19: =IF(май!Q19="","",май!Q19) -> 1 | AJ19: =IF(AND(AA19="",AB19="",AC19="",AD19="",AE19="",AF19="",AG19="",AH19="",AI19=""),"",SUM(AA19:AI19)) -> 2 | AK19: =IF('Кол.часов по УП'!E18="","",'Кол.часов по УП'!E18) -> 68 | AL19: =IF(AND(AJ19="",AK19=""),"",AJ19/AK19*100) -> 2.9411765 | AM19: =IF(сентябрь!V19="","",сентябрь!V19) | AN19: =IF(октябрь!V19="","",октябрь!V19) | AO19: =IF(ноябрь!V19="","",ноябрь!V19) | AP19: =IF(декабрь!V19="","",декабрь!V19) | AQ19: =IF(январь!V19="","",январь!V19) | AR19: =IF(февраль!V19="","",февраль!V19) | AS19: =IF(март!V19="","",март!V19) | AT19: =IF(апрель!V19="","",апрель!V19) | AU19: =IF(май!V19="","",май!V19) | AV19: =IF(AND(AM19="",AN19="",AO19="",AP19="",AQ19="",AR19="",AS19="",AT19="",AU19=""),"",SUM(AM19:AU19)) | AW19: =IF('Кол.часов по УП'!F18="","",'Кол.часов по УП'!F18) | AX19: =IF(AND(AV19="",AW19=""),"",AV19/AW19*100) | AY19: =IF(сентябрь!AA19="","",сентябрь!AA19) | AZ19: =IF(октябрь!AA19="","",октябрь!AA19) | BA19: =IF(ноябрь!AA19="","",ноябрь!AA19) | BB19: =IF(декабрь!AA19="","",декабрь!AA19) | BC19: =IF(январь!AA19="","",январь!AA19) | BD19: =IF(февраль!AA19="","",февраль!AA19) | BE19: =IF(март!AA19="","",март!AA19) | BF19: =IF(апрель!AA19="","",апрель!AA19) | BG19: =IF(май!AA19="","",май!AA19) | BH19: =IF(AND(AY19="",AZ19="",BA19="",BB19="",BC19="",BD19="",BE19="",BF19="",BG19=""),"",SUM(AY19:BG19)) | BI19: =IF('Кол.часов по УП'!G18="","",'Кол.часов по УП'!G18) | BJ19: =IF(AND(BH19="",BI19=""),"",BH19/BI19*100) | BK19: =IF(сентябрь!AF19="","",сентябрь!AF19) | BL19: =IF(октябрь!AF19="","",октябрь!AF19) | BM19: =IF(ноябрь!AF19="","",ноябрь!AF19) | BN19: =IF(декабрь!AF19="","",декабрь!AF19) | BO19: =IF(январь!AF19="","",январь!AF19) | BP19: =IF(февраль!AF19="","",февраль!AF19) | BQ19: =IF(март!AF19="","",март!AF19) | BR19: =IF(апрель!AF19="","",апрель!AF19) | BS19: =IF(май!AF19="","",май!AF19) | BT19: =IF(AND(BK19="",BL19="",BM19="",BN19="",BO19="",BP19="",BQ19="",BR19="",BS19=""),"",SUM(BK19:BS19)) | BU19: =IF('Кол.часов по УП'!H18="","",'Кол.часов по УП'!H18) | BV19: =IF(AND(BT19="",BU19=""),"",BT19/BU19*100)
A20: 6 | B20: Музыка | C20: =IF(сентябрь!G20="","",сентябрь!G20) | D20: =IF(октябрь!G20="","",октябрь!G20) -> 1 | E20: =IF(ноябрь!G20="","",ноябрь!G20) | F20: =IF(декабрь!G20="","",декабрь!G20) | G20: =IF(январь!G20="","",январь!G20) -> 1 | H20: =IF(февраль!G20="","",февраль!G20) | I20: =IF(март!G20="","",март!G20) | J20: =IF(апрель!G20="","",апрель!G20) | K20: =IF(май!G20="","",май!G20) -> 1 | L20: =IF(AND(C20="",D20="",E20="",F20="",G20="",H20="",I20="",J20="",K20=""),"",SUM(C20:K20)) -> 3 | M20: =IF('Кол.часов по УП'!C19="","",'Кол.часов по УП'!C19) -> 31 | N20: =IF(AND(L20="",M20=""),"",L20/M20*100) -> 9.6774194 | O20: =IF(сентябрь!L20="","",сентябрь!L20) | P20: =IF(октябрь!L20="","",октябрь!L20) -> 1 | Q20: =IF(ноябрь!L20="","",ноябрь!L20) | R20: =IF(декабрь!L20="","",декабрь!L20) | S20: =IF(январь!L20="","",январь!L20) -> 1 | T20: =IF(февраль!L20="","",февраль!L20) | U20: =IF(март!L20="","",март!L20) | V20: =IF(апрель!L20="","",апрель!L20) | W20: =IF(май!L20="","",май!L20) -> 1 | X20: =IF(AND(O20="",P20="",Q20="",R20="",S20="",T20="",U20="",V20="",W20=""),"",SUM(O20:W20)) -> 3 | Y20: =IF('Кол.часов по УП'!D19="","",'Кол.часов по УП'!D19) -> 31 | Z20: =IF(AND(X20="",Y20=""),"",X20/Y20*100) -> 9.6774194 | AA20: =IF(сентябрь!Q20="","",сентябрь!Q20) | AB20: =IF(октябрь!Q20="","",октябрь!Q20) -> 1 | AC20: =IF(ноябрь!Q20="","",ноябрь!Q20) | AD20: =IF(декабрь!Q20="","",декабрь!Q20) | AE20: =IF(январь!Q20="","",январь!Q20) -> 1 | AF20: =IF(февраль!Q20="","",февраль!Q20) | AG20: =IF(март!Q20="","",март!Q20) | AH20: =IF(апрель!Q20="","",апрель!Q20) | AI20: =IF(май!Q20="","",май!Q20) -> 1 | AJ20: =IF(AND(AA20="",AB20="",AC20="",AD20="",AE20="",AF20="",AG20="",AH20="",AI20=""),"",SUM(AA20:AI20)) -> 3 | AK20: =IF('Кол.часов по УП'!E19="","",'Кол.часов по УП'!E19) -> 31 | AL20: =IF(AND(AJ20="",AK20=""),"",AJ20/AK20*100) -> 9.6774194 | AM20: =IF(сентябрь!V20="","",сентябрь!V20) | AN20: =IF(октябрь!V20="","",октябрь!V20) | AO20: =IF(ноябрь!V20="","",ноябрь!V20) | AP20: =IF(декабрь!V20="","",декабрь!V20) | AQ20: =IF(январь!V20="","",январь!V20) | AR20: =IF(февраль!V20="","",февраль!V20) | AS20: =IF(март!V20="","",март!V20) | AT20: =IF(апрель!V20="","",апрель!V20) | AU20: =IF(май!V20="","",май!V20) | AV20: =IF(AND(AM20="",AN20="",AO20="",AP20="",AQ20="",AR20="",AS20="",AT20="",AU20=""),"",SUM(AM20:AU20)) | AW20: =IF('Кол.часов по УП'!F19="","",'Кол.часов по УП'!F19) | AX20: =IF(AND(AV20="",AW20=""),"",AV20/AW20*100) | AY20: =IF(сентябрь!AA20="","",сентябрь!AA20) | AZ20: =IF(октябрь!AA20="","",октябрь!AA20) | BA20: =IF(ноябрь!AA20="","",ноябрь!AA20) | BB20: =IF(декабрь!AA20="","",декабрь!AA20) | BC20: =IF(январь!AA20="","",январь!AA20) | BD20: =IF(февраль!AA20="","",февраль!AA20) | BE20: =IF(март!AA20="","",март!AA20) | BF20: =IF(апрель!AA20="","",апрель!AA20) | BG20: =IF(май!AA20="","",май!AA20) | BH20: =IF(AND(AY20="",AZ20="",BA20="",BB20="",BC20="",BD20="",BE20="",BF20="",BG20=""),"",SUM(AY20:BG20)) | BI20: =IF('Кол.часов по УП'!G19="","",'Кол.часов по УП'!G19) | BJ20: =IF(AND(BH20="",BI20=""),"",BH20/BI20*100) | BK20: =IF(сентябрь!AF20="","",сентябрь!AF20) | BL20: =IF(октябрь!AF20="","",октябрь!AF20) | BM20: =IF(ноябрь!AF20="","",ноябрь!AF20) | BN20: =IF(декабрь!AF20="","",декабрь!AF20) | BO20: =IF(январь!AF20="","",январь!AF20) | BP20: =IF(февраль!AF20="","",февраль!AF20) | BQ20: =IF(март!AF20="","",март!AF20) | BR20: =IF(апрель!AF20="","",апрель!AF20) | BS20: =IF(май!AF20="","",май!AF20) | BT20: =IF(AND(BK20="",BL20="",BM20="",BN20="",BO20="",BP20="",BQ20="",BR20="",BS20=""),"",SUM(BK20:BS20)) | BU20: =IF('Кол.часов по УП'!H19="","",'Кол.часов по УП'!H19) | BV20: =IF(AND(BT20="",BU20=""),"",BT20/BU20*100)
A21: 7 | B21: Изобразительное искусство | C21: =IF(сентябрь!G21="","",сентябрь!G21) | D21: =IF(октябрь!G21="","",октябрь!G21) | E21: =IF(ноябрь!G21="","",ноябрь!G21) | F21: =IF(декабрь!G21="","",декабрь!G21) | G21: =IF(январь!G21="","",январь!G21) | H21: =IF(февраль!G21="","",февраль!G21) | I21: =IF(март!G21="","",март!G21) | J21: =IF(апрель!G21="","",апрель!G21) | K21: =IF(май!G21="","",май!G21) -> 1 | L21: =IF(AND(C21="",D21="",E21="",F21="",G21="",H21="",I21="",J21="",K21=""),"",SUM(C21:K21)) -> 1 | M21: =IF('Кол.часов по УП'!C20="","",'Кол.часов по УП'!C20) -> 34 | N21: =IF(AND(L21="",M21=""),"",L21/M21*100) -> 2.9411765 | O21: =IF(сентябрь!L21="","",сентябрь!L21) | P21: =IF(октябрь!L21="","",октябрь!L21) | Q21: =IF(ноябрь!L21="","",ноябрь!L21) | R21: =IF(декабрь!L21="","",декабрь!L21) | S21: =IF(январь!L21="","",январь!L21) | T21: =IF(февраль!L21="","",февраль!L21) | U21: =IF(март!L21="","",март!L21) | V21: =IF(апрель!L21="","",апрель!L21) -> 1 | W21: =IF(май!L21="","",май!L21) | X21: =IF(AND(O21="",P21="",Q21="",R21="",S21="",T21="",U21="",V21="",W21=""),"",SUM(O21:W21)) -> 1 | Y21: =IF('Кол.часов по УП'!D20="","",'Кол.часов по УП'!D20) -> 34 | Z21: =IF(AND(X21="",Y21=""),"",X21/Y21*100) -> 2.9411765 | AA21: =IF(сентябрь!Q21="","",сентябрь!Q21) | AB21: =IF(октябрь!Q21="","",октябрь!Q21) | AC21: =IF(ноябрь!Q21="","",ноябрь!Q21) | AD21: =IF(декабрь!Q21="","",декабрь!Q21) | AE21: =IF(январь!Q21="","",январь!Q21) | AF21: =IF(февраль!Q21="","",февраль!Q21) | AG21: =IF(март!Q21="","",март!Q21) | AH21: =IF(апрель!Q21="","",апрель!Q21) | AI21: =IF(май!Q21="","",май!Q21) -> 1 | AJ21: =IF(AND(AA21="",AB21="",AC21="",AD21="",AE21="",AF21="",AG21="",AH21="",AI21=""),"",SUM(AA21:AI21)) -> 1 | AK21: =IF('Кол.часов по УП'!E20="","",'Кол.часов по УП'!E20) -> 34 | AL21: =IF(AND(AJ21="",AK21=""),"",AJ21/AK21*100) -> 2.9411765 | AM21: =IF(сентябрь!V21="","",сентябрь!V21) | AN21: =IF(октябрь!V21="","",октябрь!V21) | AO21: =IF(ноябрь!V21="","",ноябрь!V21) | AP21: =IF(декабрь!V21="","",декабрь!V21) | AQ21: =IF(январь!V21="","",январь!V21) | AR21: =IF(февраль!V21="","",февраль!V21) | AS21: =IF(март!V21="","",март!V21) | AT21: =IF(апрель!V21="","",апрель!V21) | AU21: =IF(май!V21="","",май!V21) | AV21: =IF(AND(AM21="",AN21="",AO21="",AP21="",AQ21="",AR21="",AS21="",AT21="",AU21=""),"",SUM(AM21:AU21)) | AW21: =IF('Кол.часов по УП'!F20="","",'Кол.часов по УП'!F20) | AX21: =IF(AND(AV21="",AW21=""),"",AV21/AW21*100) | AY21: =IF(сентябрь!AA21="","",сентябрь!AA21) | AZ21: =IF(октябрь!AA21="","",октябрь!AA21) | BA21: =IF(ноябрь!AA21="","",ноябрь!AA21) | BB21: =IF(декабрь!AA21="","",декабрь!AA21) | BC21: =IF(январь!AA21="","",январь!AA21) | BD21: =IF(февраль!AA21="","",февраль!AA21) | BE21: =IF(март!AA21="","",март!AA21) | BF21: =IF(апрель!AA21="","",апрель!AA21) | BG21: =IF(май!AA21="","",май!AA21) | BH21: =IF(AND(AY21="",AZ21="",BA21="",BB21="",BC21="",BD21="",BE21="",BF21="",BG21=""),"",SUM(AY21:BG21)) | BI21: =IF('Кол.часов по УП'!G20="","",'Кол.часов по УП'!G20) | BJ21: =IF(AND(BH21="",BI21=""),"",BH21/BI21*100) | BK21: =IF(сентябрь!AF21="","",сентябрь!AF21) | BL21: =IF(октябрь!AF21="","",октябрь!AF21) | BM21: =IF(ноябрь!AF21="","",ноябрь!AF21) | BN21: =IF(декабрь!AF21="","",декабрь!AF21) | BO21: =IF(январь!AF21="","",январь!AF21) | BP21: =IF(февраль!AF21="","",февраль!AF21) | BQ21: =IF(март!AF21="","",март!AF21) | BR21: =IF(апрель!AF21="","",апрель!AF21) | BS21: =IF(май!AF21="","",май!AF21) | BT21: =IF(AND(BK21="",BL21="",BM21="",BN21="",BO21="",BP21="",BQ21="",BR21="",BS21=""),"",SUM(BK21:BS21)) | BU21: =IF('Кол.часов по УП'!H20="","",'Кол.часов по УП'!H20) | BV21: =IF(AND(BT21="",BU21=""),"",BT21/BU21*100)
A22: 8 | B22: Труд (технология) | C22: =IF(сентябрь!G22="","",сентябрь!G22) | D22: =IF(октябрь!G22="","",октябрь!G22) | E22: =IF(ноябрь!G22="","",ноябрь!G22) | F22: =IF(декабрь!G22="","",декабрь!G22) | G22: =IF(январь!G22="","",январь!G22) | H22: =IF(февраль!G22="","",февраль!G22) | I22: =IF(март!G22="","",март!G22) | J22: =IF(апрель!G22="","",апрель!G22) | K22: =IF(май!G22="","",май!G22) -> 1 | L22: =IF(AND(C22="",D22="",E22="",F22="",G22="",H22="",I22="",J22="",K22=""),"",SUM(C22:K22)) -> 1 | M22: =IF('Кол.часов по УП'!C21="","",'Кол.часов по УП'!C21) -> 68 | N22: =IF(AND(L22="",M22=""),"",L22/M22*100) -> 1.4705882 | O22: =IF(сентябрь!L22="","",сентябрь!L22) | P22: =IF(октябрь!L22="","",октябрь!L22) | Q22: =IF(ноябрь!L22="","",ноябрь!L22) | R22: =IF(декабрь!L22="","",декабрь!L22) | S22: =IF(январь!L22="","",январь!L22) | T22: =IF(февраль!L22="","",февраль!L22) | U22: =IF(март!L22="","",март!L22) | V22: =IF(апрель!L22="","",апрель!L22) | W22: =IF(май!L22="","",май!L22) -> 1 | X22: =IF(AND(O22="",P22="",Q22="",R22="",S22="",T22="",U22="",V22="",W22=""),"",SUM(O22:W22)) -> 1 | Y22: =IF('Кол.часов по УП'!D21="","",'Кол.часов по УП'!D21) -> 68 | Z22: =IF(AND(X22="",Y22=""),"",X22/Y22*100) -> 1.4705882 | AA22: =IF(сентябрь!Q22="","",сентябрь!Q22) | AB22: =IF(октябрь!Q22="","",октябрь!Q22) | AC22: =IF(ноябрь!Q22="","",ноябрь!Q22) | AD22: =IF(декабрь!Q22="","",декабрь!Q22) | AE22: =IF(январь!Q22="","",январь!Q22) | AF22: =IF(февраль!Q22="","",февраль!Q22) | AG22: =IF(март!Q22="","",март!Q22) | AH22: =IF(апрель!Q22="","",апрель!Q22) | AI22: =IF(май!Q22="","",май!Q22) -> 1 | AJ22: =IF(AND(AA22="",AB22="",AC22="",AD22="",AE22="",AF22="",AG22="",AH22="",AI22=""),"",SUM(AA22:AI22)) -> 1 | AK22: =IF('Кол.часов по УП'!E21="","",'Кол.часов по УП'!E21) -> 68 | AL22: =IF(AND(AJ22="",AK22=""),"",AJ22/AK22*100) -> 1.4705882 | AM22: =IF(сентябрь!V22="","",сентябрь!V22) | AN22: =IF(октябрь!V22="","",октябрь!V22) | AO22: =IF(ноябрь!V22="","",ноябрь!V22) | AP22: =IF(декабрь!V22="","",декабрь!V22) | AQ22: =IF(январь!V22="","",январь!V22) | AR22: =IF(февраль!V22="","",февраль!V22) | AS22: =IF(март!V22="","",март!V22) | AT22: =IF(апрель!V22="","",апрель!V22) | AU22: =IF(май!V22="","",май!V22) | AV22: =IF(AND(AM22="",AN22="",AO22="",AP22="",AQ22="",AR22="",AS22="",AT22="",AU22=""),"",SUM(AM22:AU22)) | AW22: =IF('Кол.часов по УП'!F21="","",'Кол.часов по УП'!F21) | AX22: =IF(AND(AV22="",AW22=""),"",AV22/AW22*100) | AY22: =IF(сентябрь!AA22="","",сентябрь!AA22) | AZ22: =IF(октябрь!AA22="","",октябрь!AA22) | BA22: =IF(ноябрь!AA22="","",ноябрь!AA22) | BB22: =IF(декабрь!AA22="","",декабрь!AA22) | BC22: =IF(январь!AA22="","",январь!AA22) | BD22: =IF(февраль!AA22="","",февраль!AA22) | BE22: =IF(март!AA22="","",март!AA22) | BF22: =IF(апрель!AA22="","",апрель!AA22) | BG22: =IF(май!AA22="","",май!AA22) | BH22: =IF(AND(AY22="",AZ22="",BA22="",BB22="",BC22="",BD22="",BE22="",BF22="",BG22=""),"",SUM(AY22:BG22)) | BI22: =IF('Кол.часов по УП'!G21="","",'Кол.часов по УП'!G21) | BJ22: =IF(AND(BH22="",BI22=""),"",BH22/BI22*100) | BK22: =IF(сентябрь!AF22="","",сентябрь!AF22) | BL22: =IF(октябрь!AF22="","",октябрь!AF22) | BM22: =IF(ноябрь!AF22="","",ноябрь!AF22) | BN22: =IF(декабрь!AF22="","",декабрь!AF22) | BO22: =IF(январь!AF22="","",январь!AF22) | BP22: =IF(февраль!AF22="","",февраль!AF22) | BQ22: =IF(март!AF22="","",март!AF22) | BR22: =IF(апрель!AF22="","",апрель!AF22) | BS22: =IF(май!AF22="","",май!AF22) | BT22: =IF(AND(BK22="",BL22="",BM22="",BN22="",BO22="",BP22="",BQ22="",BR22="",BS22=""),"",SUM(BK22:BS22)) | BU22: =IF('Кол.часов по УП'!H21="","",'Кол.часов по УП'!H21) | BV22: =IF(AND(BT22="",BU22=""),"",BT22/BU22*100)
A23: 9 | B23: Физическая культура | C23: =IF(сентябрь!G23="","",сентябрь!G23) | D23: =IF(октябрь!G23="","",октябрь!G23) | E23: =IF(ноябрь!G23="","",ноябрь!G23) | F23: =IF(декабрь!G23="","",декабрь!G23) | G23: =IF(январь!G23="","",январь!G23) | H23: =IF(февраль!G23="","",февраль!G23) | I23: =IF(март!G23="","",март!G23) | J23: =IF(апрель!G23="","",апрель!G23) | K23: =IF(май!G23="","",май!G23) | L23: =IF(AND(C23="",D23="",E23="",F23="",G23="",H23="",I23="",J23="",K23=""),"",SUM(C23:K23)) | M23: =IF('Кол.часов по УП'!C22="","",'Кол.часов по УП'!C22) | N23: =IF(AND(L23="",M23=""),"",L23/M23*100) | O23: =IF(сентябрь!L23="","",сентябрь!L23) | P23: =IF(октябрь!L23="","",октябрь!L23) | Q23: =IF(ноябрь!L23="","",ноябрь!L23) | R23: =IF(декабрь!L23="","",декабрь!L23) | S23: =IF(январь!L23="","",январь!L23) | T23: =IF(февраль!L23="","",февраль!L23) | U23: =IF(март!L23="","",март!L23) | V23: =IF(апрель!L23="","",апрель!L23) | W23: =IF(май!L23="","",май!L23) | X23: =IF(AND(O23="",P23="",Q23="",R23="",S23="",T23="",U23="",V23="",W23=""),"",SUM(O23:W23)) | Y23: =IF('Кол.часов по УП'!D22="","",'Кол.часов по УП'!D22) | Z23: =IF(AND(X23="",Y23=""),"",X23/Y23*100) | AA23: =IF(сентябрь!Q23="","",сентябрь!Q23) -> 2 | AB23: =IF(октябрь!Q23="","",октябрь!Q23) -> 1 | AC23: =IF(ноябрь!Q23="","",ноябрь!Q23) | AD23: =IF(декабрь!Q23="","",декабрь!Q23) | AE23: =IF(январь!Q23="","",январь!Q23) | AF23: =IF(февраль!Q23="","",февраль!Q23) | AG23: =IF(март!Q23="","",март!Q23) | AH23: =IF(апрель!Q23="","",апрель!Q23) -> 1 | AI23: =IF(май!Q23="","",май!Q23) -> 2 | AJ23: =IF(AND(AA23="",AB23="",AC23="",AD23="",AE23="",AF23="",AG23="",AH23="",AI23=""),"",SUM(AA23:AI23)) -> 6 | AK23: =IF('Кол.часов по УП'!E22="","",'Кол.часов по УП'!E22) -> 63 | AL23: =IF(AND(AJ23="",AK23=""),"",AJ23/AK23*100) -> 9.5238095 | AM23: =IF(сентябрь!V23="","",сентябрь!V23) | AN23: =IF(октябрь!V23="","",октябрь!V23) | AO23: =IF(ноябрь!V23="","",ноябрь!V23) | AP23: =IF(декабрь!V23="","",декабрь!V23) | AQ23: =IF(январь!V23="","",январь!V23) | AR23: =IF(февраль!V23="","",февраль!V23) | AS23: =IF(март!V23="","",март!V23) | AT23: =IF(апрель!V23="","",апрель!V23) | AU23: =IF(май!V23="","",май!V23) | AV23: =IF(AND(AM23="",AN23="",AO23="",AP23="",AQ23="",AR23="",AS23="",AT23="",AU23=""),"",SUM(AM23:AU23)) | AW23: =IF('Кол.часов по УП'!F22="","",'Кол.часов по УП'!F22) | AX23: =IF(AND(AV23="",AW23=""),"",AV23/AW23*100) | AY23: =IF(сентябрь!AA23="","",сентябрь!AA23) | AZ23: =IF(октябрь!AA23="","",октябрь!AA23) | BA23: =IF(ноябрь!AA23="","",ноябрь!AA23) | BB23: =IF(декабрь!AA23="","",декабрь!AA23) | BC23: =IF(январь!AA23="","",январь!AA23) | BD23: =IF(февраль!AA23="","",февраль!AA23) | BE23: =IF(март!AA23="","",март!AA23) | BF23: =IF(апрель!AA23="","",апрель!AA23) | BG23: =IF(май!AA23="","",май!AA23) | BH23: =IF(AND(AY23="",AZ23="",BA23="",BB23="",BC23="",BD23="",BE23="",BF23="",BG23=""),"",SUM(AY23:BG23)) | BI23: =IF('Кол.часов по УП'!G22="","",'Кол.часов по УП'!G22) | BJ23: =IF(AND(BH23="",BI23=""),"",BH23/BI23*100) | BK23: =IF(сентябрь!AF23="","",сентябрь!AF23) | BL23: =IF(октябрь!AF23="","",октябрь!AF23) | BM23: =IF(ноябрь!AF23="","",ноябрь!AF23) | BN23: =IF(декабрь!AF23="","",декабрь!AF23) | BO23: =IF(январь!AF23="","",январь!AF23) | BP23: =IF(февраль!AF23="","",февраль!AF23) | BQ23: =IF(март!AF23="","",март!AF23) | BR23: =IF(апрель!AF23="","",апрель!AF23) | BS23: =IF(май!AF23="","",май!AF23) | BT23: =IF(AND(BK23="",BL23="",BM23="",BN23="",BO23="",BP23="",BQ23="",BR23="",BS23=""),"",SUM(BK23:BS23)) | BU23: =IF('Кол.часов по УП'!H22="","",'Кол.часов по УП'!H22) | BV23: =IF(AND(BT23="",BU23=""),"",BT23/BU23*100)
C25: 3 А | O25: 3 Б | AA25: 3 В | AM25: 3 Г | AY25: 3 Д | BK25: 3 Е
B26: Предметы | C26: сентябрь | D26: октябрь | E26: ноябрь | F26: декабрь | G26: январь | H26: февраль | I26: март | J26: апрель | K26: май | L26: Всего оценочных процедур за год | M26: Кол-во часов по учебному плану (УП) | N26: % соотношение кол-ва оценочных процедур к кол-ву часов УП | O26: сентябрь | P26: октябрь | Q26: ноябрь | R26: декабрь | S26: январь | T26: февраль | U26: март | V26: апрель | W26: май | X26: Всего оценочных процедур за год | Y26: Кол-во часов по учебному плану (УП) | Z26: % соотношение кол-ва оценочных процедур к кол-ву часов УП | AA26: сентябрь | AB26: октябрь | AC26: ноябрь | AD26: декабрь | AE26: январь | AF26: февраль | AG26: март | AH26: апрель | AI26: май | AJ26: Всего оценочных процедур за год | AK26: Кол-во часов по учебному плану (УП) | AL26: % соотношение кол-ва оценочных процедур к кол-ву часов УП | AM26: сентябрь | AN26: октябрь | AO26: ноябрь | AP26: декабрь | AQ26: январь | AR26: февраль | AS26: март | AT26: апрель | AU26: май | AV26: Всего оценочных процедур за год | AW26: Кол-во часов по учебному плану (УП) | AX26: % соотношение кол-ва оценочных процедур к кол-ву часов УП | AY26: сентябрь | AZ26: октябрь | BA26: ноябрь | BB26: декабрь | BC26: январь | BD26: февраль | BE26: март | BF26: апрель | BG26: май | BH26: Всего оценочных процедур за год | BI26: Кол-во часов по учебному плану (УП) | BJ26: % соотношение кол-ва оценочных процедур к кол-ву часов УП | BK26: сентябрь | BL26: октябрь | BM26: ноябрь | BN26: декабрь | BO26: январь | BP26: февраль | BQ26: март | BR26: апрель | BS26: май | BT26: Всего оценочных процедур за год | BU26: Кол-во часов по учебному плану (УП) | BV26: % соотношение кол-ва оценочных процедур к кол-ву часов УП
A27: 1 | B27: Русский язык | C27: =IF(сентябрь!G27="","",сентябрь!G27) -> 1 | D27: =IF(октябрь!G27="","",октябрь!G27) -> 1 | E27: =IF(ноябрь!G27="","",ноябрь!G27) -> 1 | F27: =IF(декабрь!G27="","",декабрь!G27) -> 1 | G27: =IF(январь!G27="","",январь!G27) | H27: =IF(февраль!G27="","",февраль!G27) -> 1 | I27: =IF(март!G27="","",март!G27) -> 1 | J27: =IF(апрель!G27="","",апрель!G27) -> 2 | K27: =IF(май!G27="","",май!G27) -> 1 | L27: =IF(AND(C27="",D27="",E27="",F27="",G27="",H27="",I27="",J27="",K27=""),"",SUM(C27:K27)) -> 9 | M27: =IF('Кол.часов по УП'!C26="","",'Кол.часов по УП'!C26) -> 170 | N27: =IF(AND(L27="",M27=""),"",L27/M27*100) -> 5.2941176 | O27: =IF(сентябрь!L27="","",сентябрь!L27) -> 1 | P27: =IF(октябрь!L27="","",октябрь!L27) -> 2 | Q27: =IF(ноябрь!L27="","",ноябрь!L27) -> 1 | R27: =IF(декабрь!L27="","",декабрь!L27) -> 3 | S27: =IF(январь!L27="","",январь!L27) | T27: =IF(февраль!L27="","",февраль!L27) | U27: =IF(март!L27="","",март!L27) -> 1 | V27: =IF(апрель!L27="","",апрель!L27) -> 2 | W27: =IF(май!L27="","",май!L27) -> 1 | X27: =IF(AND(O27="",P27="",Q27="",R27="",S27="",T27="",U27="",V27="",W27=""),"",SUM(O27:W27)) -> 11 | Y27: =IF('Кол.часов по УП'!D26="","",'Кол.часов по УП'!D26) -> 170 | Z27: =IF(AND(X27="",Y27=""),"",X27/Y27*100) -> 6.4705882 | AA27: =IF(сентябрь!Q27="","",сентябрь!Q27) -> 1 | AB27: =IF(октябрь!Q27="","",октябрь!Q27) -> 1 | AC27: =IF(ноябрь!Q27="","",ноябрь!Q27) -> 1 | AD27: =IF(декабрь!Q27="","",декабрь!Q27) -> 2 | AE27: =IF(январь!Q27="","",январь!Q27) -> 1 | AF27: =IF(февраль!Q27="","",февраль!Q27) | AG27: =IF(март!Q27="","",март!Q27) -> 1 | AH27: =IF(апрель!Q27="","",апрель!Q27) -> 1 | AI27: =IF(май!Q27="","",май!Q27) -> 1 | AJ27: =IF(AND(AA27="",AB27="",AC27="",AD27="",AE27="",AF27="",AG27="",AH27="",AI27=""),"",SUM(AA27:AI27)) -> 9 | AK27: =IF('Кол.часов по УП'!E26="","",'Кол.часов по УП'!E26) -> 170 | AL27: =IF(AND(AJ27="",AK27=""),"",AJ27/AK27*100) -> 5.2941176 | AM27: =IF(сентябрь!V27="","",сентябрь!V27) -> 1 | AN27: =IF(октябрь!V27="","",октябрь!V27) -> 1 | AO27: =IF(ноябрь!V27="","",ноябрь!V27) -> 1 | AP27: =IF(декабрь!V27="","",декабрь!V27) -> 2 | AQ27: =IF(январь!V27="","",январь!V27) -> 1 | AR27: =IF(февраль!V27="","",февраль!V27) | AS27: =IF(март!V27="","",март!V27) -> 1 | AT27: =IF(апрель!V27="","",апрель!V27) -> 1 | AU27: =IF(май!V27="","",май!V27) -> 1 | AV27: =IF(AND(AM27="",AN27="",AO27="",AP27="",AQ27="",AR27="",AS27="",AT27="",AU27=""),"",SUM(AM27:AU27)) -> 9 | AW27: =IF('Кол.часов по УП'!F26="","",'Кол.часов по УП'!F26) -> 170 | AX27: =IF(AND(AV27="",AW27=""),"",AV27/AW27*100) -> 5.2941176 | AY27: =IF(сентябрь!AA27="","",сентябрь!AA27) | AZ27: =IF(октябрь!AA27="","",октябрь!AA27) | BA27: =IF(ноябрь!AA27="","",ноябрь!AA27) | BB27: =IF(декабрь!AA27="","",декабрь!AA27) | BC27: =IF(январь!AA27="","",январь!AA27) | BD27: =IF(февраль!AA27="","",февраль!AA27) | BE27: =IF(март!AA27="","",март!AA27) | BF27: =IF(апрель!AA27="","",апрель!AA27) | BG27: =IF(май!AA27="","",май!AA27) | BH27: =IF(AND(AY27="",AZ27="",BA27="",BB27="",BC27="",BD27="",BE27="",BF27="",BG27=""),"",SUM(AY27:BG27)) | BI27: =IF('Кол.часов по УП'!G26="","",'Кол.часов по УП'!G26) | BJ27: =IF(AND(BH27="",BI27=""),"",BH27/BI27*100) | BK27: =IF(сентябрь!AF27="","",сентябрь!AF27) | BL27: =IF(октябрь!AF27="","",октябрь!AF27) | BM27: =IF(ноябрь!AF27="","",ноябрь!AF27) | BN27: =IF(декабрь!AF27="","",декабрь!AF27) | BO27: =IF(январь!AF27="","",январь!AF27) | BP27: =IF(февраль!AF27="","",февраль!AF27) | BQ27: =IF(март!AF27="","",март!AF27) | BR27: =IF(апрель!AF27="","",апрель!AF27) | BS27: =IF(май!AF27="","",май!AF27) | BT27: =IF(AND(BK27="",BL27="",BM27="",BN27="",BO27="",BP27="",BQ27="",BR27="",BS27=""),"",SUM(BK27:BS27)) | BU27: =IF('Кол.часов по УП'!H26="","",'Кол.часов по УП'!H26) | BV27: =IF(AND(BT27="",BU27=""),"",BT27/BU27*100)
A28: 2 | B28: Литературное чтение | C28: =IF(сентябрь!G28="","",сентябрь!G28) -> 1 | D28: =IF(октябрь!G28="","",октябрь!G28) -> 1 | E28: =IF(ноябрь!G28="","",ноябрь!G28) -> 1 | F28: =IF(декабрь!G28="","",декабрь!G28) -> 1 | G28: =IF(январь!G28="","",январь!G28) | H28: =IF(февраль!G28="","",февраль!G28) | I28: =IF(март!G28="","",март!G28) -> 1 | J28: =IF(апрель!G28="","",апрель!G28) | K28: =IF(май!G28="","",май!G28) -> 1 | L28: =IF(AND(C28="",D28="",E28="",F28="",G28="",H28="",I28="",J28="",K28=""),"",SUM(C28:K28)) -> 6 | M28: =IF('Кол.часов по УП'!C27="","",'Кол.часов по УП'!C27) -> 136 | N28: =IF(AND(L28="",M28=""),"",L28/M28*100) -> 4.4117647 | O28: =IF(сентябрь!L28="","",сентябрь!L28) -> 1 | P28: =IF(октябрь!L28="","",октябрь!L28) -> 1 | Q28: =IF(ноябрь!L28="","",ноябрь!L28) -> 1 | R28: =IF(декабрь!L28="","",декабрь!L28) -> 1 | S28: =IF(январь!L28="","",январь!L28) | T28: =IF(февраль!L28="","",февраль!L28) | U28: =IF(март!L28="","",март!L28) -> 1 | V28: =IF(апрель!L28="","",апрель!L28) | W28: =IF(май!L28="","",май!L28) -> 1 | X28: =IF(AND(O28="",P28="",Q28="",R28="",S28="",T28="",U28="",V28="",W28=""),"",SUM(O28:W28)) -> 6 | Y28: =IF('Кол.часов по УП'!D27="","",'Кол.часов по УП'!D27) -> 136 | Z28: =IF(AND(X28="",Y28=""),"",X28/Y28*100) -> 4.4117647 | AA28: =IF(сентябрь!Q28="","",сентябрь!Q28) -> 1 | AB28: =IF(октябрь!Q28="","",октябрь!Q28) -> 1 | AC28: =IF(ноябрь!Q28="","",ноябрь!Q28) -> 1 | AD28: =IF(декабрь!Q28="","",декабрь!Q28) -> 1 | AE28: =IF(январь!Q28="","",январь!Q28) | AF28: =IF(февраль!Q28="","",февраль!Q28) | AG28: =IF(март!Q28="","",март!Q28) -> 1 | AH28: =IF(апрель!Q28="","",апрель!Q28) -> 1 | AI28: =IF(май!Q28="","",май!Q28) -> 2 | AJ28: =IF(AND(AA28="",AB28="",AC28="",AD28="",AE28="",AF28="",AG28="",AH28="",AI28=""),"",SUM(AA28:AI28)) -> 8 | AK28: =IF('Кол.часов по УП'!E27="","",'Кол.часов по УП'!E27) -> 136 | AL28: =IF(AND(AJ28="",AK28=""),"",AJ28/AK28*100) -> 5.8823529 | AM28: =IF(сентябрь!V28="","",сентябрь!V28) -> 1 | AN28: =IF(октябрь!V28="","",октябрь!V28) | AO28: =IF(ноябрь!V28="","",ноябрь!V28) -> 1 | AP28: =IF(декабрь!V28="","",декабрь!V28) -> 1 | AQ28: =IF(январь!V28="","",январь!V28) | AR28: =IF(февраль!V28="","",февраль!V28) | AS28: =IF(март!V28="","",март!V28) -> 1 | AT28: =IF(апрель!V28="","",апрель!V28) -> 1 | AU28: =IF(май!V28="","",май!V28) -> 2 | AV28: =IF(AND(AM28="",AN28="",AO28="",AP28="",AQ28="",AR28="",AS28="",AT28="",AU28=""),"",SUM(AM28:AU28)) -> 7 | AW28: =IF('Кол.часов по УП'!F27="","",'Кол.часов по УП'!F27) -> 136 | AX28: =IF(AND(AV28="",AW28=""),"",AV28/AW28*100) -> 5.1470588 | AY28: =IF(сентябрь!AA28="","",сентябрь!AA28) | AZ28: =IF(октябрь!AA28="","",октябрь!AA28) | BA28: =IF(ноябрь!AA28="","",ноябрь!AA28) | BB28: =IF(декабрь!AA28="","",декабрь!AA28) | BC28: =IF(январь!AA28="","",январь!AA28) | BD28: =IF(февраль!AA28="","",февраль!AA28) | BE28: =IF(март!AA28="","",март!AA28) | BF28: =IF(апрель!AA28="","",апрель!AA28) | BG28: =IF(май!AA28="","",май!AA28) | BH28: =IF(AND(AY28="",AZ28="",BA28="",BB28="",BC28="",BD28="",BE28="",BF28="",BG28=""),"",SUM(AY28:BG28)) | BI28: =IF('Кол.часов по УП'!G27="","",'Кол.часов по УП'!G27) | BJ28: =IF(AND(BH28="",BI28=""),"",BH28/BI28*100) | BK28: =IF(сентябрь!AF28="","",сентябрь!AF28) | BL28: =IF(октябрь!AF28="","",октябрь!AF28) | BM28: =IF(ноябрь!AF28="","",ноябрь!AF28) | BN28: =IF(декабрь!AF28="","",декабрь!AF28) | BO28: =IF(январь!AF28="","",январь!AF28) | BP28: =IF(февраль!AF28="","",февраль!AF28) | BQ28: =IF(март!AF28="","",март!AF28) | BR28: =IF(апрель!AF28="","",апрель!AF28) | BS28: =IF(май!AF28="","",май!AF28) | BT28: =IF(AND(BK28="",BL28="",BM28="",BN28="",BO28="",BP28="",BQ28="",BR28="",BS28=""),"",SUM(BK28:BS28)) | BU28: =IF('Кол.часов по УП'!H27="","",'Кол.часов по УП'!H27) | BV28: =IF(AND(BT28="",BU28=""),"",BT28/BU28*100)
A29: 3 | B29: Иностранный язык (английский) | C29: =IF(сентябрь!G29="","",сентябрь!G29) | D29: =IF(октябрь!G29="","",октябрь!G29) -> 1 | E29: =IF(ноябрь!G29="","",ноябрь!G29) | F29: =IF(декабрь!G29="","",декабрь!G29) | G29: =IF(январь!G29="","",январь!G29) | H29: =IF(февраль!G29="","",февраль!G29) -> 1 | I29: =IF(март!G29="","",март!G29) | J29: =IF(апрель!G29="","",апрель!G29) -> 1 | K29: =IF(май!G29="","",май!G29) -> 1 | L29: =IF(AND(C29="",D29="",E29="",F29="",G29="",H29="",I29="",J29="",K29=""),"",SUM(C29:K29)) -> 4 | M29: =IF('Кол.часов по УП'!C28="","",'Кол.часов по УП'!C28) -> 68 | N29: =IF(AND(L29="",M29=""),"",L29/M29*100) -> 5.8823529 | O29: =IF(сентябрь!L29="","",сентябрь!L29) | P29: =IF(октябрь!L29="","",октябрь!L29) -> 1 | Q29: =IF(ноябрь!L29="","",ноябрь!L29) | R29: =IF(декабрь!L29="","",декабрь!L29) | S29: =IF(январь!L29="","",январь!L29) -> 1 | T29: =IF(февраль!L29="","",февраль!L29) | U29: =IF(март!L29="","",март!L29) | V29: =IF(апрель!L29="","",апрель!L29) -> 1 | W29: =IF(май!L29="","",май!L29) -> 1 | X29: =IF(AND(O29="",P29="",Q29="",R29="",S29="",T29="",U29="",V29="",W29=""),"",SUM(O29:W29)) -> 4 | Y29: =IF('Кол.часов по УП'!D28="","",'Кол.часов по УП'!D28) -> 68 | Z29: =IF(AND(X29="",Y29=""),"",X29/Y29*100) -> 5.8823529 | AA29: =IF(сентябрь!Q29="","",сентябрь!Q29) | AB29: =IF(октябрь!Q29="","",октябрь!Q29) -> 1 | AC29: =IF(ноябрь!Q29="","",ноябрь!Q29) | AD29: =IF(декабрь!Q29="","",декабрь!Q29) | AE29: =IF(январь!Q29="","",январь!Q29) -> 1 | AF29: =IF(февраль!Q29="","",февраль!Q29) | AG29: =IF(март!Q29="","",март!Q29) | AH29: =IF(апрель!Q29="","",апрель!Q29) -> 1 | AI29: =IF(май!Q29="","",май!Q29) -> 1 | AJ29: =IF(AND(AA29="",AB29="",AC29="",AD29="",AE29="",AF29="",AG29="",AH29="",AI29=""),"",SUM(AA29:AI29)) -> 4 | AK29: =IF('Кол.часов по УП'!E28="","",'Кол.часов по УП'!E28) -> 68 | AL29: =IF(AND(AJ29="",AK29=""),"",AJ29/AK29*100) -> 5.8823529 | AM29: =IF(сентябрь!V29="","",сентябрь!V29) | AN29: =IF(октябрь!V29="","",октябрь!V29) -> 1 | AO29: =IF(ноябрь!V29="","",ноябрь!V29) | AP29: =IF(декабрь!V29="","",декабрь!V29) | AQ29: =IF(январь!V29="","",январь!V29) | AR29: =IF(февраль!V29="","",февраль!V29) -> 1 | AS29: =IF(март!V29="","",март!V29) | AT29: =IF(апрель!V29="","",апрель!V29) -> 1 | AU29: =IF(май!V29="","",май!V29) -> 1 | AV29: =IF(AND(AM29="",AN29="",AO29="",AP29="",AQ29="",AR29="",AS29="",AT29="",AU29=""),"",SUM(AM29:AU29)) -> 4 | AW29: =IF('Кол.часов по УП'!F28="","",'Кол.часов по УП'!F28) -> 68 | AX29: =IF(AND(AV29="",AW29=""),"",AV29/AW29*100) -> 5.8823529 | AY29: =IF(сентябрь!AA29="","",сентябрь!AA29) | AZ29: =IF(октябрь!AA29="","",октябрь!AA29) | BA29: =IF(ноябрь!AA29="","",ноябрь!AA29) | BB29: =IF(декабрь!AA29="","",декабрь!AA29) | BC29: =IF(январь!AA29="","",январь!AA29) | BD29: =IF(февраль!AA29="","",февраль!AA29) | BE29: =IF(март!AA29="","",март!AA29) | BF29: =IF(апрель!AA29="","",апрель!AA29) | BG29: =IF(май!AA29="","",май!AA29) | BH29: =IF(AND(AY29="",AZ29="",BA29="",BB29="",BC29="",BD29="",BE29="",BF29="",BG29=""),"",SUM(AY29:BG29)) | BI29: =IF('Кол.часов по УП'!G28="","",'Кол.часов по УП'!G28) | BJ29: =IF(AND(BH29="",BI29=""),"",BH29/BI29*100) | BK29: =IF(сентябрь!AF29="","",сентябрь!AF29) | BL29: =IF(октябрь!AF29="","",октябрь!AF29) | BM29: =IF(ноябрь!AF29="","",ноябрь!AF29) | BN29: =IF(декабрь!AF29="","",декабрь!AF29) | BO29: =IF(январь!AF29="","",январь!AF29) | BP29: =IF(февраль!AF29="","",февраль!AF29) | BQ29: =IF(март!AF29="","",март!AF29) | BR29: =IF(апрель!AF29="","",апрель!AF29) | BS29: =IF(май!AF29="","",май!AF29) | BT29: =IF(AND(BK29="",BL29="",BM29="",BN29="",BO29="",BP29="",BQ29="",BR29="",BS29=""),"",SUM(BK29:BS29)) | BU29: =IF('Кол.часов по УП'!H28="","",'Кол.часов по УП'!H28) | BV29: =IF(AND(BT29="",BU29=""),"",BT29/BU29*100)
A30: 4 | B30: Математика | C30: =IF(сентябрь!G30="","",сентябрь!G30) -> 1 | D30: =IF(октябрь!G30="","",октябрь!G30) -> 1 | E30: =IF(ноябрь!G30="","",ноябрь!G30) -> 1 | F30: =IF(декабрь!G30="","",декабрь!G30) -> 1 | G30: =IF(январь!G30="","",январь!G30) | H30: =IF(февраль!G30="","",февраль!G30) -> 1 | I30: =IF(март!G30="","",март!G30) -> 2 | J30: =IF(апрель!G30="","",апрель!G30) | K30: =IF(май!G30="","",май!G30) -> 1 | L30: =IF(AND(C30="",D30="",E30="",F30="",G30="",H30="",I30="",J30="",K30=""),"",SUM(C30:K30)) -> 8 | M30: =IF('Кол.часов по УП'!C29="","",'Кол.часов по УП'!C29) -> 136 | N30: =IF(AND(L30="",M30=""),"",L30/M30*100) -> 5.8823529 | O30: =IF(сентябрь!L30="","",сентябрь!L30) -> 1 | P30: =IF(октябрь!L30="","",октябрь!L30) -> 1 | Q30: =IF(ноябрь!L30="","",ноябрь!L30) -> 1 | R30: =IF(декабрь!L30="","",декабрь!L30) -> 1 | S30: =IF(январь!L30="","",январь!L30) | T30: =IF(февраль!L30="","",февраль!L30) -> 1 | U30: =IF(март!L30="","",март!L30) -> 2 | V30: =IF(апрель!#REF!="","",апрель!#REF!) -> #REF! | W30: =IF(май!L30="","",май!L30) | X30: =IF(AND(O30="",P30="",Q30="",R30="",S30="",T30="",U30="",V30="",W30=""),"",SUM(O30:W30)) -> #REF! | Y30: =IF('Кол.часов по УП'!D29="","",'Кол.часов по УП'!D29) -> 136 | Z30: =IF(AND(X30="",Y30=""),"",X30/Y30*100) -> #REF! | AA30: =IF(сентябрь!Q30="","",сентябрь!Q30) -> 1 | AB30: =IF(октябрь!Q30="","",октябрь!Q30) -> 1 | AC30: =IF(ноябрь!Q30="","",ноябрь!Q30) -> 1 | AD30: =IF(декабрь!Q30="","",декабрь!Q30) -> 1 | AE30: =IF(январь!Q30="","",январь!Q30) | AF30: =IF(февраль!Q30="","",февраль!Q30) -> 1 | AG30: =IF(март!Q30="","",март!Q30) -> 2 | AH30: =IF(апрель!Q30="","",апрель!Q30) | AI30: =IF(май!Q30="","",май!Q30) -> 1 | AJ30: =IF(AND(AA30="",AB30="",AC30="",AD30="",AE30="",AF30="",AG30="",AH30="",AI30=""),"",SUM(AA30:AI30)) -> 8 | AK30: =IF('Кол.часов по УП'!E29="","",'Кол.часов по УП'!E29) -> 136 | AL30: =IF(AND(AJ30="",AK30=""),"",AJ30/AK30*100) -> 5.8823529 | AM30: =IF(сентябрь!V30="","",сентябрь!V30) -> 1 | AN30: =IF(октябрь!V30="","",октябрь!V30) -> 1 | AO30: =IF(ноябрь!V30="","",ноябрь!V30) -> 1 | AP30: =IF(декабрь!V30="","",декабрь!V30) -> 1 | AQ30: =IF(январь!V30="","",январь!V30) | AR30: =IF(февраль!V30="","",февраль!V30) -> 1 | AS30: =IF(март!V30="","",март!V30) -> 2 | AT30: =IF(апрель!V30="","",апрель!V30) | AU30: =IF(май!V30="","",май!V30) -> 1 | AV30: =IF(AND(AM30="",AN30="",AO30="",AP30="",AQ30="",AR30="",AS30="",AT30="",AU30=""),"",SUM(AM30:AU30)) -> 8 | AW30: =IF('Кол.часов по УП'!F29="","",'Кол.часов по УП'!F29) -> 136 | AX30: =IF(AND(AV30="",AW30=""),"",AV30/AW30*100) -> 5.8823529 | AY30: =IF(сентябрь!AA30="","",сентябрь!AA30) | AZ30: =IF(октябрь!AA30="","",октябрь!AA30) | BA30: =IF(ноябрь!AA30="","",ноябрь!AA30) | BB30: =IF(декабрь!AA30="","",декабрь!AA30) | BC30: =IF(январь!AA30="","",январь!AA30) | BD30: =IF(февраль!AA30="","",февраль!AA30) | BE30: =IF(март!AA30="","",март!AA30) | BF30: =IF(апрель!AA30="","",апрель!AA30) | BG30: =IF(май!AA30="","",май!AA30) | BH30: =IF(AND(AY30="",AZ30="",BA30="",BB30="",BC30="",BD30="",BE30="",BF30="",BG30=""),"",SUM(AY30:BG30)) | BI30: =IF('Кол.часов по УП'!G29="","",'Кол.часов по УП'!G29) | BJ30: =IF(AND(BH30="",BI30=""),"",BH30/BI30*100) | BK30: =IF(сентябрь!AF30="","",сентябрь!AF30) | BL30: =IF(октябрь!AF30="","",октябрь!AF30) | BM30: =IF(ноябрь!AF30="","",ноябрь!AF30) | BN30: =IF(декабрь!AF30="","",декабрь!AF30) | BO30: =IF(январь!AF30="","",январь!AF30) | BP30: =IF(февраль!AF30="","",февраль!AF30) | BQ30: =IF(март!AF30="","",март!AF30) | BR30: =IF(апрель!AF30="","",апрель!AF30) | BS30: =IF(май!AF30="","",май!AF30) | BT30: =IF(AND(BK30="",BL30="",BM30="",BN30="",BO30="",BP30="",BQ30="",BR30="",BS30=""),"",SUM(BK30:BS30)) | BU30: =IF('Кол.часов по УП'!H29="","",'Кол.часов по УП'!H29) | BV30: =IF(AND(BT30="",BU30=""),"",BT30/BU30*100)
A31: 5 | B31: Окружающий мир | C31: =IF(сентябрь!G31="","",сентябрь!G31) -> 1 | D31: =IF(октябрь!G31="","",октябрь!G31) | E31: =IF(ноябрь!G31="","",ноябрь!G31) -> 1 | F31: =IF(декабрь!G31="","",декабрь!G31) -> 1 | G31: =IF(январь!G31="","",январь!G31) | H31: =IF(февраль!G31="","",февраль!G31) -> 1 | I31: =IF(март!G31="","",март!G31) | J31: =IF(апрель!G31="","",апрель!G31) | K31: =IF(май!G31="","",май!G31) -> 1 | L31: =IF(AND(C31="",D31="",E31="",F31="",G31="",H31="",I31="",J31="",K31=""),"",SUM(C31:K31)) -> 5 | M31: =IF('Кол.часов по УП'!C30="","",'Кол.часов по УП'!C30) -> 68 | N31: =IF(AND(L31="",M31=""),"",L31/M31*100) -> 7.3529412 | O31: =IF(сентябрь!L31="","",сентябрь!L31) -> 1 | P31: =IF(октябрь!L31="","",октябрь!L31) | Q31: =IF(ноябрь!L31="","",ноябрь!L31) -> 1 | R31: =IF(декабрь!L31="","",декабрь!L31) | S31: =IF(январь!L31="","",январь!L31) -> 1 | T31: =IF(февраль!L31="","",февраль!L31) -> 1 | U31: =IF(март!L31="","",март!L31) | V31: =IF(апрель!L31="","",апрель!L31) | W31: =IF(май!L31="","",май!L31) -> 1 | X31: =IF(AND(O31="",P31="",Q31="",R31="",S31="",T31="",U31="",V31="",W31=""),"",SUM(O31:W31)) -> 5 | Y31: =IF('Кол.часов по УП'!D30="","",'Кол.часов по УП'!D30) -> 68 | Z31: =IF(AND(X31="",Y31=""),"",X31/Y31*100) -> 7.3529412 | AA31: =IF(сентябрь!Q31="","",сентябрь!Q31) -> 1 | AB31: =IF(октябрь!Q31="","",октябрь!Q31) | AC31: =IF(ноябрь!Q31="","",ноябрь!Q31) -> 1 | AD31: =IF(декабрь!Q31="","",декабрь!Q31) | AE31: =IF(январь!Q31="","",январь!Q31) -> 1 | AF31: =IF(февраль!Q31="","",февраль!Q31) -> 1 | AG31: =IF(март!Q31="","",март!Q31) | AH31: =IF(апрель!Q31="","",апрель!Q31) | AI31: =IF(май!Q31="","",май!Q31) -> 2 | AJ31: =IF(AND(AA31="",AB31="",AC31="",AD31="",AE31="",AF31="",AG31="",AH31="",AI31=""),"",SUM(AA31:AI31)) -> 6 | AK31: =IF('Кол.часов по УП'!E30="","",'Кол.часов по УП'!E30) -> 68 | AL31: =IF(AND(AJ31="",AK31=""),"",AJ31/AK31*100) -> 8.8235294 | AM31: =IF(сентябрь!V31="","",сентябрь!V31) -> 1 | AN31: =IF(октябрь!V31="","",октябрь!V31) | AO31: =IF(ноябрь!V31="","",ноябрь!V31) -> 1 | AP31: =IF(декабрь!V31="","",декабрь!V31) | AQ31: =IF(январь!V31="","",январь!V31) -> 1 | AR31: =IF(февраль!V31="","",февраль!V31) -> 1 | AS31: =IF(март!V31="","",март!V31) | AT31: =IF(апрель!V31="","",апрель!V31) | AU31: =IF(май!V31="","",май!V31) -> 2 | AV31: =IF(AND(AM31="",AN31="",AO31="",AP31="",AQ31="",AR31="",AS31="",AT31="",AU31=""),"",SUM(AM31:AU31)) -> 6 | AW31: =IF('Кол.часов по УП'!F30="","",'Кол.часов по УП'!F30) -> 68 | AX31: =IF(AND(AV31="",AW31=""),"",AV31/AW31*100) -> 8.8235294 | AY31: =IF(сентябрь!AA31="","",сентябрь!AA31) | AZ31: =IF(октябрь!AA31="","",октябрь!AA31) | BA31: =IF(ноябрь!AA31="","",ноябрь!AA31) | BB31: =IF(декабрь!AA31="","",декабрь!AA31) | BC31: =IF(январь!AA31="","",январь!AA31) | BD31: =IF(февраль!AA31="","",февраль!AA31) | BE31: =IF(март!AA31="","",март!AA31) | BF31: =IF(апрель!AA31="","",апрель!AA31) | BG31: =IF(май!AA31="","",май!AA31) | BH31: =IF(AND(AY31="",AZ31="",BA31="",BB31="",BC31="",BD31="",BE31="",BF31="",BG31=""),"",SUM(AY31:BG31)) | BI31: =IF('Кол.часов по УП'!G30="","",'Кол.часов по УП'!G30) | BJ31: =IF(AND(BH31="",BI31=""),"",BH31/BI31*100) | BK31: =IF(сентябрь!AF31="","",сентябрь!AF31) | BL31: =IF(октябрь!AF31="","",октябрь!AF31) | BM31: =IF(ноябрь!AF31="","",ноябрь!AF31) | BN31: =IF(декабрь!AF31="","",декабрь!AF31) | BO31: =IF(январь!AF31="","",январь!AF31) | BP31: =IF(февраль!AF31="","",февраль!AF31) | BQ31: =IF(март!AF31="","",март!AF31) | BR31: =IF(апрель!AF31="","",апрель!AF31) | BS31: =IF(май!AF31="","",май!AF31) | BT31: =IF(AND(BK31="",BL31="",BM31="",BN31="",BO31="",BP31="",BQ31="",BR31="",BS31=""),"",SUM(BK31:BS31)) | BU31: =IF('Кол.часов по УП'!H30="","",'Кол.часов по УП'!H30) | BV31: =IF(AND(BT31="",BU31=""),"",BT31/BU31*100)
A32: 6 | B32: Музыка | C32: =IF(сентябрь!G32="","",сентябрь!G32) | D32: =IF(октябрь!G32="","",октябрь!G32) -> 1 | E32: =IF(ноябрь!G32="","",ноябрь!G32) | F32: =IF(декабрь!G32="","",декабрь!G32) | G32: =IF(январь!G32="","",январь!G32) | H32: =IF(февраль!G32="","",февраль!G32) -> 1 | I32: =IF(март!G32="","",март!G32) | J32: =IF(апрель!G32="","",апрель!G32) | K32: =IF(май!G32="","",май!G32) -> 1 | L32: =IF(AND(C32="",D32="",E32="",F32="",G32="",H32="",I32="",J32="",K32=""),"",SUM(C32:K32)) -> 3 | M32: =IF('Кол.часов по УП'!C31="","",'Кол.часов по УП'!C31) -> 33 | N32: =IF(AND(L32="",M32=""),"",L32/M32*100) -> 9.0909091 | O32: =IF(сентябрь!L32="","",сентябрь!L32) | P32: =IF(октябрь!L32="","",октябрь!L32) -> 1 | Q32: =IF(ноябрь!L32="","",ноябрь!L32) | R32: =IF(декабрь!L32="","",декабрь!L32) | S32: =IF(январь!L32="","",январь!L32) | T32: =IF(февраль!L32="","",февраль!L32) -> 1 | U32: =IF(март!L32="","",март!L32) | V32: =IF(апрель!L32="","",апрель!L32) | W32: =IF(май!L32="","",май!L32) -> 1 | X32: =IF(AND(O32="",P32="",Q32="",R32="",S32="",T32="",U32="",V32="",W32=""),"",SUM(O32:W32)) -> 3 | Y32: =IF('Кол.часов по УП'!D31="","",'Кол.часов по УП'!D31) -> 33 | Z32: =IF(AND(X32="",Y32=""),"",X32/Y32*100) -> 9.0909091 | AA32: =IF(сентябрь!Q32="","",сентябрь!Q32) | AB32: =IF(октябрь!Q32="","",октябрь!Q32) -> 1 | AC32: =IF(ноябрь!Q32="","",ноябрь!Q32) | AD32: =IF(декабрь!Q32="","",декабрь!Q32) | AE32: =IF(январь!Q32="","",январь!Q32) | AF32: =IF(февраль!Q32="","",февраль!Q32) -> 1 | AG32: =IF(март!Q32="","",март!Q32) | AH32: =IF(апрель!Q32="","",апрель!Q32) | AI32: =IF(май!Q32="","",май!Q32) -> 1 | AJ32: =IF(AND(AA32="",AB32="",AC32="",AD32="",AE32="",AF32="",AG32="",AH32="",AI32=""),"",SUM(AA32:AI32)) -> 3 | AK32: =IF('Кол.часов по УП'!E31="","",'Кол.часов по УП'!E31) -> 33 | AL32: =IF(AND(AJ32="",AK32=""),"",AJ32/AK32*100) -> 9.0909091 | AM32: =IF(сентябрь!V32="","",сентябрь!V32) | AN32: =IF(октябрь!V32="","",октябрь!V32) -> 1 | AO32: =IF(ноябрь!V32="","",ноябрь!V32) | AP32: =IF(декабрь!V32="","",декабрь!V32) | AQ32: =IF(январь!V32="","",январь!V32) | AR32: =IF(февраль!V32="","",февраль!V32) -> 1 | AS32: =IF(март!V32="","",март!V32) | AT32: =IF(апрель!V32="","",апрель!V32) | AU32: =IF(май!V32="","",май!V32) -> 1 | AV32: =IF(AND(AM32="",AN32="",AO32="",AP32="",AQ32="",AR32="",AS32="",AT32="",AU32=""),"",SUM(AM32:AU32)) -> 3 | AW32: =IF('Кол.часов по УП'!F31="","",'Кол.часов по УП'!F31) -> 33 | AX32: =IF(AND(AV32="",AW32=""),"",AV32/AW32*100) -> 9.0909091 | AY32: =IF(сентябрь!AA32="","",сентябрь!AA32) | AZ32: =IF(октябрь!AA32="","",октябрь!AA32) | BA32: =IF(ноябрь!AA32="","",ноябрь!AA32) | BB32: =IF(декабрь!AA32="","",декабрь!AA32) | BC32: =IF(январь!AA32="","",январь!AA32) | BD32: =IF(февраль!AA32="","",февраль!AA32) | BE32: =IF(март!AA32="","",март!AA32) | BF32: =IF(апрель!AA32="","",апрель!AA32) | BG32: =IF(май!AA32="","",май!AA32) | BH32: =IF(AND(AY32="",AZ32="",BA32="",BB32="",BC32="",BD32="",BE32="",BF32="",BG32=""),"",SUM(AY32:BG32)) | BI32: =IF('Кол.часов по УП'!G31="","",'Кол.часов по УП'!G31) | BJ32: =IF(AND(BH32="",BI32=""),"",BH32/BI32*100) | BK32: =IF(сентябрь!AF32="","",сентябрь!AF32) | BL32: =IF(октябрь!AF32="","",октябрь!AF32) | BM32: =IF(ноябрь!AF32="","",ноябрь!AF32) | BN32: =IF(декабрь!AF32="","",декабрь!AF32) | BO32: =IF(январь!AF32="","",январь!AF32) | BP32: =IF(февраль!AF32="","",февраль!AF32) | BQ32: =IF(март!AF32="","",март!AF32) | BR32: =IF(апрель!AF32="","",апрель!AF32) | BS32: =IF(май!AF32="","",май!AF32) | BT32: =IF(AND(BK32="",BL32="",BM32="",BN32="",BO32="",BP32="",BQ32="",BR32="",BS32=""),"",SUM(BK32:BS32)) | BU32: =IF('Кол.часов по УП'!H31="","",'Кол.часов по УП'!H31) | BV32: =IF(AND(BT32="",BU32=""),"",BT32/BU32*100)
A33: 7 | B33: Изобразительное искусство | C33: =IF(сентябрь!G33="","",сентябрь!G33) -> 1 | D33: =IF(октябрь!G33="","",октябрь!G33) | E33: =IF(ноябрь!G33="","",ноябрь!G33) | F33: =IF(декабрь!G33="","",декабрь!G33) | G33: =IF(январь!G33="","",январь!G33) | H33: =IF(февраль!G33="","",февраль!G33) | I33: =IF(март!G33="","",март!G33) | J33: =IF(апрель!G33="","",апрель!G33) | K33: =IF(май!G33="","",май!G33) | L33: =IF(AND(C33="",D33="",E33="",F33="",G33="",H33="",I33="",J33="",K33=""),"",SUM(C33:K33)) -> 1 | M33: =IF('Кол.часов по УП'!C32="","",'Кол.часов по УП'!C32) -> 34 | N33: =IF(AND(L33="",M33=""),"",L33/M33*100) -> 2.9411765 | O33: =IF(сентябрь!L33="","",сентябрь!L33) -> 1 | P33: =IF(октябрь!L33="","",октябрь!L33) | Q33: =IF(ноябрь!L33="","",ноябрь!L33) | R33: =IF(декабрь!L33="","",декабрь!L33) | S33: =IF(январь!L33="","",январь!L33) | T33: =IF(февраль!L33="","",февраль!L33) | U33: =IF(март!L33="","",март!L33) | V33: =IF(апрель!L33="","",апрель!L33) | W33: =IF(май!L33="","",май!L33) | X33: =IF(AND(O33="",P33="",Q33="",R33="",S33="",T33="",U33="",V33="",W33=""),"",SUM(O33:W33)) -> 1 | Y33: =IF('Кол.часов по УП'!D32="","",'Кол.часов по УП'!D32) -> 34 | Z33: =IF(AND(X33="",Y33=""),"",X33/Y33*100) -> 2.9411765 | AA33: =IF(сентябрь!Q33="","",сентябрь!Q33) -> 1 | AB33: =IF(октябрь!Q33="","",октябрь!Q33) | AC33: =IF(ноябрь!Q33="","",ноябрь!Q33) | AD33: =IF(декабрь!Q33="","",декабрь!Q33) | AE33: =IF(январь!Q33="","",январь!Q33) -> 1 | AF33: =IF(февраль!Q33="","",февраль!Q33) | AG33: =IF(март!Q33="","",март!Q33) | AH33: =IF(апрель!Q33="","",апрель!Q33) | AI33: =IF(май!Q33="","",май!Q33) -> 1 | AJ33: =IF(AND(AA33="",AB33="",AC33="",AD33="",AE33="",AF33="",AG33="",AH33="",AI33=""),"",SUM(AA33:AI33)) -> 3 | AK33: =IF('Кол.часов по УП'!E32="","",'Кол.часов по УП'!E32) -> 34 | AL33: =IF(AND(AJ33="",AK33=""),"",AJ33/AK33*100) -> 8.8235294 | AM33: =IF(сентябрь!V33="","",сентябрь!V33) -> 1 | AN33: =IF(октябрь!V33="","",октябрь!V33) | AO33: =IF(ноябрь!V33="","",ноябрь!V33) | AP33: =IF(декабрь!V33="","",декабрь!V33) | AQ33: =IF(январь!V33="","",январь!V33) -> 1 | AR33: =IF(февраль!V33="","",февраль!V33) | AS33: =IF(март!V33="","",март!V33) | AT33: =IF(апрель!V33="","",апрель!V33) | AU33: =IF(май!V33="","",май!V33) -> 1 | AV33: =IF(AND(AM33="",AN33="",AO33="",AP33="",AQ33="",AR33="",AS33="",AT33="",AU33=""),"",SUM(AM33:AU33)) -> 3 | AW33: =IF('Кол.часов по УП'!F32="","",'Кол.часов по УП'!F32) -> 34 | AX33: =IF(AND(AV33="",AW33=""),"",AV33/AW33*100) -> 8.8235294 | AY33: =IF(сентябрь!AA33="","",сентябрь!AA33) | AZ33: =IF(октябрь!AA33="","",октябрь!AA33) | BA33: =IF(ноябрь!AA33="","",ноябрь!AA33) | BB33: =IF(декабрь!AA33="","",декабрь!AA33) | BC33: =IF(январь!AA33="","",январь!AA33) | BD33: =IF(февраль!AA33="","",февраль!AA33) | BE33: =IF(март!AA33="","",март!AA33) | BF33: =IF(апрель!AA33="","",апрель!AA33) | BG33: =IF(май!AA33="","",май!AA33) | BH33: =IF(AND(AY33="",AZ33="",BA33="",BB33="",BC33="",BD33="",BE33="",BF33="",BG33=""),"",SUM(AY33:BG33)) | BI33: =IF('Кол.часов по УП'!G32="","",'Кол.часов по УП'!G32) | BJ33: =IF(AND(BH33="",BI33=""),"",BH33/BI33*100) | BK33: =IF(сентябрь!AF33="","",сентябрь!AF33) | BL33: =IF(октябрь!AF33="","",октябрь!AF33) | BM33: =IF(ноябрь!AF33="","",ноябрь!AF33) | BN33: =IF(декабрь!AF33="","",декабрь!AF33) | BO33: =IF(январь!AF33="","",январь!AF33) | BP33: =IF(февраль!AF33="","",февраль!AF33) | BQ33: =IF(март!AF33="","",март!AF33) | BR33: =IF(апрель!AF33="","",апрель!AF33) | BS33: =IF(май!AF33="","",май!AF33) | BT33: =IF(AND(BK33="",BL33="",BM33="",BN33="",BO33="",BP33="",BQ33="",BR33="",BS33=""),"",SUM(BK33:BS33)) | BU33: =IF('Кол.часов по УП'!H32="","",'Кол.часов по УП'!H32) | BV33: =IF(AND(BT33="",BU33=""),"",BT33/BU33*100)
A34: 8 | B34: Труд (технология) | C34: =IF(сентябрь!G34="","",сентябрь!G34) | D34: =IF(октябрь!G34="","",октябрь!G34) | E34: =IF(ноябрь!G34="","",ноябрь!G34) | F34: =IF(декабрь!G34="","",декабрь!G34) | G34: =IF(январь!G34="","",январь!G34) | H34: =IF(февраль!G34="","",февраль!G34) | I34: =IF(март!G34="","",март!G34) | J34: =IF(апрель!G34="","",апрель!G34) | K34: =IF(май!G34="","",май!G34) -> 1 | L34: =IF(AND(C34="",D34="",E34="",F34="",G34="",H34="",I34="",J34="",K34=""),"",SUM(C34:K34)) -> 1 | M34: =IF('Кол.часов по УП'!C33="","",'Кол.часов по УП'!C33) -> 68 | N34: =IF(AND(L34="",M34=""),"",L34/M34*100) -> 1.4705882 | O34: =IF(сентябрь!L34="","",сентябрь!L34) | P34: =IF(октябрь!L34="","",октябрь!L34) | Q34: =IF(ноябрь!L34="","",ноябрь!L34) | R34: =IF(декабрь!L34="","",декабрь!L34) | S34: =IF(январь!L34="","",январь!L34) | T34: =IF(февраль!L34="","",февраль!L34) | U34: =IF(март!L34="","",март!L34) | V34: =IF(апрель!L34="","",апрель!L34) | W34: =IF(май!L34="","",май!L34) -> 1 | X34: =IF(AND(O34="",P34="",Q34="",R34="",S34="",T34="",U34="",V34="",W34=""),"",SUM(O34:W34)) -> 1 | Y34: =IF('Кол.часов по УП'!D33="","",'Кол.часов по УП'!D33) -> 68 | Z34: =IF(AND(X34="",Y34=""),"",X34/Y34*100) -> 1.4705882 | AA34: =IF(сентябрь!Q34="","",сентябрь!Q34) | AB34: =IF(октябрь!Q34="","",октябрь!Q34) | AC34: =IF(ноябрь!Q34="","",ноябрь!Q34) | AD34: =IF(декабрь!Q34="","",декабрь!Q34) | AE34: =IF(январь!Q34="","",январь!Q34) | AF34: =IF(февраль!Q34="","",февраль!Q34) | AG34: =IF(март!Q34="","",март!Q34) | AH34: =IF(апрель!Q34="","",апрель!Q34) | AI34: =IF(май!Q34="","",май!Q34) -> 1 | AJ34: =IF(AND(AA34="",AB34="",AC34="",AD34="",AE34="",AF34="",AG34="",AH34="",AI34=""),"",SUM(AA34:AI34)) -> 1 | AK34: =IF('Кол.часов по УП'!E33="","",'Кол.часов по УП'!E33) -> 68 | AL34: =IF(AND(AJ34="",AK34=""),"",AJ34/AK34*100) -> 1.4705882 | AM34: =IF(сентябрь!V34="","",сентябрь!V34) | AN34: =IF(октябрь!V34="","",октябрь!V34) | AO34: =IF(ноябрь!V34="","",ноябрь!V34) | AP34: =IF(декабрь!V34="","",декабрь!V34) | AQ34: =IF(январь!V34="","",январь!V34) | AR34: =IF(февраль!V34="","",февраль!V34) | AS34: =IF(март!V34="","",март!V34) | AT34: =IF(апрель!V34="","",апрель!V34) | AU34: =IF(май!V34="","",май!V34) -> 1 | AV34: =IF(AND(AM34="",AN34="",AO34="",AP34="",AQ34="",AR34="",AS34="",AT34="",AU34=""),"",SUM(AM34:AU34)) -> 1 | AW34: =IF('Кол.часов по УП'!F33="","",'Кол.часов по УП'!F33) -> 68 | AX34: =IF(AND(AV34="",AW34=""),"",AV34/AW34*100) -> 1.4705882 | AY34: =IF(сентябрь!AA34="","",сентябрь!AA34) | AZ34: =IF(октябрь!AA34="","",октябрь!AA34) | BA34: =IF(ноябрь!AA34="","",ноябрь!AA34) | BB34: =IF(декабрь!AA34="","",декабрь!AA34) | BC34: =IF(январь!AA34="","",январь!AA34) | BD34: =IF(февраль!AA34="","",февраль!AA34) | BE34: =IF(март!AA34="","",март!AA34) | BF34: =IF(апрель!AA34="","",апрель!AA34) | BG34: =IF(май!AA34="","",май!AA34) | BH34: =IF(AND(AY34="",AZ34="",BA34="",BB34="",BC34="",BD34="",BE34="",BF34="",BG34=""),"",SUM(AY34:BG34)) | BI34: =IF('Кол.часов по УП'!G33="","",'Кол.часов по УП'!G33) | BJ34: =IF(AND(BH34="",BI34=""),"",BH34/BI34*100) | BK34: =IF(сентябрь!AF34="","",сентябрь!AF34) | BL34: =IF(октябрь!AF34="","",октябрь!AF34) | BM34: =IF(ноябрь!AF34="","",ноябрь!AF34) | BN34: =IF(декабрь!AF34="","",декабрь!AF34) | BO34: =IF(январь!AF34="","",январь!AF34) | BP34: =IF(февраль!AF34="","",февраль!AF34) | BQ34: =IF(март!AF34="","",март!AF34) | BR34: =IF(апрель!AF34="","",апрель!AF34) | BS34: =IF(май!AF34="","",май!AF34) | BT34: =IF(AND(BK34="",BL34="",BM34="",BN34="",BO34="",BP34="",BQ34="",BR34="",BS34=""),"",SUM(BK34:BS34)) | BU34: =IF('Кол.часов по УП'!H33="","",'Кол.часов по УП'!H33) | BV34: =IF(AND(BT34="",BU34=""),"",BT34/BU34*100)
A35: 9 | B35: Физическая культура | C35: =IF(сентябрь!G35="","",сентябрь!G35) | D35: =IF(октябрь!G35="","",октябрь!G35) -> 1 | E35: =IF(ноябрь!G35="","",ноябрь!G35) | F35: =IF(декабрь!G35="","",декабрь!G35) | G35: =IF(январь!G35="","",январь!G35) | H35: =IF(февраль!G35="","",февраль!G35) | I35: =IF(март!G35="","",март!G35) | J35: =IF(апрель!G35="","",апрель!G35) | K35: =IF(май!G35="","",май!G35) | L35: =IF(AND(C35="",D35="",E35="",F35="",G35="",H35="",I35="",J35="",K35=""),"",SUM(C35:K35)) -> 1 | M35: =IF('Кол.часов по УП'!C34="","",'Кол.часов по УП'!C34) -> 68 | N35: =IF(AND(L35="",M35=""),"",L35/M35*100) -> 1.4705882 | O35: =IF(сентябрь!L35="","",сентябрь!L35) | P35: =IF(октябрь!L35="","",октябрь!L35) -> 1 | Q35: =IF(ноябрь!L35="","",ноябрь!L35) | R35: =IF(декабрь!L35="","",декабрь!L35) | S35: =IF(январь!L35="","",январь!L35) | T35: =IF(февраль!L35="","",февраль!L35) | U35: =IF(март!L35="","",март!L35) | V35: =IF(апрель!L35="","",апрель!L35) | W35: =IF(май!L35="","",май!L35) | X35: =IF(AND(O35="",P35="",Q35="",R35="",S35="",T35="",U35="",V35="",W35=""),"",SUM(O35:W35)) -> 1 | Y35: =IF('Кол.часов по УП'!D34="","",'Кол.часов по УП'!D34) -> 68 | Z35: =IF(AND(X35="",Y35=""),"",X35/Y35*100) -> 1.4705882 | AA35: =IF(сентябрь!Q35="","",сентябрь!Q35) | AB35: =IF(октябрь!Q35="","",октябрь!Q35) -> 1 | AC35: =IF(ноябрь!Q35="","",ноябрь!Q35) | AD35: =IF(декабрь!Q35="","",декабрь!Q35) | AE35: =IF(январь!Q35="","",январь!Q35) | AF35: =IF(февраль!Q35="","",февраль!Q35) | AG35: =IF(март!Q35="","",март!Q35) | AH35: =IF(апрель!Q35="","",апрель!Q35) | AI35: =IF(май!Q35="","",май!Q35) | AJ35: =IF(AND(AA35="",AB35="",AC35="",AD35="",AE35="",AF35="",AG35="",AH35="",AI35=""),"",SUM(AA35:AI35)) -> 1 | AK35: =IF('Кол.часов по УП'!E34="","",'Кол.часов по УП'!E34) -> 68 | AL35: =IF(AND(AJ35="",AK35=""),"",AJ35/AK35*100) -> 1.4705882 | AM35: =IF(сентябрь!V35="","",сентябрь!V35) | AN35: =IF(октябрь!V35="","",октябрь!V35) -> 1 | AO35: =IF(ноябрь!V35="","",ноябрь!V35) | AP35: =IF(декабрь!V35="","",декабрь!V35) | AQ35: =IF(январь!V35="","",январь!V35) | AR35: =IF(февраль!V35="","",февраль!V35) | AS35: =IF(март!V35="","",март!V35) | AT35: =IF(апрель!V35="","",апрель!V35) | AU35: =IF(май!V35="","",май!V35) | AV35: =IF(AND(AM35="",AN35="",AO35="",AP35="",AQ35="",AR35="",AS35="",AT35="",AU35=""),"",SUM(AM35:AU35)) -> 1 | AW35: =IF('Кол.часов по УП'!F34="","",'Кол.часов по УП'!F34) -> 68 | AX35: =IF(AND(AV35="",AW35=""),"",AV35/AW35*100) -> 1.4705882 | AY35: =IF(сентябрь!AA35="","",сентябрь!AA35) | AZ35: =IF(октябрь!AA35="","",октябрь!AA35) | BA35: =IF(ноябрь!AA35="","",ноябрь!AA35) | BB35: =IF(декабрь!AA35="","",декабрь!AA35) | BC35: =IF(январь!AA35="","",январь!AA35) | BD35: =IF(февраль!AA35="","",февраль!AA35) | BE35: =IF(март!AA35="","",март!AA35) | BF35: =IF(апрель!AA35="","",апрель!AA35) | BG35: =IF(май!AA35="","",май!AA35) | BH35: =IF(AND(AY35="",AZ35="",BA35="",BB35="",BC35="",BD35="",BE35="",BF35="",BG35=""),"",SUM(AY35:BG35)) | BI35: =IF('Кол.часов по УП'!G34="","",'Кол.часов по УП'!G34) | BJ35: =IF(AND(BH35="",BI35=""),"",BH35/BI35*100) | BK35: =IF(сентябрь!AF35="","",сентябрь!AF35) | BL35: =IF(октябрь!AF35="","",октябрь!AF35) | BM35: =IF(ноябрь!AF35="","",ноябрь!AF35) | BN35: =IF(декабрь!AF35="","",декабрь!AF35) | BO35: =IF(январь!AF35="","",январь!AF35) | BP35: =IF(февраль!AF35="","",февраль!AF35) | BQ35: =IF(март!AF35="","",март!AF35) | BR35: =IF(апрель!AF35="","",апрель!AF35) | BS35: =IF(май!AF35="","",май!AF35) | BT35: =IF(AND(BK35="",BL35="",BM35="",BN35="",BO35="",BP35="",BQ35="",BR35="",BS35=""),"",SUM(BK35:BS35)) | BU35: =IF('Кол.часов по УП'!H34="","",'Кол.часов по УП'!H34) | BV35: =IF(AND(BT35="",BU35=""),"",BT35/BU35*100)
C37: 4 А | O37: 4 Б | AA37: 4 В | AM37: 4 Г | AY37: 4 Д
B38: Предметы | C38: сентябрь | D38: октябрь | E38: ноябрь | F38: декабрь | G38: январь | H38: февраль | I38: март | J38: апрель | K38: май | L38: Всего оценочных процедур за год | M38: Кол-во часов по учебному плану (УП) | N38: % соотношение кол-ва оценочных процедур к кол-ву часов УП | O38: сентябрь | P38: октябрь | Q38: ноябрь | R38: декабрь | S38: январь | T38: февраль | U38: март | V38: апрель | W38: май | X38: Всего оценочных процедур за год | Y38: Кол-во часов по учебному плану (УП) | Z38: % соотношение кол-ва оценочных процедур к кол-ву часов УП | AA38: сентябрь | AB38: октябрь | AC38: ноябрь | AD38: декабрь | AE38: январь | AF38: февраль | AG38: март | AH38: апрель | AI38: май | AJ38: Всего оценочных процедур за год | AK38: Кол-во часов по учебному плану (УП) | AL38: % соотношение кол-ва оценочных процедур к кол-ву часов УП | AM38: сентябрь | AN38: октябрь | AO38: ноябрь | AP38: декабрь | AQ38: январь | AR38: февраль | AS38: март | AT38: апрель | AU38: май | AV38: Всего оценочных процедур за год | AW38: Кол-во часов по учебному плану (УП) | AX38: % соотношение кол-ва оценочных процедур к кол-ву часов УП | AY38: сентябрь | AZ38: октябрь | BA38: ноябрь | BB38: декабрь | BC38: январь | BD38: февраль | BE38: март | BF38: апрель | BG38: май | BH38: Всего оценочных процедур за год | BI38: Кол-во часов по учебному плану (УП) | BJ38: % соотношение кол-ва оценочных процедур к кол-ву часов УП | BK38: сентябрь | BL38: октябрь | BM38: ноябрь | BN38: декабрь | BO38: январь | BP38: февраль | BQ38: март | BR38: апрель | BS38: май | BT38: Всего оценочных процедур за год | BU38: Кол-во часов по учебному плану (УП) | BV38: % соотношение кол-ва оценочных процедур к кол-ву часов УП
A39: 1 | B39: Русский язык | C39: =IF(сентябрь!G39="","",сентябрь!G39) -> 1 | D39: =IF(октябрь!G39="","",октябрь!G39) -> 1 | E39: =IF(ноябрь!G39="","",ноябрь!G39) -> 1 | F39: =IF(декабрь!G39="","",декабрь!G39) | G39: =IF(январь!G39="","",январь!G39) -> 1 | H39: =IF(февраль!G39="","",февраль!G39) -> 1 | I39: =IF(март!G39="","",март!G39) -> 1 | J39: =IF(апрель!G39="","",апрель!G39) -> 2 | K39: =IF(май!G39="","",май!G39) -> 2 | L39: =IF(AND(C39="",D39="",E39="",F39="",G39="",H39="",I39="",J39="",K39=""),"",SUM(C39:K39)) -> 10 | M39: =IF('Кол.часов по УП'!C38="","",'Кол.часов по УП'!C38) -> 170 | N39: =IF(AND(L39="",M39=""),"",L39/M39*100) -> 5.8823529 | O39: =IF(сентябрь!L39="","",сентябрь!L39) -> 1 | P39: =IF(октябрь!L39="","",октябрь!L39) -> 1 | Q39: =IF(ноябрь!L39="","",ноябрь!L39) -> 1 | R39: =IF(декабрь!L39="","",декабрь!L39) | S39: =IF(январь!L39="","",январь!L39) -> 1 | T39: =IF(февраль!L39="","",февраль!L39) -> 1 | U39: =IF(март!L39="","",март!L39) -> 1 | V39: =IF(апрель!L39="","",апрель!L39) -> 2 | W39: =IF(май!L39="","",май!L39) -> 2 | X39: =IF(AND(O39="",P39="",Q39="",R39="",S39="",T39="",U39="",V39="",W39=""),"",SUM(O39:W39)) -> 10 | Y39: =IF('Кол.часов по УП'!D38="","",'Кол.часов по УП'!D38) -> 170 | Z39: =IF(AND(X39="",Y39=""),"",X39/Y39*100) -> 5.8823529 | AA39: =IF(сентябрь!Q39="","",сентябрь!Q39) -> 1 | AB39: =IF(октябрь!Q39="","",октябрь!Q39) -> 1 | AC39: =IF(ноябрь!Q39="","",ноябрь!Q39) -> 1 | AD39: =IF(декабрь!Q39="","",декабрь!Q39) | AE39: =IF(январь!Q39="","",январь!Q39) -> 1 | AF39: =IF(февраль!Q39="","",февраль!Q39) -> 1 | AG39: =IF(март!Q39="","",март!Q39) -> 1 | AH39: =IF(апрель!Q39="","",апрель!Q39) -> 2 | AI39: =IF(май!Q39="","",май!Q39) -> 2 | AJ39: =IF(AND(AA39="",AB39="",AC39="",AD39="",AE39="",AF39="",AG39="",AH39="",AI39=""),"",SUM(AA39:AI39)) -> 10 | AK39: =IF('Кол.часов по УП'!E38="","",'Кол.часов по УП'!E38) -> 170 | AL39: =IF(AND(AJ39="",AK39=""),"",AJ39/AK39*100) -> 5.8823529 | AM39: =IF(сентябрь!V39="","",сентябрь!V39) -> 1 | AN39: =IF(октябрь!V39="","",октябрь!V39) -> 1 | AO39: =IF(ноябрь!V39="","",ноябрь!V39) -> 1 | AP39: =IF(декабрь!V39="","",декабрь!V39) -> 1 | AQ39: =IF(январь!V39="","",январь!V39) -> 0 | AR39: =IF(февраль!V39="","",февраль!V39) -> 1 | AS39: =IF(март!V39="","",март!V39) -> 1 | AT39: =IF(апрель!V39="","",апрель!V39) -> 1 | AU39: =IF(май!V39="","",май!V39) -> 2 | AV39: =IF(AND(AM39="",AN39="",AO39="",AP39="",AQ39="",AR39="",AS39="",AT39="",AU39=""),"",SUM(AM39:AU39)) -> 9 | AW39: =IF('Кол.часов по УП'!F38="","",'Кол.часов по УП'!F38) -> 170 | AX39: =IF(AND(AV39="",AW39=""),"",AV39/AW39*100) -> 5.2941176 | AY39: =IF(сентябрь!AA39="","",сентябрь!AA39) -> 1 | AZ39: =IF(октябрь!AA39="","",октябрь!AA39) -> 1 | BA39: =IF(ноябрь!AA39="","",ноябрь!AA39) -> 1 | BB39: =IF(декабрь!AA39="","",декабрь!AA39) | BC39: =IF(январь!AA39="","",январь!AA39) -> 1 | BD39: =IF(февраль!AA39="","",февраль!AA39) -> 1 | BE39: =IF(март!AA39="","",март!AA39) -> 1 | BF39: =IF(апрель!AA39="","",апрель!AA39) -> 2 | BG39: =IF(май!AA39="","",май!AA39) -> 2 | BH39: =IF(AND(AY39="",AZ39="",BA39="",BB39="",BC39="",BD39="",BE39="",BF39="",BG39=""),"",SUM(AY39:BG39)) -> 10 | BI39: =IF('Кол.часов по УП'!G38="","",'Кол.часов по УП'!G38) -> 170 | BJ39: =IF(AND(BH39="",BI39=""),"",BH39/BI39*100) -> 5.8823529 | BK39: =IF(сентябрь!AF39="","",сентябрь!AF39) -> 1 | BL39: =IF(октябрь!AF39="","",октябрь!AF39) -> 1 | BM39: =IF(ноябрь!AF39="","",ноябрь!AF39) -> 1 | BN39: =IF(декабрь!AF39="","",декабрь!AF39) -> 2 | BO39: =IF(январь!AF39="","",январь!AF39) -> 1 | BP39: =IF(февраль!AF39="","",февраль!AF39) -> 1 | BQ39: =IF(март!AF39="","",март!AF39) -> 1 | BR39: =IF(апрель!AF39="","",апрель!AF39) -> 2 | BS39: =IF(май!AF39="","",май!AF39) -> 2 | BT39: =IF(AND(BK39="",BL39="",BM39="",BN39="",BO39="",BP39="",BQ39="",BR39="",BS39=""),"",SUM(BK39:BS39)) -> 12 | BU39: =IF('Кол.часов по УП'!H38="","",'Кол.часов по УП'!H38) -> 170 | BV39: =IF(AND(BT39="",BU39=""),"",BT39/BU39*100) -> 7.0588235
A40: 2 | B40: Литературное чтение | C40: =IF(сентябрь!G40="","",сентябрь!G40) -> 1 | D40: =IF(октябрь!G40="","",октябрь!G40) -> 1 | E40: =IF(ноябрь!G40="","",ноябрь!G40) -> 1 | F40: =IF(декабрь!G40="","",декабрь!G40) | G40: =IF(январь!G40="","",январь!G40) -> 1 | H40: =IF(февраль!G40="","",февраль!G40) | I40: =IF(март!G40="","",март!G40) -> 1 | J40: =IF(апрель!G40="","",апрель!G40) -> 1 | K40: =IF(май!G40="","",май!G40) -> 2 | L40: =IF(AND(C40="",D40="",E40="",F40="",G40="",H40="",I40="",J40="",K40=""),"",SUM(C40:K40)) -> 8 | M40: =IF('Кол.часов по УП'!C39="","",'Кол.часов по УП'!C39) -> 136 | N40: =IF(AND(L40="",M40=""),"",L40/M40*100) -> 5.8823529 | O40: =IF(сентябрь!L40="","",сентябрь!L40) -> 1 | P40: =IF(октябрь!L40="","",октябрь!L40) -> 1 | Q40: =IF(ноябрь!L40="","",ноябрь!L40) -> 1 | R40: =IF(декабрь!L40="","",декабрь!L40) | S40: =IF(январь!L40="","",январь!L40) -> 1 | T40: =IF(февраль!L40="","",февраль!L40) | U40: =IF(март!L40="","",март!L40) -> 1 | V40: =IF(апрель!L40="","",апрель!L40) -> 1 | W40: =IF(май!L40="","",май!L40) -> 2 | X40: =IF(AND(O40="",P40="",Q40="",R40="",S40="",T40="",U40="",V40="",W40=""),"",SUM(O40:W40)) -> 8 | Y40: =IF('Кол.часов по УП'!D39="","",'Кол.часов по УП'!D39) -> 136 | Z40: =IF(AND(X40="",Y40=""),"",X40/Y40*100) -> 5.8823529 | AA40: =IF(сентябрь!Q40="","",сентябрь!Q40) -> 1 | AB40: =IF(октябрь!Q40="","",октябрь!Q40) -> 1 | AC40: =IF(ноябрь!Q40="","",ноябрь!Q40) -> 1 | AD40: =IF(декабрь!Q40="","",декабрь!Q40) | AE40: =IF(январь!Q40="","",январь!Q40) -> 1 | AF40: =IF(февраль!Q40="","",февраль!Q40) | AG40: =IF(март!Q40="","",март!Q40) -> 1 | AH40: =IF(апрель!Q40="","",апрель!Q40) -> 1 | AI40: =IF(май!Q40="","",май!Q40) -> 2 | AJ40: =IF(AND(AA40="",AB40="",AC40="",AD40="",AE40="",AF40="",AG40="",AH40="",AI40=""),"",SUM(AA40:AI40)) -> 8 | AK40: =IF('Кол.часов по УП'!E39="","",'Кол.часов по УП'!E39) -> 136 | AL40: =IF(AND(AJ40="",AK40=""),"",AJ40/AK40*100) -> 5.8823529 | AM40: =IF(сентябрь!V40="","",сентябрь!V40) -> 1 | AN40: =IF(октябрь!V40="","",октябрь!V40) -> 1 | AO40: =IF(ноябрь!V40="","",ноябрь!V40) -> 1 | AP40: =IF(декабрь!V40="","",декабрь!V40) -> 0 | AQ40: =IF(январь!V40="","",январь!V40) -> 1 | AR40: =IF(февраль!V40="","",февраль!V40) -> 0 | AS40: =IF(март!V40="","",март!V40) -> 1 | AT40: =IF(апрель!V40="","",апрель!V40) -> 1 | AU40: =IF(май!V40="","",май!V40) -> 1 | AV40: =IF(AND(AM40="",AN40="",AO40="",AP40="",AQ40="",AR40="",AS40="",AT40="",AU40=""),"",SUM(AM40:AU40)) -> 7 | AW40: =IF('Кол.часов по УП'!F39="","",'Кол.часов по УП'!F39) -> 136 | AX40: =IF(AND(AV40="",AW40=""),"",AV40/AW40*100) -> 5.1470588 | AY40: =IF(сентябрь!AA40="","",сентябрь!AA40) -> 1 | AZ40: =IF(октябрь!AA40="","",октябрь!AA40) -> 1 | BA40: =IF(ноябрь!AA40="","",ноябрь!AA40) -> 1 | BB40: =IF(декабрь!AA40="","",декабрь!AA40) | BC40: =IF(январь!AA40="","",январь!AA40) -> 1 | BD40: =IF(февраль!AA40="","",февраль!AA40) | BE40: =IF(март!AA40="","",март!AA40) -> 1 | BF40: =IF(апрель!AA40="","",апрель!AA40) -> 1 | BG40: =IF(май!AA40="","",май!AA40) -> 2 | BH40: =IF(AND(AY40="",AZ40="",BA40="",BB40="",BC40="",BD40="",BE40="",BF40="",BG40=""),"",SUM(AY40:BG40)) -> 8 | BI40: =IF('Кол.часов по УП'!G39="","",'Кол.часов по УП'!G39) -> 136 | BJ40: =IF(AND(BH40="",BI40=""),"",BH40/BI40*100) -> 5.8823529 | BK40: =IF(сентябрь!AF40="","",сентябрь!AF40) -> 1 | BL40: =IF(октябрь!AF40="","",октябрь!AF40) -> 1 | BM40: =IF(ноябрь!AF40="","",ноябрь!AF40) | BN40: =IF(декабрь!AF40="","",декабрь!AF40) -> 1 | BO40: =IF(январь!AF40="","",январь!AF40) | BP40: =IF(февраль!AF40="","",февраль!AF40) -> 1 | BQ40: =IF(март!AF40="","",март!AF40) | BR40: =IF(апрель!AF40="","",апрель!AF40) -> 1 | BS40: =IF(май!AF40="","",май!AF40) -> 1 | BT40: =IF(AND(BK40="",BL40="",BM40="",BN40="",BO40="",BP40="",BQ40="",BR40="",BS40=""),"",SUM(BK40:BS40)) -> 6 | BU40: =IF('Кол.часов по УП'!H39="","",'Кол.часов по УП'!H39) -> 136 | BV40: =IF(AND(BT40="",BU40=""),"",BT40/BU40*100) -> 4.4117647
A41: 3 | B41: Иностранный язык (английский) | C41: =IF(сентябрь!G41="","",сентябрь!G41) | D41: =IF(октябрь!G41="","",октябрь!G41) -> 1 | E41: =IF(ноябрь!G41="","",ноябрь!G41) | F41: =IF(декабрь!G41="","",декабрь!G41) -> 1 | G41: =IF(январь!G41="","",январь!G41) | H41: =IF(февраль!G41="","",февраль!G41) | I41: =IF(март!G41="","",март!G41) | J41: =IF(апрель!G41="","",апрель!G41) -> 1 | K41: =IF(май!G41="","",май!G41) | L41: =IF(AND(C41="",D41="",E41="",F41="",G41="",H41="",I41="",J41="",K41=""),"",SUM(C41:K41)) -> 3 | M41: =IF('Кол.часов по УП'!C40="","",'Кол.часов по УП'!C40) -> 68 | N41: =IF(AND(L41="",M41=""),"",L41/M41*100) -> 4.4117647 | O41: =IF(сентябрь!L41="","",сентябрь!L41) | P41: =IF(октябрь!L41="","",октябрь!L41) -> 1 | Q41: =IF(ноябрь!L41="","",ноябрь!L41) | R41: =IF(декабрь!L41="","",декабрь!L41) -> 1 | S41: =IF(январь!L41="","",январь!L41) | T41: =IF(февраль!L41="","",февраль!L41) | U41: =IF(март!L41="","",март!L41) | V41: =IF(апрель!L41="","",апрель!L41) -> 1 | W41: =IF(май!L41="","",май!L41) | X41: =IF(AND(O41="",P41="",Q41="",R41="",S41="",T41="",U41="",V41="",W41=""),"",SUM(O41:W41)) -> 3 | Y41: =IF('Кол.часов по УП'!D40="","",'Кол.часов по УП'!D40) -> 68 | Z41: =IF(AND(X41="",Y41=""),"",X41/Y41*100) -> 4.4117647 | AA41: =IF(сентябрь!Q41="","",сентябрь!Q41) | AB41: =IF(октябрь!Q41="","",октябрь!Q41) -> 1 | AC41: =IF(ноябрь!Q41="","",ноябрь!Q41) | AD41: =IF(декабрь!Q41="","",декабрь!Q41) -> 1 | AE41: =IF(январь!Q41="","",январь!Q41) | AF41: =IF(февраль!Q41="","",февраль!Q41) | AG41: =IF(март!Q41="","",март!Q41) | AH41: =IF(апрель!Q41="","",апрель!Q41) -> 1 | AI41: =IF(май!Q41="","",май!Q41) | AJ41: =IF(AND(AA41="",AB41="",AC41="",AD41="",AE41="",AF41="",AG41="",AH41="",AI41=""),"",SUM(AA41:AI41)) -> 3 | AK41: =IF('Кол.часов по УП'!E40="","",'Кол.часов по УП'!E40) -> 68 | AL41: =IF(AND(AJ41="",AK41=""),"",AJ41/AK41*100) -> 4.4117647 | AM41: =IF(сентябрь!V41="","",сентябрь!V41) | AN41: =IF(октябрь!V41="","",октябрь!V41) -> 1 | AO41: =IF(ноябрь!V41="","",ноябрь!V41) | AP41: =IF(декабрь!V41="","",декабрь!V41) -> 1 | AQ41: =IF(январь!V41="","",январь!V41) | AR41: =IF(февраль!V41="","",февраль!V41) | AS41: =IF(март!V41="","",март!V41) | AT41: =IF(апрель!V41="","",апрель!V41) -> 1 | AU41: =IF(май!V41="","",май!V41) | AV41: =IF(AND(AM41="",AN41="",AO41="",AP41="",AQ41="",AR41="",AS41="",AT41="",AU41=""),"",SUM(AM41:AU41)) -> 3 | AW41: =IF('Кол.часов по УП'!F40="","",'Кол.часов по УП'!F40) -> 68 | AX41: =IF(AND(AV41="",AW41=""),"",AV41/AW41*100) -> 4.4117647 | AY41: =IF(сентябрь!AA41="","",сентябрь!AA41) | AZ41: =IF(октябрь!AA41="","",октябрь!AA41) -> 1 | BA41: =IF(ноябрь!AA41="","",ноябрь!AA41) | BB41: =IF(декабрь!AA41="","",декабрь!AA41) -> 1 | BC41: =IF(январь!AA41="","",январь!AA41) | BD41: =IF(февраль!AA41="","",февраль!AA41) | BE41: =IF(март!AA41="","",март!AA41) | BF41: =IF(апрель!AA41="","",апрель!AA41) -> 1 | BG41: =IF(май!AA41="","",май!AA41) | BH41: =IF(AND(AY41="",AZ41="",BA41="",BB41="",BC41="",BD41="",BE41="",BF41="",BG41=""),"",SUM(AY41:BG41)) -> 3 | BI41: =IF('Кол.часов по УП'!G40="","",'Кол.часов по УП'!G40) -> 68 | BJ41: =IF(AND(BH41="",BI41=""),"",BH41/BI41*100) -> 4.4117647 | BK41: =IF(сентябрь!AF41="","",сентябрь!AF41) | BL41: =IF(октябрь!AF41="","",октябрь!AF41) -> 1 | BM41: =IF(ноябрь!AF41="","",ноябрь!AF41) | BN41: =IF(декабрь!AF41="","",декабрь!AF41) -> 1 | BO41: =IF(январь!AF41="","",январь!AF41) | BP41: =IF(февраль!AF41="","",февраль!AF41) | BQ41: =IF(март!AF41="","",март!AF41) | BR41: =IF(апрель!AF41="","",апрель!AF41) -> 1 | BS41: =IF(май!AF41="","",май!AF41) | BT41: =IF(AND(BK41="",BL41="",BM41="",BN41="",BO41="",BP41="",BQ41="",BR41="",BS41=""),"",SUM(BK41:BS41)) -> 3 | BU41: =IF('Кол.часов по УП'!H40="","",'Кол.часов по УП'!H40) -> 68 | BV41: =IF(AND(BT41="",BU41=""),"",BT41/BU41*100) -> 4.4117647
A42: 4 | B42: Математика | C42: =IF(сентябрь!G42="","",сентябрь!G42) | D42: =IF(октябрь!G42="","",октябрь!G42) -> 1 | E42: =IF(ноябрь!G42="","",ноябрь!G42) | F42: =IF(декабрь!G42="","",декабрь!G42) -> 1 | G42: =IF(январь!G42="","",январь!G42) -> 1 | H42: =IF(февраль!G42="","",февраль!G42) | I42: =IF(март!G42="","",март!G42) -> 1 | J42: =IF(апрель!G42="","",апрель!G42) -> 2 | K42: =IF(май!G42="","",май!G42) -> 1 | L42: =IF(AND(C42="",D42="",E42="",F42="",G42="",H42="",I42="",J42="",K42=""),"",SUM(C42:K42)) -> 7 | M42: =IF('Кол.часов по УП'!C41="","",'Кол.часов по УП'!C41) -> 136 | N42: =IF(AND(L42="",M42=""),"",L42/M42*100) -> 5.1470588 | O42: =IF(сентябрь!L42="","",сентябрь!L42) | P42: =IF(октябрь!L42="","",октябрь!L42) -> 1 | Q42: =IF(ноябрь!L42="","",ноябрь!L42) | R42: =IF(декабрь!L42="","",декабрь!L42) -> 1 | S42: =IF(январь!L42="","",январь!L42) -> 1 | T42: =IF(февраль!L42="","",февраль!L42) | U42: =IF(март!L42="","",март!L42) -> 1 | V42: =IF(апрель!L42="","",апрель!L42) -> 2 | W42: =IF(май!L42="","",май!L42) -> 1 | X42: =IF(AND(O42="",P42="",Q42="",R42="",S42="",T42="",U42="",V42="",W42=""),"",SUM(O42:W42)) -> 7 | Y42: =IF('Кол.часов по УП'!D41="","",'Кол.часов по УП'!D41) -> 136 | Z42: =IF(AND(X42="",Y42=""),"",X42/Y42*100) -> 5.1470588 | AA42: =IF(сентябрь!Q42="","",сентябрь!Q42) -> 1 | AB42: =IF(октябрь!Q42="","",октябрь!Q42) -> 1 | AC42: =IF(ноябрь!Q42="","",ноябрь!Q42) | AD42: =IF(декабрь!Q42="","",декабрь!Q42) -> 1 | AE42: =IF(январь!Q42="","",январь!Q42) -> 1 | AF42: =IF(февраль!Q42="","",февраль!Q42) | AG42: =IF(март!Q42="","",март!Q42) -> 1 | AH42: =IF(апрель!Q42="","",апрель!Q42) -> 2 | AI42: =IF(май!Q42="","",май!Q42) -> 1 | AJ42: =IF(AND(AA42="",AB42="",AC42="",AD42="",AE42="",AF42="",AG42="",AH42="",AI42=""),"",SUM(AA42:AI42)) -> 8 | AK42: =IF('Кол.часов по УП'!E41="","",'Кол.часов по УП'!E41) -> 136 | AL42: =IF(AND(AJ42="",AK42=""),"",AJ42/AK42*100) -> 5.8823529 | AM42: =IF(сентябрь!V42="","",сентябрь!V42) -> 0 | AN42: =IF(октябрь!V42="","",октябрь!V42) -> 2 | AO42: =IF(ноябрь!V42="","",ноябрь!V42) -> 0 | AP42: =IF(декабрь!V42="","",декабрь!V42) -> 1 | AQ42: =IF(январь!V42="","",январь!V42) -> 1 | AR42: =IF(февраль!V42="","",февраль!V42) -> 0 | AS42: =IF(март!V42="","",март!V42) -> 1 | AT42: =IF(апрель!V42="","",апрель!V42) -> 2 | AU42: =IF(май!V42="","",май!V42) -> 1 | AV42: =IF(AND(AM42="",AN42="",AO42="",AP42="",AQ42="",AR42="",AS42="",AT42="",AU42=""),"",SUM(AM42:AU42)) -> 8 | AW42: =IF('Кол.часов по УП'!F41="","",'Кол.часов по УП'!F41) -> 136 | AX42: =IF(AND(AV42="",AW42=""),"",AV42/AW42*100) -> 5.8823529 | AY42: =IF(сентябрь!AA42="","",сентябрь!AA42) | AZ42: =IF(октябрь!AA42="","",октябрь!AA42) -> 1 | BA42: =IF(ноябрь!AA42="","",ноябрь!AA42) | BB42: =IF(декабрь!AA42="","",декабрь!AA42) -> 1 | BC42: =IF(январь!AA42="","",январь!AA42) -> 1 | BD42: =IF(февраль!AA42="","",февраль!AA42) | BE42: =IF(март!AA42="","",март!AA42) -> 1 | BF42: =IF(апрель!AA42="","",апрель!AA42) -> 2 | BG42: =IF(май!AA42="","",май!AA42) -> 1 | BH42: =IF(AND(AY42="",AZ42="",BA42="",BB42="",BC42="",BD42="",BE42="",BF42="",BG42=""),"",SUM(AY42:BG42)) -> 7 | BI42: =IF('Кол.часов по УП'!G41="","",'Кол.часов по УП'!G41) -> 136 | BJ42: =IF(AND(BH42="",BI42=""),"",BH42/BI42*100) -> 5.1470588 | BK42: =IF(сентябрь!AF42="","",сентябрь!AF42) -> 1 | BL42: =IF(октябрь!AF42="","",октябрь!AF42) -> 1 | BM42: =IF(ноябрь!AF42="","",ноябрь!AF42) -> 1 | BN42: =IF(декабрь!AF42="","",декабрь!AF42) -> 2 | BO42: =IF(январь!AF42="","",январь!AF42) -> 1 | BP42: =IF(февраль!AF42="","",февраль!AF42) -> 1 | BQ42: =IF(март!AF42="","",март!AF42) -> 1 | BR42: =IF(апрель!AF42="","",апрель!AF42) -> 2 | BS42: =IF(май!AF42="","",май!AF42) -> 1 | BT42: =IF(AND(BK42="",BL42="",BM42="",BN42="",BO42="",BP42="",BQ42="",BR42="",BS42=""),"",SUM(BK42:BS42)) -> 11 | BU42: =IF('Кол.часов по УП'!H41="","",'Кол.часов по УП'!H41) -> 136 | BV42: =IF(AND(BT42="",BU42=""),"",BT42/BU42*100) -> 8.0882353
A43: 5 | B43: Окружающий мир | C43: =IF(сентябрь!G43="","",сентябрь!G43) -> 1 | D43: =IF(октябрь!G43="","",октябрь!G43) -> 1 | E43: =IF(ноябрь!G43="","",ноябрь!G43) | F43: =IF(декабрь!G43="","",декабрь!G43) -> 1 | G43: =IF(январь!G43="","",январь!G43) -> 1 | H43: =IF(февраль!G43="","",февраль!G43) | I43: =IF(март!G43="","",март!G43) | J43: =IF(апрель!G43="","",апрель!G43) | K43: =IF(май!G43="","",май!G43) -> 2 | L43: =IF(AND(C43="",D43="",E43="",F43="",G43="",H43="",I43="",J43="",K43=""),"",SUM(C43:K43)) -> 6 | M43: =IF('Кол.часов по УП'!C42="","",'Кол.часов по УП'!C42) -> 68 | N43: =IF(AND(L43="",M43=""),"",L43/M43*100) -> 8.8235294 | O43: =IF(сентябрь!L43="","",сентябрь!L43) -> 1 | P43: =IF(октябрь!L43="","",октябрь!L43) -> 1 | Q43: =IF(ноябрь!L43="","",ноябрь!L43) | R43: =IF(декабрь!L43="","",декабрь!L43) -> 1 | S43: =IF(январь!L43="","",январь!L43) -> 1 | T43: =IF(февраль!L43="","",февраль!L43) | U43: =IF(март!L43="","",март!L43) | V43: =IF(апрель!L43="","",апрель!L43) | W43: =IF(май!L43="","",май!L43) -> 2 | X43: =IF(AND(O43="",P43="",Q43="",R43="",S43="",T43="",U43="",V43="",W43=""),"",SUM(O43:W43)) -> 6 | Y43: =IF('Кол.часов по УП'!D42="","",'Кол.часов по УП'!D42) -> 68 | Z43: =IF(AND(X43="",Y43=""),"",X43/Y43*100) -> 8.8235294 | AA43: =IF(сентябрь!Q43="","",сентябрь!Q43) | AB43: =IF(октябрь!Q43="","",октябрь!Q43) -> 1 | AC43: =IF(ноябрь!Q43="","",ноябрь!Q43) | AD43: =IF(декабрь!Q43="","",декабрь!Q43) -> 1 | AE43: =IF(январь!Q43="","",январь!Q43) -> 1 | AF43: =IF(февраль!Q43="","",февраль!Q43) | AG43: =IF(март!Q43="","",март!Q43) | AH43: =IF(апрель!Q43="","",апрель!Q43) | AI43: =IF(май!Q43="","",май!Q43) -> 2 | AJ43: =IF(AND(AA43="",AB43="",AC43="",AD43="",AE43="",AF43="",AG43="",AH43="",AI43=""),"",SUM(AA43:AI43)) -> 5 | AK43: =IF('Кол.часов по УП'!E42="","",'Кол.часов по УП'!E42) -> 68 | AL43: =IF(AND(AJ43="",AK43=""),"",AJ43/AK43*100) -> 7.3529412 | AM43: =IF(сентябрь!V43="","",сентябрь!V43) -> 1 | AN43: =IF(октябрь!V43="","",октябрь!V43) -> 0 | AO43: =IF(ноябрь!V43="","",ноябрь!V43) -> 1 | AP43: =IF(декабрь!V43="","",декабрь!V43) -> 1 | AQ43: =IF(январь!V43="","",январь!V43) -> 1 | AR43: =IF(февраль!V43="","",февраль!V43) -> 0 | AS43: =IF(март!V43="","",март!V43) -> 0 | AT43: =IF(апрель!V43="","",апрель!V43) -> 1 | AU43: =IF(май!V43="","",май!V43) -> 1 | AV43: =IF(AND(AM43="",AN43="",AO43="",AP43="",AQ43="",AR43="",AS43="",AT43="",AU43=""),"",SUM(AM43:AU43)) -> 6 | AW43: =IF('Кол.часов по УП'!F42="","",'Кол.часов по УП'!F42) -> 68 | AX43: =IF(AND(AV43="",AW43=""),"",AV43/AW43*100) -> 8.8235294 | AY43: =IF(сентябрь!AA43="","",сентябрь!AA43) -> 1 | AZ43: =IF(октябрь!AA43="","",октябрь!AA43) -> 1 | BA43: =IF(ноябрь!AA43="","",ноябрь!AA43) | BB43: =IF(декабрь!AA43="","",декабрь!AA43) -> 1 | BC43: =IF(январь!AA43="","",январь!AA43) -> 1 | BD43: =IF(февраль!AA43="","",февраль!AA43) | BE43: =IF(март!AA43="","",март!AA43) | BF43: =IF(апрель!AA43="","",апрель!AA43) | BG43: =IF(май!AA43="","",май!AA43) -> 1 | BH43: =IF(AND(AY43="",AZ43="",BA43="",BB43="",BC43="",BD43="",BE43="",BF43="",BG43=""),"",SUM(AY43:BG43)) -> 5 | BI43: =IF('Кол.часов по УП'!G42="","",'Кол.часов по УП'!G42) -> 68 | BJ43: =IF(AND(BH43="",BI43=""),"",BH43/BI43*100) -> 7.3529412 | BK43: =IF(сентябрь!AF43="","",сентябрь!AF43) | BL43: =IF(октябрь!AF43="","",октябрь!AF43) | BM43: =IF(ноябрь!AF43="","",ноябрь!AF43) -> 1 | BN43: =IF(декабрь!AF43="","",декабрь!AF43) -> 1 | BO43: =IF(январь!AF43="","",январь!AF43) | BP43: =IF(февраль!AF43="","",февраль!AF43) | BQ43: =IF(март!AF43="","",март!AF43) -> 1 | BR43: =IF(апрель!AF43="","",апрель!AF43) | BS43: =IF(май!AF43="","",май!AF43) -> 1 | BT43: =IF(AND(BK43="",BL43="",BM43="",BN43="",BO43="",BP43="",BQ43="",BR43="",BS43=""),"",SUM(BK43:BS43)) -> 4 | BU43: =IF('Кол.часов по УП'!H42="","",'Кол.часов по УП'!H42) -> 68 | BV43: =IF(AND(BT43="",BU43=""),"",BT43/BU43*100) -> 5.8823529
A44: 6 | B44: Музыка | C44: =IF(сентябрь!G44="","",сентябрь!G44) | D44: =IF(октябрь!G44="","",октябрь!G44) -> 1 | E44: =IF(ноябрь!G44="","",ноябрь!G44) | F44: =IF(декабрь!G44="","",декабрь!G44) | G44: =IF(январь!G44="","",январь!G44) | H44: =IF(февраль!G44="","",февраль!G44) -> 1 | I44: =IF(март!G44="","",март!G44) | J44: =IF(апрель!G44="","",апрель!G44) | K44: =IF(май!G44="","",май!G44) -> 1 | L44: =IF(AND(C44="",D44="",E44="",F44="",G44="",H44="",I44="",J44="",K44=""),"",SUM(C44:K44)) -> 3 | M44: =IF('Кол.часов по УП'!C43="","",'Кол.часов по УП'!C43) -> 31 | N44: =IF(AND(L44="",M44=""),"",L44/M44*100) -> 9.6774194 | O44: =IF(сентябрь!L44="","",сентябрь!L44) | P44: =IF(октябрь!L44="","",октябрь!L44) -> 1 | Q44: =IF(ноябрь!L44="","",ноябрь!L44) | R44: =IF(декабрь!L44="","",декабрь!L44) | S44: =IF(январь!L44="","",январь!L44) | T44: =IF(февраль!L44="","",февраль!L44) -> 1 | U44: =IF(март!L44="","",март!L44) | V44: =IF(апрель!L44="","",апрель!L44) | W44: =IF(май!L44="","",май!L44) -> 1 | X44: =IF(AND(O44="",P44="",Q44="",R44="",S44="",T44="",U44="",V44="",W44=""),"",SUM(O44:W44)) -> 3 | Y44: =IF('Кол.часов по УП'!D43="","",'Кол.часов по УП'!D43) -> 31 | Z44: =IF(AND(X44="",Y44=""),"",X44/Y44*100) -> 9.6774194 | AA44: =IF(сентябрь!Q44="","",сентябрь!Q44) | AB44: =IF(октябрь!Q44="","",октябрь!Q44) -> 1 | AC44: =IF(ноябрь!Q44="","",ноябрь!Q44) | AD44: =IF(декабрь!Q44="","",декабрь!Q44) | AE44: =IF(январь!Q44="","",январь!Q44) | AF44: =IF(февраль!Q44="","",февраль!Q44) -> 1 | AG44: =IF(март!Q44="","",март!Q44) | AH44: =IF(апрель!Q44="","",апрель!Q44) | AI44: =IF(май!Q44="","",май!Q44) -> 1 | AJ44: =IF(AND(AA44="",AB44="",AC44="",AD44="",AE44="",AF44="",AG44="",AH44="",AI44=""),"",SUM(AA44:AI44)) -> 3 | AK44: =IF('Кол.часов по УП'!E43="","",'Кол.часов по УП'!E43) -> 31 | AL44: =IF(AND(AJ44="",AK44=""),"",AJ44/AK44*100) -> 9.6774194 | AM44: =IF(сентябрь!V44="","",сентябрь!V44) | AN44: =IF(октябрь!V44="","",октябрь!V44) -> 1 | AO44: =IF(ноябрь!V44="","",ноябрь!V44) | AP44: =IF(декабрь!V44="","",декабрь!V44) | AQ44: =IF(январь!V44="","",январь!V44) | AR44: =IF(февраль!V44="","",февраль!V44) -> 1 | AS44: =IF(март!V44="","",март!V44) | AT44: =IF(апрель!V44="","",апрель!V44) | AU44: =IF(май!V44="","",май!V44) -> 1 | AV44: =IF(AND(AM44="",AN44="",AO44="",AP44="",AQ44="",AR44="",AS44="",AT44="",AU44=""),"",SUM(AM44:AU44)) -> 3 | AW44: =IF('Кол.часов по УП'!F43="","",'Кол.часов по УП'!F43) -> 32 | AX44: =IF(AND(AV44="",AW44=""),"",AV44/AW44*100) -> 9.375 | AY44: =IF(сентябрь!AA44="","",сентябрь!AA44) | AZ44: =IF(октябрь!AA44="","",октябрь!AA44) -> 1 | BA44: =IF(ноябрь!AA44="","",ноябрь!AA44) | BB44: =IF(декабрь!AA44="","",декабрь!AA44) | BC44: =IF(январь!AA44="","",январь!AA44) | BD44: =IF(февраль!AA44="","",февраль!AA44) -> 1 | BE44: =IF(март!AA44="","",март!AA44) | BF44: =IF(апрель!AA44="","",апрель!AA44) | BG44: =IF(май!AA44="","",май!AA44) -> 1 | BH44: =IF(AND(AY44="",AZ44="",BA44="",BB44="",BC44="",BD44="",BE44="",BF44="",BG44=""),"",SUM(AY44:BG44)) -> 3 | BI44: =IF('Кол.часов по УП'!G43="","",'Кол.часов по УП'!G43) -> 33 | BJ44: =IF(AND(BH44="",BI44=""),"",BH44/BI44*100) -> 9.0909091 | BK44: =IF(сентябрь!AF44="","",сентябрь!AF44) | BL44: =IF(октябрь!AF44="","",октябрь!AF44) -> 1 | BM44: =IF(ноябрь!AF44="","",ноябрь!AF44) | BN44: =IF(декабрь!AF44="","",декабрь!AF44) | BO44: =IF(январь!AF44="","",январь!AF44) | BP44: =IF(февраль!AF44="","",февраль!AF44) -> 1 | BQ44: =IF(март!AF44="","",март!AF44) | BR44: =IF(апрель!AF44="","",апрель!AF44) | BS44: =IF(май!AF44="","",май!AF44) -> 1 | BT44: =IF(AND(BK44="",BL44="",BM44="",BN44="",BO44="",BP44="",BQ44="",BR44="",BS44=""),"",SUM(BK44:BS44)) -> 3 | BU44: =IF('Кол.часов по УП'!H43="","",'Кол.часов по УП'!H43) -> 32 | BV44: =IF(AND(BT44="",BU44=""),"",BT44/BU44*100) -> 9.375
A45: 7 | B45: Изобразительное искусство | C45: =IF(сентябрь!G45="","",сентябрь!G45) | D45: =IF(октябрь!G45="","",октябрь!G45) | E45: =IF(ноябрь!G45="","",ноябрь!G45) -> 1 | F45: =IF(декабрь!G45="","",декабрь!G45) | G45: =IF(январь!G45="","",январь!G45) | H45: =IF(февраль!G45="","",февраль!G45) | I45: =IF(март!G45="","",март!G45) | J45: =IF(апрель!G45="","",апрель!G45) | K45: =IF(май!G45="","",май!G45) | L45: =IF(AND(C45="",D45="",E45="",F45="",G45="",H45="",I45="",J45="",K45=""),"",SUM(C45:K45)) -> 1 | M45: =IF('Кол.часов по УП'!C44="","",'Кол.часов по УП'!C44) -> 34 | N45: =IF(AND(L45="",M45=""),"",L45/M45*100) -> 2.9411765 | O45: =IF(сентябрь!L45="","",сентябрь!L45) | P45: =IF(октябрь!L45="","",октябрь!L45) | Q45: =IF(ноябрь!L45="","",ноябрь!L45) -> 1 | R45: =IF(декабрь!L45="","",декабрь!L45) | S45: =IF(январь!L45="","",январь!L45) | T45: =IF(февраль!L45="","",февраль!L45) | U45: =IF(март!L45="","",март!L45) | V45: =IF(апрель!L45="","",апрель!L45) | W45: =IF(май!L45="","",май!L45) | X45: =IF(AND(O45="",P45="",Q45="",R45="",S45="",T45="",U45="",V45="",W45=""),"",SUM(O45:W45)) -> 1 | Y45: =IF('Кол.часов по УП'!D44="","",'Кол.часов по УП'!D44) -> 34 | Z45: =IF(AND(X45="",Y45=""),"",X45/Y45*100) -> 2.9411765 | AA45: =IF(сентябрь!Q45="","",сентябрь!Q45) | AB45: =IF(октябрь!Q45="","",октябрь!Q45) | AC45: =IF(ноябрь!Q45="","",ноябрь!Q45) -> 1 | AD45: =IF(декабрь!Q45="","",декабрь!Q45) | AE45: =IF(январь!Q45="","",январь!Q45) | AF45: =IF(февраль!Q45="","",февраль!Q45) | AG45: =IF(март!Q45="","",март!Q45) | AH45: =IF(апрель!Q45="","",апрель!Q45) | AI45: =IF(май!Q45="","",май!Q45) | AJ45: =IF(AND(AA45="",AB45="",AC45="",AD45="",AE45="",AF45="",AG45="",AH45="",AI45=""),"",SUM(AA45:AI45)) -> 1 | AK45: =IF('Кол.часов по УП'!E44="","",'Кол.часов по УП'!E44) -> 34 | AL45: =IF(AND(AJ45="",AK45=""),"",AJ45/AK45*100) -> 2.9411765 | AM45: =IF(сентябрь!V45="","",сентябрь!V45) -> 0 | AN45: =IF(октябрь!V45="","",октябрь!V45) -> 0 | AO45: =IF(ноябрь!V45="","",ноябрь!V45) -> 1 | AP45: =IF(декабрь!V45="","",декабрь!V45) -> 0 | AQ45: =IF(январь!V45="","",январь!V45) -> 0 | AR45: =IF(февраль!V45="","",февраль!V45) -> 0 | AS45: =IF(март!V45="","",март!V45) -> 0 | AT45: =IF(апрель!V45="","",апрель!V45) -> 0 | AU45: =IF(май!V45="","",май!V45) -> 0 | AV45: =IF(AND(AM45="",AN45="",AO45="",AP45="",AQ45="",AR45="",AS45="",AT45="",AU45=""),"",SUM(AM45:AU45)) -> 1 | AW45: =IF('Кол.часов по УП'!F44="","",'Кол.часов по УП'!F44) -> 34 | AX45: =IF(AND(AV45="",AW45=""),"",AV45/AW45*100) -> 2.9411765 | AY45: =IF(сентябрь!AA45="","",сентябрь!AA45) | AZ45: =IF(октябрь!AA45="","",октябрь!AA45) | BA45: =IF(ноябрь!AA45="","",ноябрь!AA45) -> 1 | BB45: =IF(декабрь!AA45="","",декабрь!AA45) | BC45: =IF(январь!AA45="","",январь!AA45) | BD45: =IF(февраль!AA45="","",февраль!AA45) | BE45: =IF(март!AA45="","",март!AA45) | BF45: =IF(апрель!AA45="","",апрель!AA45) | BG45: =IF(май!AA45="","",май!AA45) | BH45: =IF(AND(AY45="",AZ45="",BA45="",BB45="",BC45="",BD45="",BE45="",BF45="",BG45=""),"",SUM(AY45:BG45)) -> 1 | BI45: =IF('Кол.часов по УП'!G44="","",'Кол.часов по УП'!G44) -> 34 | BJ45: =IF(AND(BH45="",BI45=""),"",BH45/BI45*100) -> 2.9411765 | BK45: =IF(сентябрь!AF45="","",сентябрь!AF45) | BL45: =IF(октябрь!AF45="","",октябрь!AF45) | BM45: =IF(ноябрь!AF45="","",ноябрь!AF45) -> 1 | BN45: =IF(декабрь!AF45="","",декабрь!AF45) | BO45: =IF(январь!AF45="","",январь!AF45) | BP45: =IF(февраль!AF45="","",февраль!AF45) | BQ45: =IF(март!AF45="","",март!AF45) | BR45: =IF(апрель!AF45="","",апрель!AF45) | BS45: =IF(май!AF45="","",май!AF45) -> 1 | BT45: =IF(AND(BK45="",BL45="",BM45="",BN45="",BO45="",BP45="",BQ45="",BR45="",BS45=""),"",SUM(BK45:BS45)) -> 2 | BU45: =IF('Кол.часов по УП'!H44="","",'Кол.часов по УП'!H44) -> 34 | BV45: =IF(AND(BT45="",BU45=""),"",BT45/BU45*100) -> 5.8823529
A46: 8 | B46: Труд (технология) | C46: =IF(сентябрь!G46="","",сентябрь!G46) | D46: =IF(октябрь!G46="","",октябрь!G46) | E46: =IF(ноябрь!G46="","",ноябрь!G46) | F46: =IF(декабрь!G46="","",декабрь!G46) | G46: =IF(январь!G46="","",январь!G46) | H46: =IF(февраль!G46="","",февраль!G46) | I46: =IF(март!G46="","",март!G46) | J46: =IF(апрель!G46="","",апрель!G46) | K46: =IF(май!G46="","",май!G46) -> 1 | L46: =IF(AND(C46="",D46="",E46="",F46="",G46="",H46="",I46="",J46="",K46=""),"",SUM(C46:K46)) -> 1 | M46: =IF('Кол.часов по УП'!C45="","",'Кол.часов по УП'!C45) -> 34 | N46: =IF(AND(L46="",M46=""),"",L46/M46*100) -> 2.9411765 | O46: =IF(сентябрь!L46="","",сентябрь!L46) | P46: =IF(октябрь!L46="","",октябрь!L46) | Q46: =IF(ноябрь!L46="","",ноябрь!L46) | R46: =IF(декабрь!L46="","",декабрь!L46) | S46: =IF(январь!L46="","",январь!L46) | T46: =IF(февраль!L46="","",февраль!L46) | U46: =IF(март!L46="","",март!L46) | V46: =IF(апрель!L46="","",апрель!L46) | W46: =IF(май!L46="","",май!L46) -> 1 | X46: =IF(AND(O46="",P46="",Q46="",R46="",S46="",T46="",U46="",V46="",W46=""),"",SUM(O46:W46)) -> 1 | Y46: =IF('Кол.часов по УП'!D45="","",'Кол.часов по УП'!D45) -> 34 | Z46: =IF(AND(X46="",Y46=""),"",X46/Y46*100) -> 2.9411765 | AA46: =IF(сентябрь!Q46="","",сентябрь!Q46) | AB46: =IF(октябрь!Q46="","",октябрь!Q46) | AC46: =IF(ноябрь!Q46="","",ноябрь!Q46) | AD46: =IF(декабрь!Q46="","",декабрь!Q46) | AE46: =IF(январь!Q46="","",январь!Q46) | AF46: =IF(февраль!Q46="","",февраль!Q46) | AG46: =IF(март!Q46="","",март!Q46) | AH46: =IF(апрель!Q46="","",апрель!Q46) | AI46: =IF(май!Q46="","",май!Q46) -> 1 | AJ46: =IF(AND(AA46="",AB46="",AC46="",AD46="",AE46="",AF46="",AG46="",AH46="",AI46=""),"",SUM(AA46:AI46)) -> 1 | AK46: =IF('Кол.часов по УП'!E45="","",'Кол.часов по УП'!E45) -> 34 | AL46: =IF(AND(AJ46="",AK46=""),"",AJ46/AK46*100) -> 2.9411765 | AM46: =IF(сентябрь!V46="","",сентябрь!V46) -> 0 | AN46: =IF(октябрь!V46="","",октябрь!V46) -> 0 | AO46: =IF(ноябрь!V46="","",ноябрь!V46) -> 0 | AP46: =IF(декабрь!V46="","",декабрь!V46) -> 0 | AQ46: =IF(январь!V46="","",январь!V46) -> 0 | AR46: =IF(февраль!V46="","",февраль!V46) -> 0 | AS46: =IF(март!V46="","",март!V46) -> 0 | AT46: =IF(апрель!V46="","",апрель!V46) -> 0 | AU46: =IF(май!V46="","",май!V46) -> 1 | AV46: =IF(AND(AM46="",AN46="",AO46="",AP46="",AQ46="",AR46="",AS46="",AT46="",AU46=""),"",SUM(AM46:AU46)) -> 1 | AW46: =IF('Кол.часов по УП'!F45="","",'Кол.часов по УП'!F45) -> 34 | AX46: =IF(AND(AV46="",AW46=""),"",AV46/AW46*100) -> 2.9411765 | AY46: =IF(сентябрь!AA46="","",сентябрь!AA46) | AZ46: =IF(октябрь!AA46="","",октябрь!AA46) | BA46: =IF(ноябрь!AA46="","",ноябрь!AA46) | BB46: =IF(декабрь!AA46="","",декабрь!AA46) | BC46: =IF(январь!AA46="","",январь!AA46) | BD46: =IF(февраль!AA46="","",февраль!AA46) | BE46: =IF(март!AA46="","",март!AA46) | BF46: =IF(апрель!AA46="","",апрель!AA46) | BG46: =IF(май!AA46="","",май!AA46) -> 1 | BH46: =IF(AND(AY46="",AZ46="",BA46="",BB46="",BC46="",BD46="",BE46="",BF46="",BG46=""),"",SUM(AY46:BG46)) -> 1 | BI46: =IF('Кол.часов по УП'!G45="","",'Кол.часов по УП'!G45) -> 34 | BJ46: =IF(AND(BH46="",BI46=""),"",BH46/BI46*100) -> 2.9411765 | BK46: =IF(сентябрь!AF46="","",сентябрь!AF46) | BL46: =IF(октябрь!AF46="","",октябрь!AF46) | BM46: =IF(ноябрь!AF46="","",ноябрь!AF46) | BN46: =IF(декабрь!AF46="","",декабрь!AF46) | BO46: =IF(январь!AF46="","",январь!AF46) | BP46: =IF(февраль!AF46="","",февраль!AF46) | BQ46: =IF(март!AF46="","",март!AF46) | BR46: =IF(апрель!AF46="","",апрель!AF46) | BS46: =IF(май!AF46="","",май!AF46) -> 1 | BT46: =IF(AND(BK46="",BL46="",BM46="",BN46="",BO46="",BP46="",BQ46="",BR46="",BS46=""),"",SUM(BK46:BS46)) -> 1 | BU46: =IF('Кол.часов по УП'!H45="","",'Кол.часов по УП'!H45) -> 34 | BV46: =IF(AND(BT46="",BU46=""),"",BT46/BU46*100) -> 2.9411765
A47: 9 | B47: Физическая культура | C47: =IF(сентябрь!G47="","",сентябрь!G47) | D47: =IF(октябрь!G47="","",октябрь!G47) -> 1 | E47: =IF(ноябрь!G47="","",ноябрь!G47) | F47: =IF(декабрь!G47="","",декабрь!G47) | G47: =IF(январь!G47="","",январь!G47) | H47: =IF(февраль!G47="","",февраль!G47) | I47: =IF(март!G47="","",март!G47) | J47: =IF(апрель!G47="","",апрель!G47) | K47: =IF(май!G47="","",май!G47) | L47: =IF(AND(C47="",D47="",E47="",F47="",G47="",H47="",I47="",J47="",K47=""),"",SUM(C47:K47)) -> 1 | M47: =IF('Кол.часов по УП'!C46="","",'Кол.часов по УП'!C46) -> 68 | N47: =IF(AND(L47="",M47=""),"",L47/M47*100) -> 1.4705882 | O47: =IF(сентябрь!L47="","",сентябрь!L47) | P47: =IF(октябрь!L47="","",октябрь!L47) -> 1 | Q47: =IF(ноябрь!L47="","",ноябрь!L47) | R47: =IF(декабрь!L47="","",декабрь!L47) | S47: =IF(январь!L47="","",январь!L47) | T47: =IF(февраль!L47="","",февраль!L47) | U47: =IF(март!L47="","",март!L47) | V47: =IF(апрель!L47="","",апрель!L47) | W47: =IF(май!L47="","",май!L47) | X47: =IF(AND(O47="",P47="",Q47="",R47="",S47="",T47="",U47="",V47="",W47=""),"",SUM(O47:W47)) -> 1 | Y47: =IF('Кол.часов по УП'!D46="","",'Кол.часов по УП'!D46) -> 68 | Z47: =IF(AND(X47="",Y47=""),"",X47/Y47*100) -> 1.4705882 | AA47: =IF(сентябрь!Q47="","",сентябрь!Q47) | AB47: =IF(октябрь!Q47="","",октябрь!Q47) -> 1 | AC47: =IF(ноябрь!Q47="","",ноябрь!Q47) | AD47: =IF(декабрь!Q47="","",декабрь!Q47) | AE47: =IF(январь!Q47="","",январь!Q47) | AF47: =IF(февраль!Q47="","",февраль!Q47) | AG47: =IF(март!Q47="","",март!Q47) | AH47: =IF(апрель!Q47="","",апрель!Q47) | AI47: =IF(май!Q47="","",май!Q47) | AJ47: =IF(AND(AA47="",AB47="",AC47="",AD47="",AE47="",AF47="",AG47="",AH47="",AI47=""),"",SUM(AA47:AI47)) -> 1 | AK47: =IF('Кол.часов по УП'!E46="","",'Кол.часов по УП'!E46) -> 68 | AL47: =IF(AND(AJ47="",AK47=""),"",AJ47/AK47*100) -> 1.4705882 | AM47: =IF(сентябрь!V47="","",сентябрь!V47) -> 2 | AN47: =IF(октябрь!V47="","",октябрь!V47) -> 1 | AO47: =IF(ноябрь!V47="","",ноябрь!V47) | AP47: =IF(декабрь!V47="","",декабрь!V47) | AQ47: =IF(январь!V47="","",январь!V47) | AR47: =IF(февраль!V47="","",февраль!V47) | AS47: =IF(март!V47="","",март!V47) | AT47: =IF(апрель!V47="","",апрель!V47) -> 1 | AU47: =IF(май!V47="","",май!V47) -> 2 | AV47: =IF(AND(AM47="",AN47="",AO47="",AP47="",AQ47="",AR47="",AS47="",AT47="",AU47=""),"",SUM(AM47:AU47)) -> 6 | AW47: =IF('Кол.часов по УП'!F46="","",'Кол.часов по УП'!F46) -> 68 | AX47: =IF(AND(AV47="",AW47=""),"",AV47/AW47*100) -> 8.8235294 | AY47: =IF(сентябрь!AA47="","",сентябрь!AA47) -> 2 | AZ47: =IF(октябрь!AA47="","",октябрь!AA47) -> 1 | BA47: =IF(ноябрь!AA47="","",ноябрь!AA47) | BB47: =IF(декабрь!AA47="","",декабрь!AA47) | BC47: =IF(январь!AA47="","",январь!AA47) | BD47: =IF(февраль!AA47="","",февраль!AA47) | BE47: =IF(март!AA47="","",март!AA47) | BF47: =IF(апрель!AA47="","",апрель!AA47) -> 1 | BG47: =IF(май!AA47="","",май!AA47) -> 2 | BH47: =IF(AND(AY47="",AZ47="",BA47="",BB47="",BC47="",BD47="",BE47="",BF47="",BG47=""),"",SUM(AY47:BG47)) -> 6 | BI47: =IF('Кол.часов по УП'!G46="","",'Кол.часов по УП'!G46) -> 68 | BJ47: =IF(AND(BH47="",BI47=""),"",BH47/BI47*100) -> 8.8235294 | BK47: =IF(сентябрь!AF47="","",сентябрь!AF47) -> 2 | BL47: =IF(октябрь!AF47="","",октябрь!AF47) -> 1 | BM47: =IF(ноябрь!AF47="","",ноябрь!AF47) | BN47: =IF(декабрь!AF47="","",декабрь!AF47) | BO47: =IF(январь!AF47="","",январь!AF47) | BP47: =IF(февраль!AF47="","",февраль!AF47) | BQ47: =IF(март!AF47="","",март!AF47) | BR47: =IF(апрель!AF47="","",апрель!AF47) -> 1 | BS47: =IF(май!AF47="","",май!AF47) -> 2 | BT47: =IF(AND(BK47="",BL47="",BM47="",BN47="",BO47="",BP47="",BQ47="",BR47="",BS47=""),"",SUM(BK47:BS47)) -> 6 | BU47: =IF('Кол.часов по УП'!H46="","",'Кол.часов по УП'!H46) -> 68 | BV47: =IF(AND(BT47="",BU47=""),"",BT47/BU47*100) -> 8.8235294
C49: 5 А | O49: 5 Б | AA49: 5 В | AM49: 5 Г | AY49: 5 Д
B50: Предметы | C50: сентябрь | D50: октябрь | E50: ноябрь | F50: декабрь | G50: январь | H50: февраль | I50: март | J50: апрель | K50: май | L50: Всего оценочных процедур за год | M50: Кол-во часов по учебному плану (УП) | N50: % соотношение кол-ва оценочных процедур к кол-ву часов УП | O50: сентябрь | P50: октябрь | Q50: ноябрь | R50: декабрь | S50: январь | T50: февраль | U50: март | V50: апрель | W50: май | X50: Всего оценочных процедур за год | Y50: Кол-во часов по учебному плану (УП) | Z50: % соотношение кол-ва оценочных процедур к кол-ву часов УП | AA50: сентябрь | AB50: октябрь | AC50: ноябрь | AD50: декабрь | AE50: январь | AF50: февраль | AG50: март | AH50: апрель | AI50: май | AJ50: Всего оценочных процедур за год | AK50: Кол-во часов по учебному плану (УП) | AL50: % соотношение кол-ва оценочных процедур к кол-ву часов УП | AM50: сентябрь | AN50: октябрь | AO50: ноябрь | AP50: декабрь | AQ50: январь | AR50: февраль | AS50: март | AT50: апрель | AU50: май | AV50: Всего оценочных процедур за год | AW50: Кол-во часов по учебному плану (УП) | AX50: % соотношение кол-ва оценочных процедур к кол-ву часов УП | AY50: сентябрь | AZ50: октябрь | BA50: ноябрь | BB50: декабрь | BC50: январь | BD50: февраль | BE50: март | BF50: апрель | BG50: май | BH50: Всего оценочных процедур за год | BI50: Кол-во часов по учебному плану (УП) | BJ50: % соотношение кол-ва оценочных процедур к кол-ву часов УП | BK50: сентябрь | BL50: октябрь | BM50: ноябрь | BN50: декабрь | BO50: январь | BP50: февраль | BQ50: март | BR50: апрель | BS50: май | BT50: Всего оценочных процедур за год | BU50: Кол-во часов по учебному плану (УП) | BV50: % соотношение кол-ва оценочных процедур к кол-ву часов УП
A51: 1 | B51: Русский язык | C51: =IF(сентябрь!G51="","",сентябрь!G51) -> 2 | D51: =IF(октябрь!G51="","",октябрь!G51) -> 2 | E51: =IF(ноябрь!G51="","",ноябрь!G51) -> 1 | F51: =IF(декабрь!G51="","",декабрь!G51) -> 3 | G51: =IF(январь!G51="","",январь!G51) -> 2 | H51: =IF(февраль!G51="","",февраль!G51) -> 1 | I51: =IF(март!G51="","",март!G51) -> 2 | J51: =IF(апрель!G51="","",апрель!G51) -> 2 | K51: =IF(май!G51="","",май!G51) -> 1 | L51: =IF(AND(C51="",D51="",E51="",F51="",G51="",H51="",I51="",J51="",K51=""),"",SUM(C51:K51)) -> 16 | M51: =IF('Кол.часов по УП'!C50="","",'Кол.часов по УП'!C50) -> 170 | N51: =IF(AND(L51="",M51=""),"",L51/M51*100) -> 9.4117647 | O51: =IF(сентябрь!L51="","",сентябрь!L51) -> 2 | P51: =IF(октябрь!L51="","",октябрь!L51) -> 2 | Q51: =IF(ноябрь!L51="","",ноябрь!L51) -> 1 | R51: =IF(декабрь!L51="","",декабрь!L51) -> 3 | S51: =IF(январь!L51="","",январь!L51) -> 2 | T51: =IF(февраль!L51="","",февраль!L51) -> 1 | U51: =IF(март!L51="","",март!L51) -> 2 | V51: =IF(апрель!L51="","",апрель!L51) -> 2 | W51: =IF(май!L51="","",май!L51) -> 1 | X51: =IF(AND(O51="",P51="",Q51="",R51="",S51="",T51="",U51="",V51="",W51=""),"",SUM(O51:W51)) -> 16 | Y51: =IF('Кол.часов по УП'!D50="","",'Кол.часов по УП'!D50) -> 170 | Z51: =IF(AND(X51="",Y51=""),"",X51/Y51*100) -> 9.4117647 | AA51: =IF(сентябрь!Q51="","",сентябрь!Q51) -> 1 | AB51: =IF(октябрь!Q51="","",октябрь!Q51) | AC51: =IF(ноябрь!Q51="","",ноябрь!Q51) -> 1 | AD51: =IF(декабрь!Q51="","",декабрь!Q51) -> 3 | AE51: =IF(январь!Q51="","",январь!Q51) -> 1 | AF51: =IF(февраль!Q51="","",февраль!Q51) -> 1 | AG51: =IF(март!Q51="","",март!Q51) -> 2 | AH51: =IF(апрель!Q51="","",апрель!Q51) -> 2 | AI51: =IF(май!Q51="","",май!Q51) -> 1 | AJ51: =IF(AND(AA51="",AB51="",AC51="",AD51="",AE51="",AF51="",AG51="",AH51="",AI51=""),"",SUM(AA51:AI51)) -> 12 | AK51: =IF('Кол.часов по УП'!E50="","",'Кол.часов по УП'!E50) -> 170 | AL51: =IF(AND(AJ51="",AK51=""),"",AJ51/AK51*100) -> 7.0588235 | AM51: =IF(сентябрь!V51="","",сентябрь!V51) -> 1 | AN51: =IF(октябрь!V51="","",октябрь!V51) | AO51: =IF(ноябрь!V51="","",ноябрь!V51) -> 1 | AP51: =IF(декабрь!V51="","",декабрь!V51) -> 2 | AQ51: =IF(январь!V51="","",январь!V51) -> 1 | AR51: =IF(февраль!V51="","",февраль!V51) -> 2 | AS51: =IF(март!V51="","",март!V51) -> 2 | AT51: =IF(апрель!V51="","",апрель!V51) -> 1 | AU51: =IF(май!V51="","",май!V51) -> 1 | AV51: =IF(AND(AM51="",AN51="",AO51="",AP51="",AQ51="",AR51="",AS51="",AT51="",AU51=""),"",SUM(AM51:AU51)) -> 11 | AW51: =IF('Кол.часов по УП'!F50="","",'Кол.часов по УП'!F50) -> 170 | AX51: =IF(AND(AV51="",AW51=""),"",AV51/AW51*100) -> 6.4705882 | AY51: =IF(сентябрь!AA51="","",сентябрь!AA51) -> 1 | AZ51: =IF(октябрь!AA51="","",октябрь!AA51) -> 0 | BA51: =IF(ноябрь!AA51="","",ноябрь!AA51) -> 1 | BB51: =IF(декабрь!AA51="","",декабрь!AA51) -> 2 | BC51: =IF(январь!AA51="","",январь!AA51) -> 1 | BD51: =IF(февраль!AA51="","",февраль!AA51) -> 2 | BE51: =IF(март!AA51="","",март!AA51) -> 2 | BF51: =IF(апрель!AA51="","",апрель!AA51) -> 1 | BG51: =IF(май!AA51="","",май!AA51) -> 1 | BH51: =IF(AND(AY51="",AZ51="",BA51="",BB51="",BC51="",BD51="",BE51="",BF51="",BG51=""),"",SUM(AY51:BG51)) -> 11 | BI51: =IF('Кол.часов по УП'!G50="","",'Кол.часов по УП'!G50) -> 170 | BJ51: =IF(AND(BH51="",BI51=""),"",BH51/BI51*100) -> 6.4705882 | BK51: =IF(сентябрь!AF51="","",сентябрь!AF51) | BL51: =IF(октябрь!AF51="","",октябрь!AF51) | BM51: =IF(ноябрь!AF51="","",ноябрь!AF51) | BN51: =IF(декабрь!AF51="","",декабрь!AF51) | BO51: =IF(январь!AF51="","",январь!AF51) | BP51: =IF(февраль!AF51="","",февраль!AF51) | BQ51: =IF(март!AF51="","",март!AF51) | BR51: =IF(апрель!AF51="","",апрель!AF51) | BS51: =IF(май!AF51="","",май!AF51) | BT51: =IF(AND(BK51="",BL51="",BM51="",BN51="",BO51="",BP51="",BQ51="",BR51="",BS51=""),"",SUM(BK51:BS51)) | BU51: =IF('Кол.часов по УП'!H50="","",'Кол.часов по УП'!H50) | BV51: =IF(AND(BT51="",BU51=""),"",BT51/BU51*100)
A52: 2 | B52: Литература | C52: =IF(сентябрь!G52="","",сентябрь!G52) | D52: =IF(октябрь!G52="","",октябрь!G52) | E52: =IF(ноябрь!G52="","",ноябрь!G52) | F52: =IF(декабрь!G52="","",декабрь!G52) -> 1 | G52: =IF(январь!G52="","",январь!G52) | H52: =IF(февраль!G52="","",февраль!G52) | I52: =IF(март!G52="","",март!G52) | J52: =IF(апрель!G52="","",апрель!G52) | K52: =IF(май!G52="","",май!G52) -> 1 | L52: =IF(AND(C52="",D52="",E52="",F52="",G52="",H52="",I52="",J52="",K52=""),"",SUM(C52:K52)) -> 2 | M52: =IF('Кол.часов по УП'!C51="","",'Кол.часов по УП'!C51) -> 102 | N52: =IF(AND(L52="",M52=""),"",L52/M52*100) -> 1.9607843 | O52: =IF(сентябрь!L52="","",сентябрь!L52) | P52: =IF(октябрь!L52="","",октябрь!L52) | Q52: =IF(ноябрь!L52="","",ноябрь!L52) | R52: =IF(декабрь!L52="","",декабрь!L52) -> 1 | S52: =IF(январь!L52="","",январь!L52) | T52: =IF(февраль!L52="","",февраль!L52) | U52: =IF(март!L52="","",март!L52) | V52: =IF(апрель!L52="","",апрель!L52) | W52: =IF(май!L52="","",май!L52) -> 1 | X52: =IF(AND(O52="",P52="",Q52="",R52="",S52="",T52="",U52="",V52="",W52=""),"",SUM(O52:W52)) -> 2 | Y52: =IF('Кол.часов по УП'!D51="","",'Кол.часов по УП'!D51) -> 102 | Z52: =IF(AND(X52="",Y52=""),"",X52/Y52*100) -> 1.9607843 | AA52: =IF(сентябрь!Q52="","",сентябрь!Q52) | AB52: =IF(октябрь!Q52="","",октябрь!Q52) | AC52: =IF(ноябрь!Q52="","",ноябрь!Q52) | AD52: =IF(декабрь!Q52="","",декабрь!Q52) | AE52: =IF(январь!Q52="","",январь!Q52) | AF52: =IF(февраль!Q52="","",февраль!Q52) | AG52: =IF(март!Q52="","",март!Q52) | AH52: =IF(апрель!Q52="","",апрель!Q52) | AI52: =IF(май!Q52="","",май!Q52) -> 1 | AJ52: =IF(AND(AA52="",AB52="",AC52="",AD52="",AE52="",AF52="",AG52="",AH52="",AI52=""),"",SUM(AA52:AI52)) -> 1 | AK52: =IF('Кол.часов по УП'!E51="","",'Кол.часов по УП'!E51) -> 102 | AL52: =IF(AND(AJ52="",AK52=""),"",AJ52/AK52*100) -> 0.98039216 | AM52: =IF(сентябрь!V52="","",сентябрь!V52) | AN52: =IF(октябрь!V52="","",октябрь!V52) | AO52: =IF(ноябрь!V52="","",ноябрь!V52) | AP52: =IF(декабрь!V52="","",декабрь!V52) -> 1 | AQ52: =IF(январь!V52="","",январь!V52) | AR52: =IF(февраль!V52="","",февраль!V52) | AS52: =IF(март!V52="","",март!V52) | AT52: =IF(апрель!V52="","",апрель!V52) | AU52: =IF(май!V52="","",май!V52) -> 1 | AV52: =IF(AND(AM52="",AN52="",AO52="",AP52="",AQ52="",AR52="",AS52="",AT52="",AU52=""),"",SUM(AM52:AU52)) -> 2 | AW52: =IF('Кол.часов по УП'!F51="","",'Кол.часов по УП'!F51) -> 102 | AX52: =IF(AND(AV52="",AW52=""),"",AV52/AW52*100) -> 1.9607843 | AY52: =IF(сентябрь!AA52="","",сентябрь!AA52) | AZ52: =IF(октябрь!AA52="","",октябрь!AA52) | BA52: =IF(ноябрь!AA52="","",ноябрь!AA52) | BB52: =IF(декабрь!AA52="","",декабрь!AA52) -> 1 | BC52: =IF(январь!AA52="","",январь!AA52) | BD52: =IF(февраль!AA52="","",февраль!AA52) | BE52: =IF(март!AA52="","",март!AA52) | BF52: =IF(апрель!AA52="","",апрель!AA52) | BG52: =IF(май!AA52="","",май!AA52) -> 1 | BH52: =IF(AND(AY52="",AZ52="",BA52="",BB52="",BC52="",BD52="",BE52="",BF52="",BG52=""),"",SUM(AY52:BG52)) -> 2 | BI52: =IF('Кол.часов по УП'!G51="","",'Кол.часов по УП'!G51) -> 102 | BJ52: =IF(AND(BH52="",BI52=""),"",BH52/BI52*100) -> 1.9607843 | BK52: =IF(сентябрь!AF52="","",сентябрь!AF52) | BL52: =IF(октябрь!AF52="","",октябрь!AF52) | BM52: =IF(ноябрь!AF52="","",ноябрь!AF52) | BN52: =IF(декабрь!AF52="","",декабрь!AF52) | BO52: =IF(январь!AF52="","",январь!AF52) | BP52: =IF(февраль!AF52="","",февраль!AF52) | BQ52: =IF(март!AF52="","",март!AF52) | BR52: =IF(апрель!AF52="","",апрель!AF52) | BS52: =IF(май!AF52="","",май!AF52) | BT52: =IF(AND(BK52="",BL52="",BM52="",BN52="",BO52="",BP52="",BQ52="",BR52="",BS52=""),"",SUM(BK52:BS52)) | BU52: =IF('Кол.часов по УП'!H51="","",'Кол.часов по УП'!H51) | BV52: =IF(AND(BT52="",BU52=""),"",BT52/BU52*100)
A53: 3 | B53: Иностранный язык (английский) | C53: =IF(сентябрь!G53="","",сентябрь!G53) -> 1 | D53: =IF(октябрь!G53="","",октябрь!G53) -> 1 | E53: =IF(ноябрь!G53="","",ноябрь!G53) -> 1 | F53: =IF(декабрь!G53="","",декабрь!G53) -> 1 | G53: =IF(январь!G53="","",январь!G53) | H53: =IF(февраль!G53="","",февраль!G53) | I53: =IF(март!G53="","",март!G53) -> 2 | J53: =IF(апрель!G53="","",апрель!G53) | K53: =IF(май!G53="","",май!G53) -> 1 | L53: =IF(AND(C53="",D53="",E53="",F53="",G53="",H53="",I53="",J53="",K53=""),"",SUM(C53:K53)) -> 7 | M53: =IF('Кол.часов по УП'!C52="","",'Кол.часов по УП'!C52) -> 97 | N53: =IF(AND(L53="",M53=""),"",L53/M53*100) -> 7.2164948 | O53: =IF(сентябрь!L53="","",сентябрь!L53) -> 1 | P53: =IF(октябрь!L53="","",октябрь!L53) -> 1 | Q53: =IF(ноябрь!L53="","",ноябрь!L53) -> 1 | R53: =IF(декабрь!L53="","",декабрь!L53) -> 1 | S53: =IF(январь!L53="","",январь!L53) | T53: =IF(февраль!L53="","",февраль!L53) | U53: =IF(март!L53="","",март!L53) -> 2 | V53: =IF(апрель!L53="","",апрель!L53) | W53: =IF(май!L53="","",май!L53) -> 1 | X53: =IF(AND(O53="",P53="",Q53="",R53="",S53="",T53="",U53="",V53="",W53=""),"",SUM(O53:W53)) -> 7 | Y53: =IF('Кол.часов по УП'!D52="","",'Кол.часов по УП'!D52) -> 95 | Z53: =IF(AND(X53="",Y53=""),"",X53/Y53*100) -> 7.3684211 | AA53: =IF(сентябрь!Q53="","",сентябрь!Q53) -> 1 | AB53: =IF(октябрь!Q53="","",октябрь!Q53) -> 1 | AC53: =IF(ноябрь!Q53="","",ноябрь!Q53) -> 1 | AD53: =IF(декабрь!Q53="","",декабрь!Q53) -> 1 | AE53: =IF(январь!Q53="","",январь!Q53) | AF53: =IF(февраль!Q53="","",февраль!Q53) | AG53: =IF(март!Q53="","",март!Q53) -> 2 | AH53: =IF(апрель!Q53="","",апрель!Q53) | AI53: =IF(май!Q53="","",май!Q53) -> 1 | AJ53: =IF(AND(AA53="",AB53="",AC53="",AD53="",AE53="",AF53="",AG53="",AH53="",AI53=""),"",SUM(AA53:AI53)) -> 7 | AK53: =IF('Кол.часов по УП'!E52="","",'Кол.часов по УП'!E52) -> 95 | AL53: =IF(AND(AJ53="",AK53=""),"",AJ53/AK53*100) -> 7.3684211 | AM53: =IF(сентябрь!V53="","",сентябрь!V53) -> 1 | AN53: =IF(октябрь!V53="","",октябрь!V53) -> 1 | AO53: =IF(ноябрь!V53="","",ноябрь!V53) -> 1 | AP53: =IF(декабрь!V53="","",декабрь!V53) -> 1 | AQ53: =IF(январь!V53="","",январь!V53) | AR53: =IF(февраль!V53="","",февраль!V53) | AS53: =IF(март!V53="","",март!V53) -> 2 | AT53: =IF(апрель!V53="","",апрель!V53) | AU53: =IF(май!V53="","",май!V53) -> 1 | AV53: =IF(AND(AM53="",AN53="",AO53="",AP53="",AQ53="",AR53="",AS53="",AT53="",AU53=""),"",SUM(AM53:AU53)) -> 7 | AW53: =IF('Кол.часов по УП'!F52="","",'Кол.часов по УП'!F52) -> 95 | AX53: =IF(AND(AV53="",AW53=""),"",AV53/AW53*100) -> 7.3684211 | AY53: =IF(сентябрь!AA53="","",сентябрь!AA53) -> 1 | AZ53: =IF(октябрь!AA53="","",октябрь!AA53) -> 1 | BA53: =IF(ноябрь!AA53="","",ноябрь!AA53) -> 1 | BB53: =IF(декабрь!AA53="","",декабрь!AA53) -> 1 | BC53: =IF(январь!AA53="","",январь!AA53) | BD53: =IF(февраль!AA53="","",февраль!AA53) | BE53: =IF(март!AA53="","",март!AA53) -> 2 | BF53: =IF(апрель!AA53="","",апрель!AA53) | BG53: =IF(май!AA53="","",май!AA53) -> 1 | BH53: =IF(AND(AY53="",AZ53="",BA53="",BB53="",BC53="",BD53="",BE53="",BF53="",BG53=""),"",SUM(AY53:BG53)) -> 7 | BI53: =IF('Кол.часов по УП'!G52="","",'Кол.часов по УП'!G52) -> 95 | BJ53: =IF(AND(BH53="",BI53=""),"",BH53/BI53*100) -> 7.3684211 | BK53: =IF(сентябрь!AF53="","",сентябрь!AF53) | BL53: =IF(октябрь!AF53="","",октябрь!AF53) | BM53: =IF(ноябрь!AF53="","",ноябрь!AF53) | BN53: =IF(декабрь!AF53="","",декабрь!AF53) | BO53: =IF(январь!AF53="","",январь!AF53) | BP53: =IF(февраль!AF53="","",февраль!AF53) | BQ53: =IF(март!AF53="","",март!AF53) | BR53: =IF(апрель!AF53="","",апрель!AF53) | BS53: =IF(май!AF53="","",май!AF53) | BT53: =IF(AND(BK53="",BL53="",BM53="",BN53="",BO53="",BP53="",BQ53="",BR53="",BS53=""),"",SUM(BK53:BS53)) | BU53: =IF('Кол.часов по УП'!H52="","",'Кол.часов по УП'!H52) | BV53: =IF(AND(BT53="",BU53=""),"",BT53/BU53*100)
A54: 4 | B54: Математика | C54: =IF(сентябрь!G54="","",сентябрь!G54) -> 1 | D54: =IF(октябрь!G54="","",октябрь!G54) -> 1 | E54: =IF(ноябрь!G54="","",ноябрь!G54) -> 1 | F54: =IF(декабрь!G54="","",декабрь!G54) | G54: =IF(январь!G54="","",январь!G54) | H54: =IF(февраль!G54="","",февраль!G54) -> 1 | I54: =IF(март!G54="","",март!G54) | J54: =IF(апрель!G54="","",апрель!G54) -> 1 | K54: =IF(май!G54="","",май!G54) -> 1 | L54: =IF(AND(C54="",D54="",E54="",F54="",G54="",H54="",I54="",J54="",K54=""),"",SUM(C54:K54)) -> 6 | M54: =IF('Кол.часов по УП'!C53="","",'Кол.часов по УП'!C53) -> 170 | N54: =IF(AND(L54="",M54=""),"",L54/M54*100) -> 3.5294118 | O54: =IF(сентябрь!L54="","",сентябрь!L54) -> 1 | P54: =IF(октябрь!L54="","",октябрь!L54) -> 1 | Q54: =IF(ноябрь!L54="","",ноябрь!L54) -> 1 | R54: =IF(декабрь!L54="","",декабрь!L54) | S54: =IF(январь!L54="","",январь!L54) | T54: =IF(февраль!L54="","",февраль!L54) -> 1 | U54: =IF(март!L54="","",март!L54) | V54: =IF(апрель!L54="","",апрель!L54) -> 1 | W54: =IF(май!L54="","",май!L54) -> 1 | X54: =IF(AND(O54="",P54="",Q54="",R54="",S54="",T54="",U54="",V54="",W54=""),"",SUM(O54:W54)) -> 6 | Y54: =IF('Кол.часов по УП'!D53="","",'Кол.часов по УП'!D53) -> 170 | Z54: =IF(AND(X54="",Y54=""),"",X54/Y54*100) -> 3.5294118 | AA54: =IF(сентябрь!Q54="","",сентябрь!Q54) -> 1 | AB54: =IF(октябрь!Q54="","",октябрь!Q54) | AC54: =IF(ноябрь!Q54="","",ноябрь!Q54) -> 1 | AD54: =IF(декабрь!Q54="","",декабрь!Q54) | AE54: =IF(январь!Q54="","",январь!Q54) | AF54: =IF(февраль!Q54="","",февраль!Q54) -> 1 | AG54: =IF(март!Q54="","",март!Q54) | AH54: =IF(апрель!Q54="","",апрель!Q54) -> 1 | AI54: =IF(май!Q54="","",май!Q54) -> 1 | AJ54: =IF(AND(AA54="",AB54="",AC54="",AD54="",AE54="",AF54="",AG54="",AH54="",AI54=""),"",SUM(AA54:AI54)) -> 5 | AK54: =IF('Кол.часов по УП'!E53="","",'Кол.часов по УП'!E53) -> 170 | AL54: =IF(AND(AJ54="",AK54=""),"",AJ54/AK54*100) -> 2.9411765 | AM54: =IF(сентябрь!V54="","",сентябрь!V54) -> 1 | AN54: =IF(октябрь!V54="","",октябрь!V54) | AO54: =IF(ноябрь!V54="","",ноябрь!V54) -> 1 | AP54: =IF(декабрь!V54="","",декабрь!V54) | AQ54: =IF(январь!V54="","",январь!V54) | AR54: =IF(февраль!V54="","",февраль!V54) -> 1 | AS54: =IF(март!V54="","",март!V54) | AT54: =IF(апрель!V54="","",апрель!V54) -> 1 | AU54: =IF(май!V54="","",май!V54) -> 1 | AV54: =IF(AND(AM54="",AN54="",AO54="",AP54="",AQ54="",AR54="",AS54="",AT54="",AU54=""),"",SUM(AM54:AU54)) -> 5 | AW54: =IF('Кол.часов по УП'!F53="","",'Кол.часов по УП'!F53) -> 170 | AX54: =IF(AND(AV54="",AW54=""),"",AV54/AW54*100) -> 2.9411765 | AY54: =IF(сентябрь!AA54="","",сентябрь!AA54) -> 1 | AZ54: =IF(октябрь!AA54="","",октябрь!AA54) | BA54: =IF(ноябрь!AA54="","",ноябрь!AA54) -> 1 | BB54: =IF(декабрь!AA54="","",декабрь!AA54) | BC54: =IF(январь!AA54="","",январь!AA54) | BD54: =IF(февраль!AA54="","",февраль!AA54) -> 1 | BE54: =IF(март!AA54="","",март!AA54) | BF54: =IF(апрель!AA54="","",апрель!AA54) -> 1 | BG54: =IF(май!AA54="","",май!AA54) -> 1 | BH54: =IF(AND(AY54="",AZ54="",BA54="",BB54="",BC54="",BD54="",BE54="",BF54="",BG54=""),"",SUM(AY54:BG54)) -> 5 | BI54: =IF('Кол.часов по УП'!G53="","",'Кол.часов по УП'!G53) -> 170 | BJ54: =IF(AND(BH54="",BI54=""),"",BH54/BI54*100) -> 2.9411765 | BK54: =IF(сентябрь!AF54="","",сентябрь!AF54) | BL54: =IF(октябрь!AF54="","",октябрь!AF54) | BM54: =IF(ноябрь!AF54="","",ноябрь!AF54) | BN54: =IF(декабрь!AF54="","",декабрь!AF54) | BO54: =IF(январь!AF54="","",январь!AF54) | BP54: =IF(февраль!AF54="","",февраль!AF54) | BQ54: =IF(март!AF54="","",март!AF54) | BR54: =IF(апрель!AF54="","",апрель!AF54) | BS54: =IF(май!AF54="","",май!AF54) | BT54: =IF(AND(BK54="",BL54="",BM54="",BN54="",BO54="",BP54="",BQ54="",BR54="",BS54=""),"",SUM(BK54:BS54)) | BU54: =IF('Кол.часов по УП'!H53="","",'Кол.часов по УП'!H53) | BV54: =IF(AND(BT54="",BU54=""),"",BT54/BU54*100)
A55: 5 | B55: История | C55: =IF(сентябрь!G55="","",сентябрь!G55) -> 1 | D55: =IF(октябрь!G55="","",октябрь!G55) | E55: =IF(ноябрь!G55="","",ноябрь!G55) -> 1 | F55: =IF(декабрь!G55="","",декабрь!G55) -> 1 | G55: =IF(январь!G55="","",январь!G55) -> 1 | H55: =IF(февраль!G55="","",февраль!G55) | I55: =IF(март!G55="","",март!G55) -> 2 | J55: =IF(апрель!G55="","",апрель!G55) -> 1 | K55: =IF(май!G55="","",май!G55) -> 2 | L55: =IF(AND(C55="",D55="",E55="",F55="",G55="",H55="",I55="",J55="",K55=""),"",SUM(C55:K55)) -> 9 | M55: =IF('Кол.часов по УП'!C54="","",'Кол.часов по УП'!C54) -> 102 | N55: =IF(AND(L55="",M55=""),"",L55/M55*100) -> 8.8235294 | O55: =IF(сентябрь!L55="","",сентябрь!L55) -> 1 | P55: =IF(октябрь!L55="","",октябрь!L55) | Q55: =IF(ноябрь!L55="","",ноябрь!L55) -> 1 | R55: =IF(декабрь!L55="","",декабрь!L55) -> 1 | S55: =IF(январь!L55="","",январь!L55) -> 1 | T55: =IF(февраль!L55="","",февраль!L55) | U55: =IF(март!L55="","",март!L55) -> 2 | V55: =IF(апрель!L55="","",апрель!L55) -> 1 | W55: =IF(май!L55="","",май!L55) -> 2 | X55: =IF(AND(O55="",P55="",Q55="",R55="",S55="",T55="",U55="",V55="",W55=""),"",SUM(O55:W55)) -> 9 | Y55: =IF('Кол.часов по УП'!D54="","",'Кол.часов по УП'!D54) -> 102 | Z55: =IF(AND(X55="",Y55=""),"",X55/Y55*100) -> 8.8235294 | AA55: =IF(сентябрь!Q55="","",сентябрь!Q55) | AB55: =IF(октябрь!Q55="","",октябрь!Q55) -> 1 | AC55: =IF(ноябрь!Q55="","",ноябрь!Q55) -> 1 | AD55: =IF(декабрь!Q55="","",декабрь!Q55) | AE55: =IF(январь!Q55="","",январь!Q55) -> 1 | AF55: =IF(февраль!Q55="","",февраль!Q55) | AG55: =IF(март!Q55="","",март!Q55) -> 1 | AH55: =IF(апрель!Q55="","",апрель!Q55) -> 1 | AI55: =IF(май!Q55="","",май!Q55) -> 1 | AJ55: =IF(AND(AA55="",AB55="",AC55="",AD55="",AE55="",AF55="",AG55="",AH55="",AI55=""),"",SUM(AA55:AI55)) -> 6 | AK55: =IF('Кол.часов по УП'!E54="","",'Кол.часов по УП'!E54) -> 102 | AL55: =IF(AND(AJ55="",AK55=""),"",AJ55/AK55*100) -> 5.8823529 | AM55: =IF(сентябрь!V55="","",сентябрь!V55) -> 1 | AN55: =IF(октябрь!V55="","",октябрь!V55) | AO55: =IF(ноябрь!V55="","",ноябрь!V55) -> 1 | AP55: =IF(декабрь!V55="","",декабрь!V55) -> 1 | AQ55: =IF(январь!V55="","",январь!V55) -> 1 | AR55: =IF(февраль!V55="","",февраль!V55) | AS55: =IF(март!V55="","",март!V55) -> 2 | AT55: =IF(апрель!V55="","",апрель!V55) -> 1 | AU55: =IF(май!V55="","",май!V55) -> 2 | AV55: =IF(AND(AM55="",AN55="",AO55="",AP55="",AQ55="",AR55="",AS55="",AT55="",AU55=""),"",SUM(AM55:AU55)) -> 9 | AW55: =IF('Кол.часов по УП'!F54="","",'Кол.часов по УП'!F54) -> 102 | AX55: =IF(AND(AV55="",AW55=""),"",AV55/AW55*100) -> 8.8235294 | AY55: =IF(сентябрь!AA55="","",сентябрь!AA55) | AZ55: =IF(октябрь!AA55="","",октябрь!AA55) -> 1 | BA55: =IF(ноябрь!AA55="","",ноябрь!AA55) | BB55: =IF(декабрь!AA55="","",декабрь!AA55) | BC55: =IF(январь!AA55="","",январь!AA55) -> 1 | BD55: =IF(февраль!AA55="","",февраль!AA55) | BE55: =IF(март!AA55="","",март!AA55) -> 1 | BF55: =IF(апрель!AA55="","",апрель!AA55) -> 1 | BG55: =IF(май!AA55="","",май!AA55) -> 1 | BH55: =IF(AND(AY55="",AZ55="",BA55="",BB55="",BC55="",BD55="",BE55="",BF55="",BG55=""),"",SUM(AY55:BG55)) -> 5 | BI55: =IF('Кол.часов по УП'!G54="","",'Кол.часов по УП'!G54) -> 102 | BJ55: =IF(AND(BH55="",BI55=""),"",BH55/BI55*100) -> 4.9019608 | BK55: =IF(сентябрь!AF55="","",сентябрь!AF55) | BL55: =IF(октябрь!AF55="","",октябрь!AF55) | BM55: =IF(ноябрь!AF55="","",ноябрь!AF55) | BN55: =IF(декабрь!AF55="","",декабрь!AF55) | BO55: =IF(январь!AF55="","",январь!AF55) | BP55: =IF(февраль!AF55="","",февраль!AF55) | BQ55: =IF(март!AF55="","",март!AF55) | BR55: =IF(апрель!AF55="","",апрель!AF55) | BS55: =IF(май!AF55="","",май!AF55) | BT55: =IF(AND(BK55="",BL55="",BM55="",BN55="",BO55="",BP55="",BQ55="",BR55="",BS55=""),"",SUM(BK55:BS55)) | BU55: =IF('Кол.часов по УП'!H54="","",'Кол.часов по УП'!H54) | BV55: =IF(AND(BT55="",BU55=""),"",BT55/BU55*100)
A56: 6 | B56: География | C56: =IF(сентябрь!G56="","",сентябрь!G56) -> 1 | D56: =IF(октябрь!G56="","",октябрь!G56) | E56: =IF(ноябрь!G56="","",ноябрь!G56) | F56: =IF(декабрь!G56="","",декабрь!G56) | G56: =IF(январь!G56="","",январь!G56) | H56: =IF(февраль!G56="","",февраль!G56) -> 1 | I56: =IF(март!G56="","",март!G56) | J56: =IF(апрель!G56="","",апрель!G56) | K56: =IF(май!G56="","",май!G56) -> 1 | L56: =IF(AND(C56="",D56="",E56="",F56="",G56="",H56="",I56="",J56="",K56=""),"",SUM(C56:K56)) -> 3 | M56: =IF('Кол.часов по УП'!C55="","",'Кол.часов по УП'!C55) -> 34 | N56: =IF(AND(L56="",M56=""),"",L56/M56*100) -> 8.8235294 | O56: =IF(сентябрь!L56="","",сентябрь!L56) -> 1 | P56: =IF(октябрь!L56="","",октябрь!L56) | Q56: =IF(ноябрь!L56="","",ноябрь!L56) | R56: =IF(декабрь!L56="","",декабрь!L56) | S56: =IF(январь!L56="","",январь!L56) | T56: =IF(февраль!L56="","",февраль!L56) -> 1 | U56: =IF(март!L56="","",март!L56) | V56: =IF(апрель!L56="","",апрель!L56) | W56: =IF(май!L56="","",май!L56) -> 1 | X56: =IF(AND(O56="",P56="",Q56="",R56="",S56="",T56="",U56="",V56="",W56=""),"",SUM(O56:W56)) -> 3 | Y56: =IF('Кол.часов по УП'!D55="","",'Кол.часов по УП'!D55) -> 34 | Z56: =IF(AND(X56="",Y56=""),"",X56/Y56*100) -> 8.8235294 | AA56: =IF(сентябрь!Q56="","",сентябрь!Q56) -> 1 | AB56: =IF(октябрь!Q56="","",октябрь!Q56) | AC56: =IF(ноябрь!Q56="","",ноябрь!Q56) | AD56: =IF(декабрь!Q56="","",декабрь!Q56) | AE56: =IF(январь!Q56="","",январь!Q56) | AF56: =IF(февраль!Q56="","",февраль!Q56) -> 1 | AG56: =IF(март!Q56="","",март!Q56) | AH56: =IF(апрель!Q56="","",апрель!Q56) | AI56: =IF(май!Q56="","",май!Q56) -> 1 | AJ56: =IF(AND(AA56="",AB56="",AC56="",AD56="",AE56="",AF56="",AG56="",AH56="",AI56=""),"",SUM(AA56:AI56)) -> 3 | AK56: =IF('Кол.часов по УП'!E55="","",'Кол.часов по УП'!E55) -> 34 | AL56: =IF(AND(AJ56="",AK56=""),"",AJ56/AK56*100) -> 8.8235294 | AM56: =IF(сентябрь!V56="","",сентябрь!V56) -> 1 | AN56: =IF(октябрь!V56="","",октябрь!V56) | AO56: =IF(ноябрь!V56="","",ноябрь!V56) | AP56: =IF(декабрь!V56="","",декабрь!V56) | AQ56: =IF(январь!V56="","",январь!V56) | AR56: =IF(февраль!V56="","",февраль!V56) -> 1 | AS56: =IF(март!V56="","",март!V56) | AT56: =IF(апрель!V56="","",апрель!V56) | AU56: =IF(май!V56="","",май!V56) -> 1 | AV56: =IF(AND(AM56="",AN56="",AO56="",AP56="",AQ56="",AR56="",AS56="",AT56="",AU56=""),"",SUM(AM56:AU56)) -> 3 | AW56: =IF('Кол.часов по УП'!F55="","",'Кол.часов по УП'!F55) -> 34 | AX56: =IF(AND(AV56="",AW56=""),"",AV56/AW56*100) -> 8.8235294 | AY56: =IF(сентябрь!AA56="","",сентябрь!AA56) -> 1 | AZ56: =IF(октябрь!AA56="","",октябрь!AA56) | BA56: =IF(ноябрь!AA56="","",ноябрь!AA56) | BB56: =IF(декабрь!AA56="","",декабрь!AA56) | BC56: =IF(январь!AA56="","",январь!AA56) | BD56: =IF(февраль!AA56="","",февраль!AA56) -> 1 | BE56: =IF(март!AA56="","",март!AA56) | BF56: =IF(апрель!AA56="","",апрель!AA56) | BG56: =IF(май!AA56="","",май!AA56) -> 1 | BH56: =IF(AND(AY56="",AZ56="",BA56="",BB56="",BC56="",BD56="",BE56="",BF56="",BG56=""),"",SUM(AY56:BG56)) -> 3 | BI56: =IF('Кол.часов по УП'!G55="","",'Кол.часов по УП'!G55) -> 34 | BJ56: =IF(AND(BH56="",BI56=""),"",BH56/BI56*100) -> 8.8235294 | BK56: =IF(сентябрь!AF56="","",сентябрь!AF56) | BL56: =IF(октябрь!AF56="","",октябрь!AF56) | BM56: =IF(ноябрь!AF56="","",ноябрь!AF56) | BN56: =IF(декабрь!AF56="","",декабрь!AF56) | BO56: =IF(январь!AF56="","",январь!AF56) | BP56: =IF(февраль!AF56="","",февраль!AF56) | BQ56: =IF(март!AF56="","",март!AF56) | BR56: =IF(апрель!AF56="","",апрель!AF56) | BS56: =IF(май!AF56="","",май!AF56) | BT56: =IF(AND(BK56="",BL56="",BM56="",BN56="",BO56="",BP56="",BQ56="",BR56="",BS56=""),"",SUM(BK56:BS56)) | BU56: =IF('Кол.часов по УП'!H55="","",'Кол.часов по УП'!H55) | BV56: =IF(AND(BT56="",BU56=""),"",BT56/BU56*100)
A57: 7 | B57: Биология | C57: =IF(сентябрь!G57="","",сентябрь!G57) -> 1 | D57: =IF(октябрь!G57="","",октябрь!G57) | E57: =IF(ноябрь!G57="","",ноябрь!G57) | F57: =IF(декабрь!G57="","",декабрь!G57) | G57: =IF(январь!G57="","",январь!G57) | H57: =IF(февраль!G57="","",февраль!G57) | I57: =IF(март!G57="","",март!G57) | J57: =IF(апрель!G57="","",апрель!G57) -> 1 | K57: =IF(май!G57="","",май!G57) | L57: =IF(AND(C57="",D57="",E57="",F57="",G57="",H57="",I57="",J57="",K57=""),"",SUM(C57:K57)) -> 2 | M57: =IF('Кол.часов по УП'!C56="","",'Кол.часов по УП'!C56) -> 34 | N57: =IF(AND(L57="",M57=""),"",L57/M57*100) -> 5.8823529 | O57: =IF(сентябрь!L57="","",сентябрь!L57) -> 1 | P57: =IF(октябрь!L57="","",октябрь!L57) | Q57: =IF(ноябрь!L57="","",ноябрь!L57) | R57: =IF(декабрь!L57="","",декабрь!L57) | S57: =IF(январь!L57="","",январь!L57) | T57: =IF(февраль!L57="","",февраль!L57) | U57: =IF(март!L57="","",март!L57) | V57: =IF(апрель!L57="","",апрель!L57) -> 1 | W57: =IF(май!L57="","",май!L57) | X57: =IF(AND(O57="",P57="",Q57="",R57="",S57="",T57="",U57="",V57="",W57=""),"",SUM(O57:W57)) -> 2 | Y57: =IF('Кол.часов по УП'!D56="","",'Кол.часов по УП'!D56) -> 34 | Z57: =IF(AND(X57="",Y57=""),"",X57/Y57*100) -> 5.8823529 | AA57: =IF(сентябрь!Q57="","",сентябрь!Q57) -> 1 | AB57: =IF(октябрь!Q57="","",октябрь!Q57) | AC57: =IF(ноябрь!Q57="","",ноябрь!Q57) | AD57: =IF(декабрь!Q57="","",декабрь!Q57) | AE57: =IF(январь!Q57="","",январь!Q57) | AF57: =IF(февраль!Q57="","",февраль!Q57) | AG57: =IF(март!Q57="","",март!Q57) | AH57: =IF(апрель!Q57="","",апрель!Q57) -> 1 | AI57: =IF(май!Q57="","",май!Q57) | AJ57: =IF(AND(AA57="",AB57="",AC57="",AD57="",AE57="",AF57="",AG57="",AH57="",AI57=""),"",SUM(AA57:AI57)) -> 2 | AK57: =IF('Кол.часов по УП'!E56="","",'Кол.часов по УП'!E56) -> 34 | AL57: =IF(AND(AJ57="",AK57=""),"",AJ57/AK57*100) -> 5.8823529 | AM57: =IF(сентябрь!V57="","",сентябрь!V57) -> 1 | AN57: =IF(октябрь!V57="","",октябрь!V57) | AO57: =IF(ноябрь!V57="","",ноябрь!V57) | AP57: =IF(декабрь!V57="","",декабрь!V57) | AQ57: =IF(январь!V57="","",январь!V57) | AR57: =IF(февраль!V57="","",февраль!V57) | AS57: =IF(март!V57="","",март!V57) | AT57: =IF(апрель!V57="","",апрель!V57) -> 1 | AU57: =IF(май!V57="","",май!V57) | AV57: =IF(AND(AM57="",AN57="",AO57="",AP57="",AQ57="",AR57="",AS57="",AT57="",AU57=""),"",SUM(AM57:AU57)) -> 2 | AW57: =IF('Кол.часов по УП'!F56="","",'Кол.часов по УП'!F56) -> 34 | AX57: =IF(AND(AV57="",AW57=""),"",AV57/AW57*100) -> 5.8823529 | AY57: =IF(сентябрь!AA57="","",сентябрь!AA57) -> 1 | AZ57: =IF(октябрь!AA57="","",октябрь!AA57) | BA57: =IF(ноябрь!AA57="","",ноябрь!AA57) | BB57: =IF(декабрь!AA57="","",декабрь!AA57) | BC57: =IF(январь!AA57="","",январь!AA57) | BD57: =IF(февраль!AA57="","",февраль!AA57) -> 1 | BE57: =IF(март!AA57="","",март!AA57) | BF57: =IF(апрель!AA57="","",апрель!AA57) -> 1 | BG57: =IF(май!AA57="","",май!AA57) | BH57: =IF(AND(AY57="",AZ57="",BA57="",BB57="",BC57="",BD57="",BE57="",BF57="",BG57=""),"",SUM(AY57:BG57)) -> 3 | BI57: =IF('Кол.часов по УП'!G56="","",'Кол.часов по УП'!G56) -> 34 | BJ57: =IF(AND(BH57="",BI57=""),"",BH57/BI57*100) -> 8.8235294 | BK57: =IF(сентябрь!AF57="","",сентябрь!AF57) | BL57: =IF(октябрь!AF57="","",октябрь!AF57) | BM57: =IF(ноябрь!AF57="","",ноябрь!AF57) | BN57: =IF(декабрь!AF57="","",декабрь!AF57) | BO57: =IF(январь!AF57="","",январь!AF57) | BP57: =IF(февраль!AF57="","",февраль!AF57) | BQ57: =IF(март!AF57="","",март!AF57) | BR57: =IF(апрель!AF57="","",апрель!AF57) | BS57: =IF(май!AF57="","",май!AF57) | BT57: =IF(AND(BK57="",BL57="",BM57="",BN57="",BO57="",BP57="",BQ57="",BR57="",BS57=""),"",SUM(BK57:BS57)) | BU57: =IF('Кол.часов по УП'!H56="","",'Кол.часов по УП'!H56) | BV57: =IF(AND(BT57="",BU57=""),"",BT57/BU57*100)
A58: 8 | B58: ОДНКНР | C58: =IF(сентябрь!G58="","",сентябрь!G58) | D58: =IF(октябрь!G58="","",октябрь!G58) | E58: =IF(ноябрь!G58="","",ноябрь!G58) | F58: =IF(декабрь!G58="","",декабрь!G58) | G58: =IF(январь!G58="","",январь!G58) | H58: =IF(февраль!G58="","",февраль!G58) | I58: =IF(март!G58="","",март!G58) | J58: =IF(апрель!G58="","",апрель!G58) | K58: =IF(май!G58="","",май!G58) | L58: =IF(AND(C58="",D58="",E58="",F58="",G58="",H58="",I58="",J58="",K58=""),"",SUM(C58:K58)) | M58: =IF('Кол.часов по УП'!C57="","",'Кол.часов по УП'!C57) | N58: =IF(AND(L58="",M58=""),"",L58/M58*100) | O58: =IF(сентябрь!L58="","",сентябрь!L58) | P58: =IF(октябрь!L58="","",октябрь!L58) | Q58: =IF(ноябрь!L58="","",ноябрь!L58) | R58: =IF(декабрь!L58="","",декабрь!L58) | S58: =IF(январь!L58="","",январь!L58) | T58: =IF(февраль!L58="","",февраль!L58) | U58: =IF(март!L58="","",март!L58) | V58: =IF(апрель!L58="","",апрель!L58) | W58: =IF(май!L58="","",май!L58) | X58: =IF(AND(O58="",P58="",Q58="",R58="",S58="",T58="",U58="",V58="",W58=""),"",SUM(O58:W58)) | Y58: =IF('Кол.часов по УП'!D57="","",'Кол.часов по УП'!D57) | Z58: =IF(AND(X58="",Y58=""),"",X58/Y58*100) | AA58: =IF(сентябрь!Q58="","",сентябрь!Q58) | AB58: =IF(октябрь!Q58="","",октябрь!Q58) | AC58: =IF(ноябрь!Q58="","",ноябрь!Q58) | AD58: =IF(декабрь!Q58="","",декабрь!Q58) | AE58: =IF(январь!Q58="","",январь!Q58) | AF58: =IF(февраль!Q58="","",февраль!Q58) | AG58: =IF(март!Q58="","",март!Q58) | AH58: =IF(апрель!Q58="","",апрель!Q58) | AI58: =IF(май!Q58="","",май!Q58) | AJ58: =IF(AND(AA58="",AB58="",AC58="",AD58="",AE58="",AF58="",AG58="",AH58="",AI58=""),"",SUM(AA58:AI58)) | AK58: =IF('Кол.часов по УП'!E57="","",'Кол.часов по УП'!E57) | AL58: =IF(AND(AJ58="",AK58=""),"",AJ58/AK58*100) | AM58: =IF(сентябрь!V58="","",сентябрь!V58) | AN58: =IF(октябрь!V58="","",октябрь!V58) | AO58: =IF(ноябрь!V58="","",ноябрь!V58) | AP58: =IF(декабрь!V58="","",декабрь!V58) | AQ58: =IF(январь!V58="","",январь!V58) | AR58: =IF(февраль!V58="","",февраль!V58) | AS58: =IF(март!V58="","",март!V58) | AT58: =IF(апрель!V58="","",апрель!V58) | AU58: =IF(май!V58="","",май!V58) | AV58: =IF(AND(AM58="",AN58="",AO58="",AP58="",AQ58="",AR58="",AS58="",AT58="",AU58=""),"",SUM(AM58:AU58)) | AW58: =IF('Кол.часов по УП'!F57="","",'Кол.часов по УП'!F57) | AX58: =IF(AND(AV58="",AW58=""),"",AV58/AW58*100) | AY58: =IF(сентябрь!AA58="","",сентябрь!AA58) | AZ58: =IF(октябрь!AA58="","",октябрь!AA58) | BA58: =IF(ноябрь!AA58="","",ноябрь!AA58) | BB58: =IF(декабрь!AA58="","",декабрь!AA58) | BC58: =IF(январь!AA58="","",январь!AA58) | BD58: =IF(февраль!AA58="","",февраль!AA58) | BE58: =IF(март!AA58="","",март!AA58) | BF58: =IF(апрель!AA58="","",апрель!AA58) | BG58: =IF(май!AA58="","",май!AA58) | BH58: =IF(AND(AY58="",AZ58="",BA58="",BB58="",BC58="",BD58="",BE58="",BF58="",BG58=""),"",SUM(AY58:BG58)) | BI58: =IF('Кол.часов по УП'!G57="","",'Кол.часов по УП'!G57) | BJ58: =IF(AND(BH58="",BI58=""),"",BH58/BI58*100) | BK58: =IF(сентябрь!AF58="","",сентябрь!AF58) | BL58: =IF(октябрь!AF58="","",октябрь!AF58) | BM58: =IF(ноябрь!AF58="","",ноябрь!AF58) | BN58: =IF(декабрь!AF58="","",декабрь!AF58) | BO58: =IF(январь!AF58="","",январь!AF58) | BP58: =IF(февраль!AF58="","",февраль!AF58) | BQ58: =IF(март!AF58="","",март!AF58) | BR58: =IF(апрель!AF58="","",апрель!AF58) | BS58: =IF(май!AF58="","",май!AF58) | BT58: =IF(AND(BK58="",BL58="",BM58="",BN58="",BO58="",BP58="",BQ58="",BR58="",BS58=""),"",SUM(BK58:BS58)) | BU58: =IF('Кол.часов по УП'!H57="","",'Кол.часов по УП'!H57) | BV58: =IF(AND(BT58="",BU58=""),"",BT58/BU58*100)
A59: 9 | B59: Музыка | C59: =IF(сентябрь!G59="","",сентябрь!G59) | D59: =IF(октябрь!G59="","",октябрь!G59) | E59: =IF(ноябрь!G59="","",ноябрь!G59) -> 11 | F59: =IF(декабрь!G59="","",декабрь!G59) | G59: =IF(январь!G59="","",январь!G59) | H59: =IF(февраль!G59="","",февраль!G59) -> 1 | I59: =IF(март!G59="","",март!G59) | J59: =IF(апрель!G59="","",апрель!G59) -> 1 | K59: =IF(май!G59="","",май!G59) | L59: =IF(AND(C59="",D59="",E59="",F59="",G59="",H59="",I59="",J59="",K59=""),"",SUM(C59:K59)) -> 13 | M59: =IF('Кол.часов по УП'!C58="","",'Кол.часов по УП'!C58) -> 31 | N59: =IF(AND(L59="",M59=""),"",L59/M59*100) -> 41.935484 | O59: =IF(сентябрь!L59="","",сентябрь!L59) | P59: =IF(октябрь!L59="","",октябрь!L59) | Q59: =IF(ноябрь!L59="","",ноябрь!L59) -> 1 | R59: =IF(декабрь!L59="","",декабрь!L59) | S59: =IF(январь!L59="","",январь!L59) | T59: =IF(февраль!L59="","",февраль!L59) -> 1 | U59: =IF(март!L59="","",март!L59) | V59: =IF(апрель!L59="","",апрель!L59) -> 1 | W59: =IF(май!L59="","",май!L59) | X59: =IF(AND(O59="",P59="",Q59="",R59="",S59="",T59="",U59="",V59="",W59=""),"",SUM(O59:W59)) -> 3 | Y59: =IF('Кол.часов по УП'!D58="","",'Кол.часов по УП'!D58) -> 33 | Z59: =IF(AND(X59="",Y59=""),"",X59/Y59*100) -> 9.0909091 | AA59: =IF(сентябрь!Q59="","",сентябрь!Q59) | AB59: =IF(октябрь!Q59="","",октябрь!Q59) | AC59: =IF(ноябрь!Q59="","",ноябрь!Q59) -> 1 | AD59: =IF(декабрь!Q59="","",декабрь!Q59) | AE59: =IF(январь!Q59="","",январь!Q59) | AF59: =IF(февраль!Q59="","",февраль!Q59) -> 1 | AG59: =IF(март!Q59="","",март!Q59) | AH59: =IF(апрель!Q59="","",апрель!Q59) -> 1 | AI59: =IF(май!Q59="","",май!Q59) | AJ59: =IF(AND(AA59="",AB59="",AC59="",AD59="",AE59="",AF59="",AG59="",AH59="",AI59=""),"",SUM(AA59:AI59)) -> 3 | AK59: =IF('Кол.часов по УП'!E58="","",'Кол.часов по УП'!E58) -> 33 | AL59: =IF(AND(AJ59="",AK59=""),"",AJ59/AK59*100) -> 9.0909091 | AM59: =IF(сентябрь!V59="","",сентябрь!V59) | AN59: =IF(октябрь!V59="","",октябрь!V59) | AO59: =IF(ноябрь!V59="","",ноябрь!V59) -> 1 | AP59: =IF(декабрь!V59="","",декабрь!V59) | AQ59: =IF(январь!V59="","",январь!V59) | AR59: =IF(февраль!V59="","",февраль!V59) -> 1 | AS59: =IF(март!V59="","",март!V59) | AT59: =IF(апрель!V59="","",апрель!V59) -> 1 | AU59: =IF(май!V59="","",май!V59) | AV59: =IF(AND(AM59="",AN59="",AO59="",AP59="",AQ59="",AR59="",AS59="",AT59="",AU59=""),"",SUM(AM59:AU59)) -> 3 | AW59: =IF('Кол.часов по УП'!F58="","",'Кол.часов по УП'!F58) -> 32 | AX59: =IF(AND(AV59="",AW59=""),"",AV59/AW59*100) -> 9.375 | AY59: =IF(сентябрь!AA59="","",сентябрь!AA59) | AZ59: =IF(октябрь!AA59="","",октябрь!AA59) | BA59: =IF(ноябрь!AA59="","",ноябрь!AA59) -> 1 | BB59: =IF(декабрь!AA59="","",декабрь!AA59) | BC59: =IF(январь!AA59="","",январь!AA59) | BD59: =IF(февраль!AA59="","",февраль!AA59) -> 1 | BE59: =IF(март!AA59="","",март!AA59) | BF59: =IF(апрель!AA59="","",апрель!AA59) -> 1 | BG59: =IF(май!AA59="","",май!AA59) | BH59: =IF(AND(AY59="",AZ59="",BA59="",BB59="",BC59="",BD59="",BE59="",BF59="",BG59=""),"",SUM(AY59:BG59)) -> 3 | BI59: =IF('Кол.часов по УП'!G58="","",'Кол.часов по УП'!G58) -> 32 | BJ59: =IF(AND(BH59="",BI59=""),"",BH59/BI59*100) -> 9.375 | BK59: =IF(сентябрь!AF59="","",сентябрь!AF59) | BL59: =IF(октябрь!AF59="","",октябрь!AF59) | BM59: =IF(ноябрь!AF59="","",ноябрь!AF59) | BN59: =IF(декабрь!AF59="","",декабрь!AF59) | BO59: =IF(январь!AF59="","",январь!AF59) | BP59: =IF(февраль!AF59="","",февраль!AF59) | BQ59: =IF(март!AF59="","",март!AF59) | BR59: =IF(апрель!AF59="","",апрель!AF59) | BS59: =IF(май!AF59="","",май!AF59) | BT59: =IF(AND(BK59="",BL59="",BM59="",BN59="",BO59="",BP59="",BQ59="",BR59="",BS59=""),"",SUM(BK59:BS59)) | BU59: =IF('Кол.часов по УП'!H58="","",'Кол.часов по УП'!H58) | BV59: =IF(AND(BT59="",BU59=""),"",BT59/BU59*100)
A60: 10 | B60: Изобразительное искусство | C60: =IF(сентябрь!G60="","",сентябрь!G60) | D60: =IF(октябрь!G60="","",октябрь!G60) | E60: =IF(ноябрь!G60="","",ноябрь!G60) | F60: =IF(декабрь!G60="","",декабрь!G60) | G60: =IF(январь!G60="","",январь!G60) -> 1 | H60: =IF(февраль!G60="","",февраль!G60) | I60: =IF(март!G60="","",март!G60) | J60: =IF(апрель!G60="","",апрель!G60) | K60: =IF(май!G60="","",май!G60) | L60: =IF(AND(C60="",D60="",E60="",F60="",G60="",H60="",I60="",J60="",K60=""),"",SUM(C60:K60)) -> 1 | M60: =IF('Кол.часов по УП'!C59="","",'Кол.часов по УП'!C59) -> 32 | N60: =IF(AND(L60="",M60=""),"",L60/M60*100) -> 3.125 | O60: =IF(сентябрь!L60="","",сентябрь!L60) | P60: =IF(октябрь!L60="","",октябрь!L60) | Q60: =IF(ноябрь!L60="","",ноябрь!L60) | R60: =IF(декабрь!L60="","",декабрь!L60) | S60: =IF(январь!L60="","",январь!L60) -> 1 | T60: =IF(февраль!L60="","",февраль!L60) | U60: =IF(март!L60="","",март!L60) | V60: =IF(апрель!L60="","",апрель!L60) | W60: =IF(май!L60="","",май!L60) | X60: =IF(AND(O60="",P60="",Q60="",R60="",S60="",T60="",U60="",V60="",W60=""),"",SUM(O60:W60)) -> 1 | Y60: =IF('Кол.часов по УП'!D59="","",'Кол.часов по УП'!D59) -> 32 | Z60: =IF(AND(X60="",Y60=""),"",X60/Y60*100) -> 3.125 | AA60: =IF(сентябрь!Q60="","",сентябрь!Q60) | AB60: =IF(октябрь!Q60="","",октябрь!Q60) | AC60: =IF(ноябрь!Q60="","",ноябрь!Q60) | AD60: =IF(декабрь!Q60="","",декабрь!Q60) | AE60: =IF(январь!Q60="","",январь!Q60) -> 1 | AF60: =IF(февраль!Q60="","",февраль!Q60) | AG60: =IF(март!Q60="","",март!Q60) | AH60: =IF(апрель!Q60="","",апрель!Q60) | AI60: =IF(май!Q60="","",май!Q60) | AJ60: =IF(AND(AA60="",AB60="",AC60="",AD60="",AE60="",AF60="",AG60="",AH60="",AI60=""),"",SUM(AA60:AI60)) -> 1 | AK60: =IF('Кол.часов по УП'!E59="","",'Кол.часов по УП'!E59) -> 32 | AL60: =IF(AND(AJ60="",AK60=""),"",AJ60/AK60*100) -> 3.125 | AM60: =IF(сентябрь!V60="","",сентябрь!V60) | AN60: =IF(октябрь!V60="","",октябрь!V60) | AO60: =IF(ноябрь!V60="","",ноябрь!V60) | AP60: =IF(декабрь!V60="","",декабрь!V60) | AQ60: =IF(январь!V60="","",январь!V60) -> 1 | AR60: =IF(февраль!V60="","",февраль!V60) | AS60: =IF(март!V60="","",март!V60) | AT60: =IF(апрель!V60="","",апрель!V60) | AU60: =IF(май!V60="","",май!V60) | AV60: =IF(AND(AM60="",AN60="",AO60="",AP60="",AQ60="",AR60="",AS60="",AT60="",AU60=""),"",SUM(AM60:AU60)) -> 1 | AW60: =IF('Кол.часов по УП'!F59="","",'Кол.часов по УП'!F59) -> 32 | AX60: =IF(AND(AV60="",AW60=""),"",AV60/AW60*100) -> 3.125 | AY60: =IF(сентябрь!AA60="","",сентябрь!AA60) | AZ60: =IF(октябрь!AA60="","",октябрь!AA60) | BA60: =IF(ноябрь!AA60="","",ноябрь!AA60) | BB60: =IF(декабрь!AA60="","",декабрь!AA60) | BC60: =IF(январь!AA60="","",январь!AA60) -> 1 | BD60: =IF(февраль!AA60="","",февраль!AA60) | BE60: =IF(март!AA60="","",март!AA60) | BF60: =IF(апрель!AA60="","",апрель!AA60) | BG60: =IF(май!AA60="","",май!AA60) | BH60: =IF(AND(AY60="",AZ60="",BA60="",BB60="",BC60="",BD60="",BE60="",BF60="",BG60=""),"",SUM(AY60:BG60)) -> 1 | BI60: =IF('Кол.часов по УП'!G59="","",'Кол.часов по УП'!G59) -> 32 | BJ60: =IF(AND(BH60="",BI60=""),"",BH60/BI60*100) -> 3.125 | BK60: =IF(сентябрь!AF60="","",сентябрь!AF60) | BL60: =IF(октябрь!AF60="","",октябрь!AF60) | BM60: =IF(ноябрь!AF60="","",ноябрь!AF60) | BN60: =IF(декабрь!AF60="","",декабрь!AF60) | BO60: =IF(январь!AF60="","",январь!AF60) | BP60: =IF(февраль!AF60="","",февраль!AF60) | BQ60: =IF(март!AF60="","",март!AF60) | BR60: =IF(апрель!AF60="","",апрель!AF60) | BS60: =IF(май!AF60="","",май!AF60) | BT60: =IF(AND(BK60="",BL60="",BM60="",BN60="",BO60="",BP60="",BQ60="",BR60="",BS60=""),"",SUM(BK60:BS60)) | BU60: =IF('Кол.часов по УП'!H59="","",'Кол.часов по УП'!H59) | BV60: =IF(AND(BT60="",BU60=""),"",BT60/BU60*100)
A61: 11 | B61: Труд (технология) | C61: =IF(сентябрь!G61="","",сентябрь!G61) | D61: =IF(октябрь!G61="","",октябрь!G61) -> 1 | E61: =IF(ноябрь!G61="","",ноябрь!G61) | F61: =IF(декабрь!G61="","",декабрь!G61) -> 1 | G61: =IF(январь!G61="","",январь!G61) | H61: =IF(февраль!G61="","",февраль!G61) | I61: =IF(март!G61="","",март!G61) | J61: =IF(апрель!G61="","",апрель!G61) | K61: =IF(май!G61="","",май!G61) -> 1 | L61: =IF(AND(C61="",D61="",E61="",F61="",G61="",H61="",I61="",J61="",K61=""),"",SUM(C61:K61)) -> 3 | M61: =IF('Кол.часов по УП'!C60="","",'Кол.часов по УП'!C60) -> 68 | N61: =IF(AND(L61="",M61=""),"",L61/M61*100) -> 4.4117647 | O61: =IF(сентябрь!L61="","",сентябрь!L61) | P61: =IF(октябрь!L61="","",октябрь!L61) -> 1 | Q61: =IF(ноябрь!L61="","",ноябрь!L61) | R61: =IF(декабрь!L61="","",декабрь!L61) -> 1 | S61: =IF(январь!L61="","",январь!L61) | T61: =IF(февраль!L61="","",февраль!L61) | U61: =IF(март!L61="","",март!L61) | V61: =IF(апрель!L61="","",апрель!L61) | W61: =IF(май!L61="","",май!L61) -> 1 | X61: =IF(AND(O61="",P61="",Q61="",R61="",S61="",T61="",U61="",V61="",W61=""),"",SUM(O61:W61)) -> 3 | Y61: =IF('Кол.часов по УП'!D60="","",'Кол.часов по УП'!D60) -> 68 | Z61: =IF(AND(X61="",Y61=""),"",X61/Y61*100) -> 4.4117647 | AA61: =IF(сентябрь!Q61="","",сентябрь!Q61) | AB61: =IF(октябрь!Q61="","",октябрь!Q61) -> 1 | AC61: =IF(ноябрь!Q61="","",ноябрь!Q61) | AD61: =IF(декабрь!Q61="","",декабрь!Q61) -> 1 | AE61: =IF(январь!Q61="","",январь!Q61) | AF61: =IF(февраль!Q61="","",февраль!Q61) | AG61: =IF(март!Q61="","",март!Q61) | AH61: =IF(апрель!Q61="","",апрель!Q61) | AI61: =IF(май!Q61="","",май!Q61) -> 1 | AJ61: =IF(AND(AA61="",AB61="",AC61="",AD61="",AE61="",AF61="",AG61="",AH61="",AI61=""),"",SUM(AA61:AI61)) -> 3 | AK61: =IF('Кол.часов по УП'!E60="","",'Кол.часов по УП'!E60) -> 68 | AL61: =IF(AND(AJ61="",AK61=""),"",AJ61/AK61*100) -> 4.4117647 | AM61: =IF(сентябрь!V61="","",сентябрь!V61) | AN61: =IF(октябрь!V61="","",октябрь!V61) -> 1 | AO61: =IF(ноябрь!V61="","",ноябрь!V61) | AP61: =IF(декабрь!V61="","",декабрь!V61) -> 1 | AQ61: =IF(январь!V61="","",январь!V61) | AR61: =IF(февраль!V61="","",февраль!V61) | AS61: =IF(март!V61="","",март!V61) | AT61: =IF(апрель!V61="","",апрель!V61) | AU61: =IF(май!V61="","",май!V61) -> 1 | AV61: =IF(AND(AM61="",AN61="",AO61="",AP61="",AQ61="",AR61="",AS61="",AT61="",AU61=""),"",SUM(AM61:AU61)) -> 3 | AW61: =IF('Кол.часов по УП'!F60="","",'Кол.часов по УП'!F60) -> 68 | AX61: =IF(AND(AV61="",AW61=""),"",AV61/AW61*100) -> 4.4117647 | AY61: =IF(сентябрь!AA61="","",сентябрь!AA61) | AZ61: =IF(октябрь!AA61="","",октябрь!AA61) -> 1 | BA61: =IF(ноябрь!AA61="","",ноябрь!AA61) | BB61: =IF(декабрь!AA61="","",декабрь!AA61) -> 1 | BC61: =IF(январь!AA61="","",январь!AA61) | BD61: =IF(февраль!AA61="","",февраль!AA61) | BE61: =IF(март!AA61="","",март!AA61) | BF61: =IF(апрель!AA61="","",апрель!AA61) | BG61: =IF(май!AA61="","",май!AA61) -> 1 | BH61: =IF(AND(AY61="",AZ61="",BA61="",BB61="",BC61="",BD61="",BE61="",BF61="",BG61=""),"",SUM(AY61:BG61)) -> 3 | BI61: =IF('Кол.часов по УП'!G60="","",'Кол.часов по УП'!G60) -> 68 | BJ61: =IF(AND(BH61="",BI61=""),"",BH61/BI61*100) -> 4.4117647 | BK61: =IF(сентябрь!AF61="","",сентябрь!AF61) | BL61: =IF(октябрь!AF61="","",октябрь!AF61) | BM61: =IF(ноябрь!AF61="","",ноябрь!AF61) | BN61: =IF(декабрь!AF61="","",декабрь!AF61) | BO61: =IF(январь!AF61="","",январь!AF61) | BP61: =IF(февраль!AF61="","",февраль!AF61) | BQ61: =IF(март!AF61="","",март!AF61) | BR61: =IF(апрель!AF61="","",апрель!AF61) | BS61: =IF(май!AF61="","",май!AF61) | BT61: =IF(AND(BK61="",BL61="",BM61="",BN61="",BO61="",BP61="",BQ61="",BR61="",BS61=""),"",SUM(BK61:BS61)) | BU61: =IF('Кол.часов по УП'!H60="","",'Кол.часов по УП'!H60) | BV61: =IF(AND(BT61="",BU61=""),"",BT61/BU61*100)
A62: 12 | B62: Физическая культура | C62: =IF(сентябрь!G62="","",сентябрь!G62) -> 2 | D62: =IF(октябрь!G62="","",октябрь!G62) -> 1 | E62: =IF(ноябрь!G62="","",ноябрь!G62) -> 1 | F62: =IF(декабрь!G62="","",декабрь!G62) | G62: =IF(январь!G62="","",январь!G62) | H62: =IF(февраль!G62="","",февраль!G62) | I62: =IF(март!G62="","",март!G62) -> 1 | J62: =IF(апрель!G62="","",апрель!G62) -> 1 | K62: =IF(май!G62="","",май!G62) -> 1 | L62: =IF(AND(C62="",D62="",E62="",F62="",G62="",H62="",I62="",J62="",K62=""),"",SUM(C62:K62)) -> 7 | M62: =IF('Кол.часов по УП'!C61="","",'Кол.часов по УП'!C61) -> 68 | N62: =IF(AND(L62="",M62=""),"",L62/M62*100) -> 10.294118 | O62: =IF(сентябрь!L62="","",сентябрь!L62) -> 2 | P62: =IF(октябрь!L62="","",октябрь!L62) -> 1 | Q62: =IF(ноябрь!L62="","",ноябрь!L62) -> 1 | R62: =IF(декабрь!L62="","",декабрь!L62) | S62: =IF(январь!L62="","",январь!L62) | T62: =IF(февраль!L62="","",февраль!L62) | U62: =IF(март!L62="","",март!L62) -> 1 | V62: =IF(апрель!L62="","",апрель!L62) -> 1 | W62: =IF(май!L62="","",май!L62) -> 1 | X62: =IF(AND(O62="",P62="",Q62="",R62="",S62="",T62="",U62="",V62="",W62=""),"",SUM(O62:W62)) -> 7 | Y62: =IF('Кол.часов по УП'!D61="","",'Кол.часов по УП'!D61) -> 68 | Z62: =IF(AND(X62="",Y62=""),"",X62/Y62*100) -> 10.294118 | AA62: =IF(сентябрь!Q62="","",сентябрь!Q62) -> 2 | AB62: =IF(октябрь!Q62="","",октябрь!Q62) -> 1 | AC62: =IF(ноябрь!Q62="","",ноябрь!Q62) -> 1 | AD62: =IF(декабрь!Q62="","",декабрь!Q62) | AE62: =IF(январь!Q62="","",январь!Q62) | AF62: =IF(февраль!Q62="","",февраль!Q62) | AG62: =IF(март!Q62="","",март!Q62) -> 1 | AH62: =IF(апрель!Q62="","",апрель!Q62) -> 1 | AI62: =IF(май!Q62="","",май!Q62) -> 1 | AJ62: =IF(AND(AA62="",AB62="",AC62="",AD62="",AE62="",AF62="",AG62="",AH62="",AI62=""),"",SUM(AA62:AI62)) -> 7 | AK62: =IF('Кол.часов по УП'!E61="","",'Кол.часов по УП'!E61) -> 68 | AL62: =IF(AND(AJ62="",AK62=""),"",AJ62/AK62*100) -> 10.294118 | AM62: =IF(сентябрь!V62="","",сентябрь!V62) -> 2 | AN62: =IF(октябрь!V62="","",октябрь!V62) -> 1 | AO62: =IF(ноябрь!V62="","",ноябрь!V62) -> 1 | AP62: =IF(декабрь!V62="","",декабрь!V62) | AQ62: =IF(январь!V62="","",январь!V62) | AR62: =IF(февраль!V62="","",февраль!V62) | AS62: =IF(март!V62="","",март!V62) -> 1 | AT62: =IF(апрель!V62="","",апрель!V62) -> 1 | AU62: =IF(май!V62="","",май!V62) -> 1 | AV62: =IF(AND(AM62="",AN62="",AO62="",AP62="",AQ62="",AR62="",AS62="",AT62="",AU62=""),"",SUM(AM62:AU62)) -> 7 | AW62: =IF('Кол.часов по УП'!F61="","",'Кол.часов по УП'!F61) -> 68 | AX62: =IF(AND(AV62="",AW62=""),"",AV62/AW62*100) -> 10.294118 | AY62: =IF(сентябрь!AA62="","",сентябрь!AA62) -> 2 | AZ62: =IF(октябрь!AA62="","",октябрь!AA62) -> 1 | BA62: =IF(ноябрь!AA62="","",ноябрь!AA62) -> 1 | BB62: =IF(декабрь!AA62="","",декабрь!AA62) | BC62: =IF(январь!AA62="","",январь!AA62) | BD62: =IF(февраль!AA62="","",февраль!AA62) | BE62: =IF(март!AA62="","",март!AA62) -> 1 | BF62: =IF(апрель!AA62="","",апрель!AA62) -> 1 | BG62: =IF(май!AA62="","",май!AA62) -> 1 | BH62: =IF(AND(AY62="",AZ62="",BA62="",BB62="",BC62="",BD62="",BE62="",BF62="",BG62=""),"",SUM(AY62:BG62)) -> 7 | BI62: =IF('Кол.часов по УП'!G61="","",'Кол.часов по УП'!G61) -> 68 | BJ62: =IF(AND(BH62="",BI62=""),"",BH62/BI62*100) -> 10.294118 | BK62: =IF(сентябрь!AF62="","",сентябрь!AF62) | BL62: =IF(октябрь!AF62="","",октябрь!AF62) | BM62: =IF(ноябрь!AF62="","",ноябрь!AF62) | BN62: =IF(декабрь!AF62="","",декабрь!AF62) | BO62: =IF(январь!AF62="","",январь!AF62) | BP62: =IF(февраль!AF62="","",февраль!AF62) | BQ62: =IF(март!AF62="","",март!AF62) | BR62: =IF(апрель!AF62="","",апрель!AF62) | BS62: =IF(май!AF62="","",май!AF62) | BT62: =IF(AND(BK62="",BL62="",BM62="",BN62="",BO62="",BP62="",BQ62="",BR62="",BS62=""),"",SUM(BK62:BS62)) | BU62: =IF('Кол.часов по УП'!H61="","",'Кол.часов по УП'!H61) | BV62: =IF(AND(BT62="",BU62=""),"",BT62/BU62*100)
... A64: 14 | B64: Информационная безопастность | C64: =IF(сентябрь!G64="","",сентябрь!G64) | D64: =IF(октябрь!G64="","",октябрь!G64) | E64: =IF(ноябрь!G64="","",ноябрь!G64) | F64: =IF(декабрь!G64="","",декабрь!G64) | G64: =IF(январь!G64="","",январь!G64) | H64: =IF(февраль!G64="","",февраль!G64) | I64: =IF(март!G64="","",март!G64) | J64: =IF(апрель!G64="","",апрель!G64) | K64: =IF(май!G64="","",май!G64) | L64: =IF(AND(C64="",D64="",E64="",F64="",G64="",H64="",I64="",J64="",K64=""),"",SUM(C64:K64)) | M64: =IF('Кол.часов по УП'!C63="","",'Кол.часов по УП'!C63) | N64: =IF(AND(L64="",M64=""),"",L64/M64*100) | O64: =IF(сентябрь!L64="","",сентябрь!L64) | P64: =IF(октябрь!L64="","",октябрь!L64) | Q64: =IF(ноябрь!L64="","",ноябрь!L64) | R64: =IF(декабрь!L64="","",декабрь!L64) | S64: =IF(январь!L64="","",январь!L64) | T64: =IF(февраль!L64="","",февраль!L64) | U64: =IF(март!L64="","",март!L64) | V64: =IF(апрель!L64="","",апрель!L64) | W64: =IF(май!L64="","",май!L64) | X64: =IF(AND(O64="",P64="",Q64="",R64="",S64="",T64="",U64="",V64="",W64=""),"",SUM(O64:W64)) | Y64: =IF('Кол.часов по УП'!D63="","",'Кол.часов по УП'!D63) | Z64: =IF(AND(X64="",Y64=""),"",X64/Y64*100) | AA64: =IF(сентябрь!Q64="","",сентябрь!Q64) | AB64: =IF(октябрь!Q64="","",октябрь!Q64) | AC64: =IF(ноябрь!Q64="","",ноябрь!Q64) | AD64: =IF(декабрь!Q64="","",декабрь!Q64) | AE64: =IF(январь!Q64="","",январь!Q64) | AF64: =IF(февраль!Q64="","",февраль!Q64) | AG64: =IF(март!Q64="","",март!Q64) | AH64: =IF(апрель!Q64="","",апрель!Q64) | AI64: =IF(май!Q64="","",май!Q64) | AJ64: =IF(AND(AA64="",AB64="",AC64="",AD64="",AE64="",AF64="",AG64="",AH64="",AI64=""),"",SUM(AA64:AI64)) | AK64: =IF('Кол.часов по УП'!E63="","",'Кол.часов по УП'!E63) | AL64: =IF(AND(AJ64="",AK64=""),"",AJ64/AK64*100) | AM64: =IF(сентябрь!V64="","",сентябрь!V64) | AN64: =IF(октябрь!V64="","",октябрь!V64) | AO64: =IF(ноябрь!V64="","",ноябрь!V64) | AP64: =IF(декабрь!V64="","",декабрь!V64) | AQ64: =IF(январь!V64="","",январь!V64) | AR64: =IF(февраль!V64="","",февраль!V64) | AS64: =IF(март!V64="","",март!V64) | AT64: =IF(апрель!V64="","",апрель!V64) | AU64: =IF(май!V64="","",май!V64) | AV64: =IF(AND(AM64="",AN64="",AO64="",AP64="",AQ64="",AR64="",AS64="",AT64="",AU64=""),"",SUM(AM64:AU64)) | AW64: =IF('Кол.часов по УП'!F63="","",'Кол.часов по УП'!F63) | AX64: =IF(AND(AV64="",AW64=""),"",AV64/AW64*100) | AY64: =IF(сентябрь!AA64="","",сентябрь!AA64) | AZ64: =IF(октябрь!AA64="","",октябрь!AA64) | BA64: =IF(ноябрь!AA64="","",ноябрь!AA64) | BB64: =IF(декабрь!AA64="","",декабрь!AA64) | BC64: =IF(январь!AA64="","",январь!AA64) | BD64: =IF(февраль!AA64="","",февраль!AA64) | BE64: =IF(март!AA64="","",март!AA64) | BF64: =IF(апрель!AA64="","",апрель!AA64) | BG64: =IF(май!AA64="","",май!AA64) | BH64: =IF(AND(AY64="",AZ64="",BA64="",BB64="",BC64="",BD64="",BE64="",BF64="",BG64=""),"",SUM(AY64:BG64)) | BI64: =IF('Кол.часов по УП'!G63="","",'Кол.часов по УП'!G63) | BJ64: =IF(AND(BH64="",BI64=""),"",BH64/BI64*100) | BK64: =IF(сентябрь!AF64="","",сентябрь!AF64) | BL64: =IF(октябрь!AF64="","",октябрь!AF64) | BM64: =IF(ноябрь!AF64="","",ноябрь!AF64) | BN64: =IF(декабрь!AF64="","",декабрь!AF64) | BO64: =IF(январь!AF64="","",январь!AF64) | BP64: =IF(февраль!AF64="","",февраль!AF64) | BQ64: =IF(март!AF64="","",март!AF64) | BR64: =IF(апрель!AF64="","",апрель!AF64) | BS64: =IF(май!AF64="","",май!AF64) | BT64: =IF(AND(BK64="",BL64="",BM64="",BN64="",BO64="",BP64="",BQ64="",BR64="",BS64=""),"",SUM(BK64:BS64)) | BU64: =IF('Кол.часов по УП'!H63="","",'Кол.часов по УП'!H63) | BV64: =IF(AND(BT64="",BU64=""),"",BT64/BU64*100)
C66: 6 А | O66: 6 Б | AA66: 6 В | AM66: 6 Г
B67: Предметы | C67: сентябрь | D67: октябрь | E67: ноябрь | F67: декабрь | G67: январь | H67: февраль | I67: март | J67: апрель | K67: май | L67: Всего оценочных процедур за год | M67: Кол-во часов по учебному плану (УП) | N67: % соотношение кол-ва оценочных процедур к кол-ву часов УП | O67: сентябрь | P67: октябрь | Q67: ноябрь | R67: декабрь | S67: январь | T67: февраль | U67: март | V67: апрель | W67: май | X67: Всего оценочных процедур за год | Y67: Кол-во часов по учебному плану (УП) | Z67: % соотношение кол-ва оценочных процедур к кол-ву часов УП | AA67: сентябрь | AB67: октябрь | AC67: ноябрь | AD67: декабрь | AE67: январь | AF67: февраль | AG67: март | AH67: апрель | AI67: май | AJ67: Всего оценочных процедур за год | AK67: Кол-во часов по учебному плану (УП) | AL67: % соотношение кол-ва оценочных процедур к кол-ву часов УП | AM67: сентябрь | AN67: октябрь | AO67: ноябрь | AP67: декабрь | AQ67: январь | AR67: февраль | AS67: март | AT67: апрель | AU67: май | AV67: Всего оценочных процедур за год | AW67: Кол-во часов по учебному плану (УП) | AX67: % соотношение кол-ва оценочных процедур к кол-ву часов УП | AY67: сентябрь | AZ67: октябрь | BA67: ноябрь | BB67: декабрь | BC67: январь | BD67: февраль | BE67: март | BF67: апрель | BG67: май | BH67: Всего оценочных процедур за год | BI67: Кол-во часов по учебному плану (УП) | BJ67: % соотношение кол-ва оценочных процедур к кол-ву часов УП | BK67: сентябрь | BL67: октябрь | BM67: ноябрь | BN67: декабрь | BO67: январь | BP67: февраль | BQ67: март | BR67: апрель | BS67: май | BT67: Всего оценочных процедур за год | BU67: Кол-во часов по учебному плану (УП) | BV67: % соотношение кол-ва оценочных процедур к кол-ву часов УП
A68: 1 | B68: Русский язык | C68: =IF(сентябрь!G68="","",сентябрь!G68) -> 1 | D68: =IF(октябрь!G68="","",октябрь!G68) -> 1 | E68: =IF(ноябрь!G68="","",ноябрь!G68) -> 2 | F68: =IF(декабрь!G68="","",декабрь!G68) -> 2 | G68: =IF(январь!G68="","",январь!G68) -> 3 | H68: =IF(февраль!G68="","",февраль!G68) -> 0 | I68: =IF(март!G68="","",март!G68) -> 2 | J68: =IF(апрель!G68="","",апрель!G68) -> 0 | K68: =IF(май!G68="","",май!G68) -> 3 | L68: =IF(AND(C68="",D68="",E68="",F68="",G68="",H68="",I68="",J68="",K68=""),"",SUM(C68:K68)) -> 14 | M68: =IF('Кол.часов по УП'!C67="","",'Кол.часов по УП'!C67) -> 191 | N68: =IF(AND(L68="",M68=""),"",L68/M68*100) -> 7.3298429 | O68: =IF(сентябрь!L68="","",сентябрь!L68) -> 1 | P68: =IF(октябрь!L68="","",октябрь!L68) -> 1 | Q68: =IF(ноябрь!L68="","",ноябрь!L68) -> 2 | R68: =IF(декабрь!L68="","",декабрь!L68) -> 2 | S68: =IF(январь!L68="","",январь!L68) -> 3 | T68: =IF(февраль!L68="","",февраль!L68) -> 0 | U68: =IF(март!L68="","",март!L68) -> 2 | V68: =IF(апрель!L68="","",апрель!L68) -> 0 | W68: =IF(май!L68="","",май!L68) -> 3 | X68: =IF(AND(O68="",P68="",Q68="",R68="",S68="",T68="",U68="",V68="",W68=""),"",SUM(O68:W68)) -> 14 | Y68: =IF('Кол.часов по УП'!D67="","",'Кол.часов по УП'!D67) -> 191 | Z68: =IF(AND(X68="",Y68=""),"",X68/Y68*100) -> 7.3298429 | AA68: =IF(сентябрь!Q68="","",сентябрь!Q68) -> 1 | AB68: =IF(октябрь!Q68="","",октябрь!Q68) -> 1 | AC68: =IF(ноябрь!Q68="","",ноябрь!Q68) -> 1 | AD68: =IF(декабрь!Q68="","",декабрь!Q68) -> 1 | AE68: =IF(январь!Q68="","",январь!Q68) -> 1 | AF68: =IF(февраль!Q68="","",февраль!Q68) -> 1 | AG68: =IF(март!Q68="","",март!Q68) -> 1 | AH68: =IF(апрель!Q68="","",апрель!Q68) -> 1 | AI68: =IF(май!Q68="","",май!Q68) -> 1 | AJ68: =IF(AND(AA68="",AB68="",AC68="",AD68="",AE68="",AF68="",AG68="",AH68="",AI68=""),"",SUM(AA68:AI68)) -> 9 | AK68: =IF('Кол.часов по УП'!E67="","",'Кол.часов по УП'!E67) -> 204 | AL68: =IF(AND(AJ68="",AK68=""),"",AJ68/AK68*100) -> 4.4117647 | AM68: =IF(сентябрь!V68="","",сентябрь!V68) -> 1 | AN68: =IF(октябрь!V68="","",октябрь!V68) -> 1 | AO68: =IF(ноябрь!V68="","",ноябрь!V68) -> 1 | AP68: =IF(декабрь!V68="","",декабрь!V68) -> 1 | AQ68: =IF(январь!V68="","",январь!V68) -> 1 | AR68: =IF(февраль!V68="","",февраль!V68) -> 1 | AS68: =IF(март!V68="","",март!V68) -> 1 | AT68: =IF(апрель!V68="","",апрель!V68) -> 1 | AU68: =IF(май!V68="","",май!V68) | AV68: =IF(AND(AM68="",AN68="",AO68="",AP68="",AQ68="",AR68="",AS68="",AT68="",AU68=""),"",SUM(AM68:AU68)) -> 8 | AW68: =IF('Кол.часов по УП'!F67="","",'Кол.часов по УП'!F67) -> 204 | AX68: =IF(AND(AV68="",AW68=""),"",AV68/AW68*100) -> 3.9215686 | AY68: =IF(сентябрь!AA68="","",сентябрь!AA68) -> 1 | AZ68: =IF(октябрь!AA68="","",октябрь!AA68) -> 1 | BA68: =IF(ноябрь!AA68="","",ноябрь!AA68) -> 2 | BB68: =IF(декабрь!AA68="","",декабрь!AA68) -> 2 | BC68: =IF(январь!AA68="","",январь!AA68) -> 3 | BD68: =IF(февраль!AA68="","",февраль!AA68) -> 0 | BE68: =IF(март!AA68="","",март!AA68) -> 2 | BF68: =IF(апрель!AA68="","",апрель!AA68) -> 0 | BG68: =IF(май!AA68="","",май!AA68) -> 3 | BH68: =IF(AND(AY68="",AZ68="",BA68="",BB68="",BC68="",BD68="",BE68="",BF68="",BG68=""),"",SUM(AY68:BG68)) -> 14 | BI68: =IF('Кол.часов по УП'!G67="","",'Кол.часов по УП'!G67) -> 204 | BJ68: =IF(AND(BH68="",BI68=""),"",BH68/BI68*100) -> 6.8627451 | BK68: =IF(сентябрь!AF68="","",сентябрь!AF68) | BL68: =IF(октябрь!AF68="","",октябрь!AF68) | BM68: =IF(ноябрь!AF68="","",ноябрь!AF68) | BN68: =IF(декабрь!AF68="","",декабрь!AF68) | BO68: =IF(январь!AF68="","",январь!AF68) | BP68: =IF(февраль!AF68="","",февраль!AF68) | BQ68: =IF(март!AF68="","",март!AF68) | BR68: =IF(апрель!AF68="","",апрель!AF68) | BS68: =IF(май!AF68="","",май!AF68) | BT68: =IF(AND(BK68="",BL68="",BM68="",BN68="",BO68="",BP68="",BQ68="",BR68="",BS68=""),"",SUM(BK68:BS68)) | BU68: =IF('Кол.часов по УП'!H67="","",'Кол.часов по УП'!H67) | BV68: =IF(AND(BT68="",BU68=""),"",BT68/BU68*100)
A69: 2 | B69: Литература | C69: =IF(сентябрь!G69="","",сентябрь!G69) | D69: =IF(октябрь!G69="","",октябрь!G69) | E69: =IF(ноябрь!G69="","",ноябрь!G69) | F69: =IF(декабрь!G69="","",декабрь!G69) | G69: =IF(январь!G69="","",январь!G69) -> 1 | H69: =IF(февраль!G69="","",февраль!G69) -> 0 | I69: =IF(март!G69="","",март!G69) -> 0 | J69: =IF(апрель!G69="","",апрель!G69) -> 1 | K69: =IF(май!G69="","",май!G69) | L69: =IF(AND(C69="",D69="",E69="",F69="",G69="",H69="",I69="",J69="",K69=""),"",SUM(C69:K69)) -> 2 | M69: =IF('Кол.часов по УП'!C68="","",'Кол.часов по УП'!C68) -> 96 | N69: =IF(AND(L69="",M69=""),"",L69/M69*100) -> 2.0833333 | O69: =IF(сентябрь!L69="","",сентябрь!L69) | P69: =IF(октябрь!L69="","",октябрь!L69) | Q69: =IF(ноябрь!L69="","",ноябрь!L69) | R69: =IF(декабрь!L69="","",декабрь!L69) | S69: =IF(январь!L69="","",январь!L69) -> 1 | T69: =IF(февраль!L69="","",февраль!L69) -> 0 | U69: =IF(март!L69="","",март!L69) -> 0 | V69: =IF(апрель!L69="","",апрель!L69) -> 1 | W69: =IF(май!L69="","",май!L69) | X69: =IF(AND(O69="",P69="",Q69="",R69="",S69="",T69="",U69="",V69="",W69=""),"",SUM(O69:W69)) -> 2 | Y69: =IF('Кол.часов по УП'!D68="","",'Кол.часов по УП'!D68) -> 94 | Z69: =IF(AND(X69="",Y69=""),"",X69/Y69*100) -> 2.1276596 | AA69: =IF(сентябрь!Q69="","",сентябрь!Q69) | AB69: =IF(октябрь!Q69="","",октябрь!Q69) | AC69: =IF(ноябрь!Q69="","",ноябрь!Q69) | AD69: =IF(декабрь!Q69="","",декабрь!Q69) | AE69: =IF(январь!Q69="","",январь!Q69) -> 1 | AF69: =IF(февраль!Q69="","",февраль!Q69) | AG69: =IF(март!Q69="","",март!Q69) | AH69: =IF(апрель!Q69="","",апрель!Q69) -> 1 | AI69: =IF(май!Q69="","",май!Q69) -> 1 | AJ69: =IF(AND(AA69="",AB69="",AC69="",AD69="",AE69="",AF69="",AG69="",AH69="",AI69=""),"",SUM(AA69:AI69)) -> 3 | AK69: =IF('Кол.часов по УП'!E68="","",'Кол.часов по УП'!E68) -> 102 | AL69: =IF(AND(AJ69="",AK69=""),"",AJ69/AK69*100) -> 2.9411765 | AM69: =IF(сентябрь!V69="","",сентябрь!V69) | AN69: =IF(октябрь!V69="","",октябрь!V69) | AO69: =IF(ноябрь!V69="","",ноябрь!V69) | AP69: =IF(декабрь!V69="","",декабрь!V69) | AQ69: =IF(январь!V69="","",январь!V69) -> 1 | AR69: =IF(февраль!V69="","",февраль!V69) | AS69: =IF(март!V69="","",март!V69) | AT69: =IF(апрель!V69="","",апрель!V69) -> 1 | AU69: =IF(май!V69="","",май!V69) -> 1 | AV69: =IF(AND(AM69="",AN69="",AO69="",AP69="",AQ69="",AR69="",AS69="",AT69="",AU69=""),"",SUM(AM69:AU69)) -> 3 | AW69: =IF('Кол.часов по УП'!F68="","",'Кол.часов по УП'!F68) -> 102 | AX69: =IF(AND(AV69="",AW69=""),"",AV69/AW69*100) -> 2.9411765 | AY69: =IF(сентябрь!AA69="","",сентябрь!AA69) | AZ69: =IF(октябрь!AA69="","",октябрь!AA69) | BA69: =IF(ноябрь!AA69="","",ноябрь!AA69) | BB69: =IF(декабрь!AA69="","",декабрь!AA69) | BC69: =IF(январь!AA69="","",январь!AA69) -> 1 | BD69: =IF(февраль!AA69="","",февраль!AA69) | BE69: =IF(март!AA69="","",март!AA69) | BF69: =IF(апрель!AA69="","",апрель!AA69) -> 1 | BG69: =IF(май!AA69="","",май!AA69) | BH69: =IF(AND(AY69="",AZ69="",BA69="",BB69="",BC69="",BD69="",BE69="",BF69="",BG69=""),"",SUM(AY69:BG69)) -> 2 | BI69: =IF('Кол.часов по УП'!G68="","",'Кол.часов по УП'!G68) -> 102 | BJ69: =IF(AND(BH69="",BI69=""),"",BH69/BI69*100) -> 1.9607843 | BK69: =IF(сентябрь!AF69="","",сентябрь!AF69) | BL69: =IF(октябрь!AF69="","",октябрь!AF69) | BM69: =IF(ноябрь!AF69="","",ноябрь!AF69) | BN69: =IF(декабрь!AF69="","",декабрь!AF69) | BO69: =IF(январь!AF69="","",январь!AF69) | BP69: =IF(февраль!AF69="","",февраль!AF69) | BQ69: =IF(март!AF69="","",март!AF69) | BR69: =IF(апрель!AF69="","",апрель!AF69) | BS69: =IF(май!AF69="","",май!AF69) | BT69: =IF(AND(BK69="",BL69="",BM69="",BN69="",BO69="",BP69="",BQ69="",BR69="",BS69=""),"",SUM(BK69:BS69)) | BU69: =IF('Кол.часов по УП'!H68="","",'Кол.часов по УП'!H68) | BV69: =IF(AND(BT69="",BU69=""),"",BT69/BU69*100)
A70: 3 | B70: Иностранный язык (английский) | C70: =IF(сентябрь!G70="","",сентябрь!G70) | D70: =IF(октябрь!G70="","",октябрь!G70) -> 1 | E70: =IF(ноябрь!G70="","",ноябрь!G70) -> 1 | F70: =IF(декабрь!G70="","",декабрь!G70) -> 1 | G70: =IF(январь!G70="","",январь!G70) -> 1 | H70: =IF(февраль!G70="","",февраль!G70) -> 1 | I70: =IF(март!G70="","",март!G70) | J70: =IF(апрель!G70="","",апрель!G70) -> 1 | K70: =IF(май!G70="","",май!G70) -> 1 | L70: =IF(AND(C70="",D70="",E70="",F70="",G70="",H70="",I70="",J70="",K70=""),"",SUM(C70:K70)) -> 7 | M70: =IF('Кол.часов по УП'!C69="","",'Кол.часов по УП'!C69) -> 97 | N70: =IF(AND(L70="",M70=""),"",L70/M70*100) -> 7.2164948 | O70: =IF(сентябрь!L70="","",сентябрь!L70) | P70: =IF(октябрь!L70="","",октябрь!L70) -> 1 | Q70: =IF(ноябрь!L70="","",ноябрь!L70) -> 1 | R70: =IF(декабрь!L70="","",декабрь!L70) -> 1 | S70: =IF(январь!L70="","",январь!L70) -> 1 | T70: =IF(февраль!L70="","",февраль!L70) -> 1 | U70: =IF(март!L70="","",март!L70) | V70: =IF(апрель!L70="","",апрель!L70) -> 1 | W70: =IF(май!L70="","",май!L70) -> 1 | X70: =IF(AND(O70="",P70="",Q70="",R70="",S70="",T70="",U70="",V70="",W70=""),"",SUM(O70:W70)) -> 7 | Y70: =IF('Кол.часов по УП'!D69="","",'Кол.часов по УП'!D69) -> 97 | Z70: =IF(AND(X70="",Y70=""),"",X70/Y70*100) -> 7.2164948 | AA70: =IF(сентябрь!Q70="","",сентябрь!Q70) | AB70: =IF(октябрь!Q70="","",октябрь!Q70) -> 1 | AC70: =IF(ноябрь!Q70="","",ноябрь!Q70) -> 1 | AD70: =IF(декабрь!Q70="","",декабрь!Q70) -> 1 | AE70: =IF(январь!Q70="","",январь!Q70) -> 1 | AF70: =IF(февраль!Q70="","",февраль!Q70) -> 1 | AG70: =IF(март!Q70="","",март!Q70) | AH70: =IF(апрель!Q70="","",апрель!Q70) -> 1 | AI70: =IF(май!Q70="","",май!Q70) -> 1 | AJ70: =IF(AND(AA70="",AB70="",AC70="",AD70="",AE70="",AF70="",AG70="",AH70="",AI70=""),"",SUM(AA70:AI70)) -> 7 | AK70: =IF('Кол.часов по УП'!E69="","",'Кол.часов по УП'!E69) -> 96 | AL70: =IF(AND(AJ70="",AK70=""),"",AJ70/AK70*100) -> 7.2916667 | AM70: =IF(сентябрь!V70="","",сентябрь!V70) | AN70: =IF(октябрь!V70="","",октябрь!V70) -> 1 | AO70: =IF(ноябрь!V70="","",ноябрь!V70) -> 1 | AP70: =IF(декабрь!V70="","",декабрь!V70) -> 1 | AQ70: =IF(январь!V70="","",январь!V70) -> 1 | AR70: =IF(февраль!V70="","",февраль!V70) -> 1 | AS70: =IF(март!V70="","",март!V70) | AT70: =IF(апрель!V70="","",апрель!V70) -> 1 | AU70: =IF(май!V70="","",май!V70) -> 1 | AV70: =IF(AND(AM70="",AN70="",AO70="",AP70="",AQ70="",AR70="",AS70="",AT70="",AU70=""),"",SUM(AM70:AU70)) -> 7 | AW70: =IF('Кол.часов по УП'!F69="","",'Кол.часов по УП'!F69) -> 96 | AX70: =IF(AND(AV70="",AW70=""),"",AV70/AW70*100) -> 7.2916667 | AY70: =IF(сентябрь!AA70="","",сентябрь!AA70) | AZ70: =IF(октябрь!AA70="","",октябрь!AA70) -> 1 | BA70: =IF(ноябрь!AA70="","",ноябрь!AA70) -> 1 | BB70: =IF(декабрь!AA70="","",декабрь!AA70) -> 1 | BC70: =IF(январь!AA70="","",январь!AA70) -> 1 | BD70: =IF(февраль!AA70="","",февраль!AA70) -> 1 | BE70: =IF(март!AA70="","",март!AA70) | BF70: =IF(апрель!AA70="","",апрель!AA70) -> 1 | BG70: =IF(май!AA70="","",май!AA70) -> 1 | BH70: =IF(AND(AY70="",AZ70="",BA70="",BB70="",BC70="",BD70="",BE70="",BF70="",BG70=""),"",SUM(AY70:BG70)) -> 7 | BI70: =IF('Кол.часов по УП'!G69="","",'Кол.часов по УП'!G69) -> 96 | BJ70: =IF(AND(BH70="",BI70=""),"",BH70/BI70*100) -> 7.2916667 | BK70: =IF(сентябрь!AF70="","",сентябрь!AF70) | BL70: =IF(октябрь!AF70="","",октябрь!AF70) | BM70: =IF(ноябрь!AF70="","",ноябрь!AF70) | BN70: =IF(декабрь!AF70="","",декабрь!AF70) | BO70: =IF(январь!AF70="","",январь!AF70) | BP70: =IF(февраль!AF70="","",февраль!AF70) | BQ70: =IF(март!AF70="","",март!AF70) | BR70: =IF(апрель!AF70="","",апрель!AF70) | BS70: =IF(май!AF70="","",май!AF70) | BT70: =IF(AND(BK70="",BL70="",BM70="",BN70="",BO70="",BP70="",BQ70="",BR70="",BS70=""),"",SUM(BK70:BS70)) | BU70: =IF('Кол.часов по УП'!H69="","",'Кол.часов по УП'!H69) | BV70: =IF(AND(BT70="",BU70=""),"",BT70/BU70*100)
