Workbook

Sheet Сводная
C1: Сводная ведомость оценочных процедур ОО
C2: 1 А | O2: 1 Б | AA2: 1 В
B3: Предметы | C3: сентябрь | D3: октябрь | E3: ноябрь | F3: декабрь | G3: январь | H3: февраль | I3: март | J3: апрель | K3: май | L3: Всего оценочных процедур за год | M3: Кол-во часов по учебному плану (УП) | N3: % соотношение кол-ва оценочных процедур к кол-ву часов УП | O3: сентябрь | P3: октябрь | Q3: ноябрь | R3: декабрь | S3: январь | T3: февраль | U3: март | V3: апрель | W3: май | X3: Всего оценочных процедур за год | Y3: Кол-во часов по учебному плану (УП) | Z3: % соотношение кол-ва оценочных процедур к кол-ву часов УП | AA3: сентябрь | AB3: октябрь | AC3: ноябрь | AD3: декабрь | AE3: январь | AF3: февраль | AG3: март | AH3: апрель | AI3: май | AJ3: Всего оценочных процедур за год | AK3: Кол-во часов по учебному плану (УП) | AL3: % соотношение кол-ва оценочных процедур к кол-ву часов УП | AM3: сентябрь | AN3: октябрь | AO3: ноябрь | AP3: декабрь | AQ3: январь | AR3: февраль | AS3: март | AT3: апрель | AU3: май | AV3: Всего оценочных процедур за год | AW3: Кол-во часов по учебному плану (УП) | AX3: % соотношение кол-ва оценочных процедур к кол-ву часов УП | AY3: сентябрь | AZ3: октябрь | BA3: ноябрь | BB3: декабрь | BC3: январь | BD3: февраль | BE3: март | BF3: апрель | BG3: май | BH3: Всего оценочных процедур за год | BI3: Кол-во часов по учебному плану (УП) | BJ3: % соотношение кол-ва оценочных процедур к кол-ву часов УП | BK3: сентябрь | BL3: октябрь | BM3: ноябрь | BN3: декабрь | BO3: январь | BP3: февраль | BQ3: март | BR3: апрель | BS3: май | BT3: Всего оценочных процедур за год | BU3: Кол-во часов по учебному плану (УП) | BV3: % соотношение кол-ва оценочных процедур к кол-ву часов УП
A4: 1 | B4: Русский язык | C4: =IF(сентябрь!G4="","",сентябрь!G4) | D4: =IF(октябрь!G4="","",октябрь!G4) | E4: =IF(ноябрь!G4="","",ноябрь!G4) | F4: =IF(декабрь!G4="","",декабрь!G4) | G4: =IF(январь!G4="","",январь!G4) | H4: =IF(февраль!G4="","",февраль!G4) | I4: =IF(март!G4="","",март!G4) | J4: =IF(апрель!G4="","",апрель!G4) | K4: =IF(май!G4="","",май!G4) -> 1 | L4: =IF(AND(C4="",D4="",E4="",F4="",G4="",H4="",I4="",J4="",K4=""),"",SUM(C4:K4)) -> 1 | M4: =IF('Кол.часов по УП'!C3="","",'Кол.часов по УП'!C3) -> 165 | N4: =IF(AND(L4="",M4=""),"",L4/M4*100) -> 0.60606061 | O4: =IF(сентябрь!L4="","",сентябрь!L4) | P4: =IF(октябрь!L4="","",октябрь!L4) | Q4: =IF(ноябрь!L4="","",ноябрь!L4) | R4: =IF(декабрь!L4="","",декабрь!L4) | S4: =IF(январь!L4="","",январь!L4) | T4: =IF(февраль!L4="","",февраль!L4) | U4: =IF(март!L4="","",март!L4) | V4: =IF(апрель!L4="","",апрель!L4) | W4: =IF(май!L4="","",май!L4) -> 1 | X4: =IF(AND(O4="",P4="",Q4="",R4="",S4="",T4="",U4="",V4="",W4=""),"",SUM(O4:W4)) -> 1 | Y4: =IF('Кол.часов по УП'!D3="","",'Кол.часов по УП'!D3) -> 165 | Z4: =IF(AND(X4="",Y4=""),"",X4/Y4*100) -> 0.60606061 | AA4: =IF(сентябрь!Q4="","",сентябрь!Q4) | AB4: =IF(октябрь!Q4="","",октябрь!Q4) | AC4: =IF(ноябрь!Q4="","",ноябрь!Q4) | AD4: =IF(декабрь!Q4="","",декабрь!Q4) | AE4: =IF(январь!Q4="","",январь!Q4) | AF4: =IF(февраль!Q4="","",февраль!Q4) | AG4: =IF(март!Q4="","",март!Q4) | AH4: =IF(апрель!Q4="","",апрель!Q4) | AI4: =IF(май!Q4="","",май!Q4) -> 1 | AJ4: =IF(AND(AA4="",AB4="",AC4="",AD4="",AE4="",AF4="",AG4="",AH4="",AI4=""),"",SUM(AA4:AI4)) -> 1 | AK4: =IF('Кол.часов по УП'!E3="","",'Кол.часов по УП'!E3) -> 165 | AL4: =IF(AND(AJ4="",AK4=""),"",AJ4/AK4*100) -> 0.60606061 | AM4: =IF(сентябрь!V4="","",сентябрь!V4) -> 0 | AN4: =IF(октябрь!V4="","",октябрь!V4) -> 0 | AO4: =IF(ноябрь!V4="","",ноябрь!V4) -> 0 | AP4: =IF(декабрь!V4="","",декабрь!V4) -> 0 | AQ4: =IF(январь!V4="","",январь!V4) -> 0 | AR4: =IF(февраль!V4="","",февраль!V4) -> 0 | AS4: =IF(март!V4="","",март!V4) -> 0 | AT4: =IF(апрель!V4="","",апрель!V4) -> 0 | AU4: =IF(май!V4="","",май!V4) -> 1 | AV4: =IF(AND(AM4="",AN4="",AO4="",AP4="",AQ4="",AR4="",AS4="",AT4="",AU4=""),"",SUM(AM4:AU4)) -> 1 | AW4: =IF('Кол.часов по УП'!F3="","",'Кол.часов по УП'!F3) -> 165 | AX4: =IF(AND(AV4="",AW4=""),"",AV4/AW4*100) -> 0.60606061 | AY4: =IF(сентябрь!AA4="","",сентябрь!AA4) | AZ4: =IF(октябрь!AA4="","",октябрь!AA4) | BA4: =IF(ноябрь!AA4="","",ноябрь!AA4) | BB4: =IF(декабрь!AA4="","",декабрь!AA4) | BC4: =IF(январь!AA4="","",январь!AA4) | BD4: =IF(февраль!AA4="","",февраль!AA4) | BE4: =IF(март!AA4="","",март!AA4) | BF4: =IF(апрель!AA4="","",апрель!AA4) | BG4: =IF(май!AA4="","",май!AA4) | BH4: =IF(AND(AY4="",AZ4="",BA4="",BB4="",BC4="",BD4="",BE4="",BF4="",BG4=""),"",SUM(AY4:BG4)) | BI4: =IF('Кол.часов по УП'!G3="","",'Кол.часов по УП'!G3) | BJ4: =IF(AND(BH4="",BI4=""),"",BH4/BI4*100) | BK4: =IF(сентябрь!AF4="","",сентябрь!AF4) | BL4: =IF(октябрь!AF4="","",октябрь!AF4) | BM4: =IF(ноябрь!AF4="","",ноябрь!AF4) | BN4: =IF(декабрь!AF4="","",декабрь!AF4) | BO4: =IF(январь!AF4="","",январь!AF4) | BP4: =IF(февраль!AF4="","",февраль!AF4) | BQ4: =IF(март!AF4="","",март!AF4) | BR4: =IF(апрель!AF4="","",апрель!AF4) | BS4: =IF(май!AF4="","",май!AF4) | BT4: =IF(AND(BK4="",BL4="",BM4="",BN4="",BO4="",BP4="",BQ4="",BR4="",BS4=""),"",SUM(BK4:BS4)) | BU4: =IF('Кол.часов по УП'!H3="","",'Кол.часов по УП'!H3) | BV4: =IF(AND(BT4="",BU4=""),"",BT4/BU4*100)
A5: 2 | B5: Литературное чтение | C5: =IF(сентябрь!G5="","",сентябрь!G5) | D5: =IF(октябрь!G5="","",октябрь!G5) | E5: =IF(ноябрь!G5="","",ноябрь!G5) | F5: =IF(декабрь!G5="","",декабрь!G5) | G5: =IF(январь!G5="","",январь!G5) | H5: =IF(февраль!G5="","",февраль!G5) | I5: =IF(март!G5="","",март!G5) | J5: =IF(апрель!G5="","",апрель!G5) | K5: =IF(май!G5="","",май!G5) -> 1 | L5: =IF(AND(C5="",D5="",E5="",F5="",G5="",H5="",I5="",J5="",K5=""),"",SUM(C5:K5)) -> 1 | M5: =IF('Кол.часов по УП'!C4="","",'Кол.часов по УП'!C4) -> 132 | N5: =IF(AND(L5="",M5=""),"",L5/M5*100) -> 0.75757576 | O5: =IF(сентябрь!L5="","",сентябрь!L5) | P5: =IF(октябрь!L5="","",октябрь!L5) | Q5: =IF(ноябрь!L5="","",ноябрь!L5) | R5: =IF(декабрь!L5="","",декабрь!L5) | S5: =IF(январь!L5="","",январь!L5) | T5: =IF(февраль!L5="","",февраль!L5) | U5: =IF(март!L5="","",март!L5) | V5: =IF(апрель!L5="","",апрель!L5) | W5: =IF(май!L5="","",май!L5) -> 1 | X5: =IF(AND(O5="",P5="",Q5="",R5="",S5="",T5="",U5="",V5="",W5=""),"",SUM(O5:W5)) -> 1 | Y5: =IF('Кол.часов по УП'!D4="","",'Кол.часов по УП'!D4) -> 132 | Z5: =IF(AND(X5="",Y5=""),"",X5/Y5*100) -> 0.75757576 | AA5: =IF(сентябрь!Q5="","",сентябрь!Q5) | AB5: =IF(октябрь!Q5="","",октябрь!Q5) | AC5: =IF(ноябрь!Q5="","",ноябрь!Q5) | AD5: =IF(декабрь!Q5="","",декабрь!Q5) | AE5: =IF(январь!Q5="","",январь!Q5) | AF5: =IF(февраль!Q5="","",февраль!Q5) | AG5: =IF(март!Q5="","",март!Q5) | AH5: =IF(апрель!Q5="","",апрель!Q5) | AI5: =IF(май!Q5="","",май!Q5) -> 1 | AJ5: =IF(AND(AA5="",AB5="",AC5="",AD5="",AE5="",AF5="",AG5="",AH5="",AI5=""),"",SUM(AA5:AI5)) -> 1 | AK5: =IF('Кол.часов по УП'!E4="","",'Кол.часов по УП'!E4) -> 132 | AL5: =IF(AND(AJ5="",AK5=""),"",AJ5/AK5*100) -> 0.75757576 | AM5: =IF(сентябрь!V5="","",сентябрь!V5) -> 0 | AN5: =IF(октябрь!V5="","",октябрь!V5) -> 0 | AO5: =IF(ноябрь!V5="","",ноябрь!V5) -> 0 | AP5: =IF(декабрь!V5="","",декабрь!V5) -> 0 | AQ5: =IF(январь!V5="","",январь!V5) -> 0 | AR5: =IF(февраль!V5="","",февраль!V5) -> 0 | AS5: =IF(март!V5="","",март!V5) -> 0 | AT5: =IF(апрель!V5="","",апрель!V5) -> 0 | AU5: =IF(май!V5="","",май!V5) -> 1 | AV5: =IF(AND(AM5="",AN5="",AO5="",AP5="",AQ5="",AR5="",AS5="",AT5="",AU5=""),"",SUM(AM5:AU5)) -> 1 | AW5: =IF('Кол.часов по УП'!F4="","",'Кол.часов по УП'!F4) -> 132 | AX5: =IF(AND(AV5="",AW5=""),"",AV5/AW5*100) -> 0.75757576 | AY5: =IF(сентябрь!AA5="","",сентябрь!AA5) | AZ5: =IF(октябрь!AA5="","",октябрь!AA5) | BA5: =IF(ноябрь!AA5="","",ноябрь!AA5) | BB5: =IF(декабрь!AA5="","",декабрь!AA5) | BC5: =IF(январь!AA5="","",январь!AA5) | BD5: =IF(февраль!AA5="","",февраль!AA5) | BE5: =IF(март!AA5="","",март!AA5) | BF5: =IF(апрель!AA5="","",апрель!AA5) | BG5: =IF(май!AA5="","",май!AA5) | BH5: =IF(AND(AY5="",AZ5="",BA5="",BB5="",BC5="",BD5="",BE5="",BF5="",BG5=""),"",SUM(AY5:BG5)) | BI5: =IF('Кол.часов по УП'!G4="","",'Кол.часов по УП'!G4) | BJ5: =IF(AND(BH5="",BI5=""),"",BH5/BI5*100) | BK5: =IF(сентябрь!AF5="","",сентябрь!AF5) | BL5: =IF(октябрь!AF5="","",октябрь!AF5) | BM5: =IF(ноябрь!AF5="","",ноябрь!AF5) | BN5: =IF(декабрь!AF5="","",декабрь!AF5) | BO5: =IF(январь!AF5="","",январь!AF5) | BP5: =IF(февраль!AF5="","",февраль!AF5) | BQ5: =IF(март!AF5="","",март!AF5) | BR5: =IF(апрель!AF5="","",апрель!AF5) | BS5: =IF(май!AF5="","",май!AF5) | BT5: =IF(AND(BK5="",BL5="",BM5="",BN5="",BO5="",BP5="",BQ5="",BR5="",BS5=""),"",SUM(BK5:BS5)) | BU5: =IF('Кол.часов по УП'!H4="","",'Кол.часов по УП'!H4) | BV5: =IF(AND(BT5="",BU5=""),"",BT5/BU5*100)
A6: 3 | B6: Математика | C6: =IF(сентябрь!G6="","",сентябрь!G6) | D6: =IF(октябрь!G6="","",октябрь!G6) | E6: =IF(ноябрь!G6="","",ноябрь!G6) | F6: =IF(декабрь!G6="","",декабрь!G6) | G6: =IF(январь!G6="","",январь!G6) | H6: =IF(февраль!G6="","",февраль!G6) | I6: =IF(март!G6="","",март!G6) | J6: =IF(апрель!G6="","",апрель!G6) | K6: =IF(май!G6="","",май!G6) -> 1 | L6: =IF(AND(C6="",D6="",E6="",F6="",G6="",H6="",I6="",J6="",K6=""),"",SUM(C6:K6)) -> 1 | M6: =IF('Кол.часов по УП'!C5="","",'Кол.часов по УП'!C5) -> 132 | N6: =IF(AND(L6="",M6=""),"",L6/M6*100) -> 0.75757576 | O6: =IF(сентябрь!L6="","",сентябрь!L6) | P6: =IF(октябрь!L6="","",октябрь!L6) | Q6: =IF(ноябрь!L6="","",ноябрь!L6) | R6: =IF(декабрь!L6="","",декабрь!L6) | S6: =IF(январь!L6="","",январь!L6) | T6: =IF(февраль!L6="","",февраль!L6) | U6: =IF(март!L6="","",март!L6) | V6: =IF(апрель!L6="","",апрель!L6) | W6: =IF(май!L6="","",май!L6) -> 1 | X6: =IF(AND(O6="",P6="",Q6="",R6="",S6="",T6="",U6="",V6="",W6=""),"",SUM(O6:W6)) -> 1 | Y6: =IF('Кол.часов по УП'!D5="","",'Кол.часов по УП'!D5) -> 132 | Z6: =IF(AND(X6="",Y6=""),"",X6/Y6*100) -> 0.75757576 | AA6: =IF(сентябрь!Q6="","",сентябрь!Q6) | AB6: =IF(октябрь!Q6="","",октябрь!Q6) | AC6: =IF(ноябрь!Q6="","",ноябрь!Q6) | AD6: =IF(декабрь!Q6="","",декабрь!Q6) | AE6: =IF(январь!Q6="","",январь!Q6) | AF6: =IF(февраль!Q6="","",февраль!Q6) | AG6: =IF(март!Q6="","",март!Q6) | AH6: =IF(апрель!Q6="","",апрель!Q6) | AI6: =IF(май!Q6="","",май!Q6) -> 1 | AJ6: =IF(AND(AA6="",AB6="",AC6="",AD6="",AE6="",AF6="",AG6="",AH6="",AI6=""),"",SUM(AA6:AI6)) -> 1 | AK6: =IF('Кол.часов по УП'!E5="","",'Кол.часов по УП'!E5) -> 132 | AL6: =IF(AND(AJ6="",AK6=""),"",AJ6/AK6*100) -> 0.75757576 | AM6: =IF(сентябрь!V6="","",сентябрь!V6) -> 0 | AN6: =IF(октябрь!V6="","",октябрь!V6) -> 0 | AO6: =IF(ноябрь!V6="","",ноябрь!V6) -> 0 | AP6: =IF(декабрь!V6="","",декабрь!V6) -> 0 | AQ6: =IF(январь!V6="","",январь!V6) -> 0 | AR6: =IF(февраль!V6="","",февраль!V6) -> 0 | AS6: =IF(март!V6="","",март!V6) -> 0 | AT6: =IF(апрель!V6="","",апрель!V6) -> 0 | AU6: =IF(май!V6="","",май!V6) -> 1 | AV6: =IF(AND(AM6="",AN6="",AO6="",AP6="",AQ6="",AR6="",AS6="",AT6="",AU6=""),"",SUM(AM6:AU6)) -> 1 | AW6: =IF('Кол.часов по УП'!F5="","",'Кол.часов по УП'!F5) -> 132 | AX6: =IF(AND(AV6="",AW6=""),"",AV6/AW6*100) -> 0.75757576 | AY6: =IF(сентябрь!AA6="","",сентябрь!AA6) | AZ6: =IF(октябрь!AA6="","",октябрь!AA6) | BA6: =IF(ноябрь!AA6="","",ноябрь!AA6) | BB6: =IF(декабрь!AA6="","",декабрь!AA6) | BC6: =IF(январь!AA6="","",январь!AA6) | BD6: =IF(февраль!AA6="","",февраль!AA6) | BE6: =IF(март!AA6="","",март!AA6) | BF6: =IF(апрель!AA6="","",апрель!AA6) | BG6: =IF(май!AA6="","",май!AA6) | BH6: =IF(AND(AY6="",AZ6="",BA6="",BB6="",BC6="",BD6="",BE6="",BF6="",BG6=""),"",SUM(AY6:BG6)) | BI6: =IF('Кол.часов по УП'!G5="","",'Кол.часов по УП'!G5) | BJ6: =IF(AND(BH6="",BI6=""),"",BH6/BI6*100) | BK6: =IF(сентябрь!AF6="","",сентябрь!AF6) | BL6: =IF(октябрь!AF6="","",октябрь!AF6) | BM6: =IF(ноябрь!AF6="","",ноябрь!AF6) | BN6: =IF(декабрь!AF6="","",декабрь!AF6) | BO6: =IF(январь!AF6="","",январь!AF6) | BP6: =IF(февраль!AF6="","",февраль!AF6) | BQ6: =IF(март!AF6="","",март!AF6) | BR6: =IF(апрель!AF6="","",апрель!AF6) | BS6: =IF(май!AF6="","",май!AF6) | BT6: =IF(AND(BK6="",BL6="",BM6="",BN6="",BO6="",BP6="",BQ6="",BR6="",BS6=""),"",SUM(BK6:BS6)) | BU6: =IF('Кол.часов по УП'!H5="","",'Кол.часов по УП'!H5) | BV6: =IF(AND(BT6="",BU6=""),"",BT6/BU6*100)
A7: 4 | B7: Окружающий мир | C7: =IF(сентябрь!G7="","",сентябрь!G7) | D7: =IF(октябрь!G7="","",октябрь!G7) | E7: =IF(ноябрь!G7="","",ноябрь!G7) | F7: =IF(декабрь!G7="","",декабрь!G7) | G7: =IF(январь!G7="","",январь!G7) | H7: =IF(февраль!G7="","",февраль!G7) | I7: =IF(март!G7="","",март!G7) | J7: =IF(апрель!G7="","",апрель!G7) | K7: =IF(май!G7="","",май!G7) -> 0 | L7: =IF(AND(C7="",D7="",E7="",F7="",G7="",H7="",I7="",J7="",K7=""),"",SUM(C7:K7)) -> 0 | M7: =IF('Кол.часов по УП'!C6="","",'Кол.часов по УП'!C6) -> 66 | N7: =IF(AND(L7="",M7=""),"",L7/M7*100) -> 0 | O7: =IF(сентябрь!L7="","",сентябрь!L7) | P7: =IF(октябрь!L7="","",октябрь!L7) | Q7: =IF(ноябрь!L7="","",ноябрь!L7) | R7: =IF(декабрь!L7="","",декабрь!L7) | S7: =IF(январь!L7="","",январь!L7) | T7: =IF(февраль!L7="","",февраль!L7) | U7: =IF(март!L7="","",март!L7) | V7: =IF(апрель!L7="","",апрель!L7) | W7: =IF(май!L7="","",май!L7) -> 0 | X7: =IF(AND(O7="",P7="",Q7="",R7="",S7="",T7="",U7="",V7="",W7=""),"",SUM(O7:W7)) -> 0 | Y7: =IF('Кол.часов по УП'!D6="","",'Кол.часов по УП'!D6) -> 66 | Z7: =IF(AND(X7="",Y7=""),"",X7/Y7*100) -> 0 | AA7: =IF(сентябрь!Q7="","",сентябрь!Q7) | AB7: =IF(октябрь!Q7="","",октябрь!Q7) | AC7: =IF(ноябрь!Q7="","",ноябрь!Q7) | AD7: =IF(декабрь!Q7="","",декабрь!Q7) | AE7: =IF(январь!Q7="","",январь!Q7) | AF7: =IF(февраль!Q7="","",февраль!Q7) | AG7: =IF(март!Q7="","",март!Q7) | AH7: =IF(апрель!Q7="","",апрель!Q7) | AI7: =IF(май!Q7="","",май!Q7) -> 0 | AJ7: =IF(AND(AA7="",AB7="",AC7="",AD7="",AE7="",AF7="",AG7="",AH7="",AI7=""),"",SUM(AA7:AI7)) -> 0 | AK7: =IF('Кол.часов по УП'!E6="","",'Кол.часов по УП'!E6) -> 66 | AL7: =IF(AND(AJ7="",AK7=""),"",AJ7/AK7*100) -> 0 | AM7: =IF(сентябрь!V7="","",сентябрь!V7) -> 0 | AN7: =IF(октябрь!V7="","",октябрь!V7) -> 0 | AO7: =IF(ноябрь!V7="","",ноябрь!V7) -> 0 | AP7: =IF(декабрь!V7="","",декабрь!V7) -> 0 | AQ7: =IF(январь!V7="","",январь!V7) -> 0 | AR7: =IF(февраль!V7="","",февраль!V7) -> 0 | AS7: =IF(март!V7="","",март!V7) -> 0 | AT7: =IF(апрель!V7="","",апрель!V7) -> 0 | AU7: =IF(май!V7="","",май!V7) -> 0 | AV7: =IF(AND(AM7="",AN7="",AO7="",AP7="",AQ7="",AR7="",AS7="",AT7="",AU7=""),"",SUM(AM7:AU7)) -> 0 | AW7: =IF('Кол.часов по УП'!F6="","",'Кол.часов по УП'!F6) -> 66 | AX7: =IF(AND(AV7="",AW7=""),"",AV7/AW7*100) -> 0 | AY7: =IF(сентябрь!AA7="","",сентябрь!AA7) | AZ7: =IF(октябрь!AA7="","",октябрь!AA7) | BA7: =IF(ноябрь!AA7="","",ноябрь!AA7) | BB7: =IF(декабрь!AA7="","",декабрь!AA7) | BC7: =IF(январь!AA7="","",январь!AA7) | BD7: =IF(февраль!AA7="","",февраль!AA7) | BE7: =IF(март!AA7="","",март!AA7) | BF7: =IF(апрель!AA7="","",апрель!AA7) | BG7: =IF(май!AA7="","",май!AA7) | BH7: =IF(AND(AY7="",AZ7="",BA7="",BB7="",BC7="",BD7="",BE7="",BF7="",BG7=""),"",SUM(AY7:BG7)) | BI7: =IF('Кол.часов по УП'!G6="","",'Кол.часов по УП'!G6) | BJ7: =IF(AND(BH7="",BI7=""),"",BH7/BI7*100) | BK7: =IF(сентябрь!AF7="","",сентябрь!AF7) | BL7: =IF(октябрь!AF7="","",октябрь!AF7) | BM7: =IF(ноябрь!AF7="","",ноябрь!AF7) | BN7: =IF(декабрь!AF7="","",декабрь!AF7) | BO7: =IF(январь!AF7="","",январь!AF7) | BP7: =IF(февраль!AF7="","",февраль!AF7) | BQ7: =IF(март!AF7="","",март!AF7) | BR7: =IF(апрель!AF7="","",апрель!AF7) | BS7: =IF(май!AF7="","",май!AF7) | BT7: =IF(AND(BK7="",BL7="",BM7="",BN7="",BO7="",BP7="",BQ7="",BR7="",BS7=""),"",SUM(BK7:BS7)) | BU7: =IF('Кол.часов по УП'!H6="","",'Кол.часов по УП'!H6) | BV7: =IF(AND(BT7="",BU7=""),"",BT7/BU7*100)
A8: 5 | B8: Музыка | C8: =IF(сентябрь!G8="","",сентябрь!G8) | D8: =IF(октябрь!G8="","",октябрь!G8) | E8: =IF(ноябрь!G8="","",ноябрь!G8) | F8: =IF(декабрь!G8="","",декабрь!G8) | G8: =IF(январь!G8="","",январь!G8) | H8: =IF(февраль!G8="","",февраль!G8) | I8: =IF(март!G8="","",март!G8) | J8: =IF(апрель!G8="","",апрель!G8) | K8: =IF(май!G8="","",май!G8) | L8: =IF(AND(C8="",D8="",E8="",F8="",G8="",H8="",I8="",J8="",K8=""),"",SUM(C8:K8)) | M8: =IF('Кол.часов по УП'!C7="","",'Кол.часов по УП'!C7) | N8: =IF(AND(L8="",M8=""),"",L8/M8*100) | O8: =IF(сентябрь!L8="","",сентябрь!L8) | P8: =IF(октябрь!L8="","",октябрь!L8) | Q8: =IF(ноябрь!L8="","",ноябрь!L8) | R8: =IF(декабрь!L8="","",декабрь!L8) | S8: =IF(январь!L8="","",январь!L8) | T8: =IF(февраль!L8="","",февраль!L8) | U8: =IF(март!L8="","",март!L8) | V8: =IF(апрель!L8="","",апрель!L8) | W8: =IF(май!L8="","",май!L8) | X8: =IF(AND(O8="",P8="",Q8="",R8="",S8="",T8="",U8="",V8="",W8=""),"",SUM(O8:W8)) | Y8: =IF('Кол.часов по УП'!D7="","",'Кол.часов по УП'!D7) | Z8: =IF(AND(X8="",Y8=""),"",X8/Y8*100) | AA8: =IF(сентябрь!Q8="","",сентябрь!Q8) | AB8: =IF(октябрь!Q8="","",октябрь!Q8) | AC8: =IF(ноябрь!Q8="","",ноябрь!Q8) | AD8: =IF(декабрь!Q8="","",декабрь!Q8) | AE8: =IF(январь!Q8="","",январь!Q8) | AF8: =IF(февраль!Q8="","",февраль!Q8) | AG8: =IF(март!Q8="","",март!Q8) | AH8: =IF(апрель!Q8="","",апрель!Q8) | AI8: =IF(май!Q8="","",май!Q8) | AJ8: =IF(AND(AA8="",AB8="",AC8="",AD8="",AE8="",AF8="",AG8="",AH8="",AI8=""),"",SUM(AA8:AI8)) | AK8: =IF('Кол.часов по УП'!E7="","",'Кол.часов по УП'!E7) | AL8: =IF(AND(AJ8="",AK8=""),"",AJ8/AK8*100) | AM8: =IF(сентябрь!V8="","",сентябрь!V8) | AN8: =IF(октябрь!V8="","",октябрь!V8) | AO8: =IF(ноябрь!V8="","",ноябрь!V8) | AP8: =IF(декабрь!V8="","",декабрь!V8) | AQ8: =IF(январь!V8="","",январь!V8) | AR8: =IF(февраль!V8="","",февраль!V8) | AS8: =IF(март!V8="","",март!V8) | AT8: =IF(апрель!V8="","",апрель!V8) | AU8: =IF(май!V8="","",май!V8) | AV8: =IF(AND(AM8="",AN8="",AO8="",AP8="",AQ8="",AR8="",AS8="",AT8="",AU8=""),"",SUM(AM8:AU8)) | AW8: =IF('Кол.часов по УП'!F7="","",'Кол.часов по УП'!F7) | AX8: =IF(AND(AV8="",AW8=""),"",AV8/AW8*100) | AY8: =IF(сентябрь!AA8="","",сентябрь!AA8) | AZ8: =IF(октябрь!AA8="","",октябрь!AA8) | BA8: =IF(ноябрь!AA8="","",ноябрь!AA8) | BB8: =IF(декабрь!AA8="","",декабрь!AA8) | BC8: =IF(январь!AA8="","",январь!AA8) | BD8: =IF(февраль!AA8="","",февраль!AA8) | BE8: =IF(март!AA8="","",март!AA8) | BF8: =IF(апрель!AA8="","",апрель!AA8) | BG8: =IF(май!AA8="","",май!AA8) | BH8: =IF(AND(AY8="",AZ8="",BA8="",BB8="",BC8="",BD8="",BE8="",BF8="",BG8=""),"",SUM(AY8:BG8)) | BI8: =IF('Кол.часов по УП'!G7="","",'Кол.часов по УП'!G7) | BJ8: =IF(AND(BH8="",BI8=""),"",BH8/BI8*100) | BK8: =IF(сентябрь!AF8="","",сентябрь!AF8) | BL8: =IF(октябрь!AF8="","",октябрь!AF8) | BM8: =IF(ноябрь!AF8="","",ноябрь!AF8) | BN8: =IF(декабрь!AF8="","",декабрь!AF8) | BO8: =IF(январь!AF8="","",январь!AF8) | BP8: =IF(февраль!AF8="","",февраль!AF8) | BQ8: =IF(март!AF8="","",март!AF8) | BR8: =IF(апрель!AF8="","",апрель!AF8) | BS8: =IF(май!AF8="","",май!AF8) | BT8: =IF(AND(BK8="",BL8="",BM8="",BN8="",BO8="",BP8="",BQ8="",BR8="",BS8=""),"",SUM(BK8:BS8)) | BU8: =IF('Кол.часов по УП'!H7="","",'Кол.часов по УП'!H7) | BV8: =IF(AND(BT8="",BU8=""),"",BT8/BU8*100)
A9: 6 | B9: Изобразительное искусство | C9: =IF(сентябрь!G9="","",сентябрь!G9) | D9: =IF(октябрь!G9="","",октябрь!G9) | E9: =IF(ноябрь!G9="","",ноябрь!G9) | F9: =IF(декабрь!G9="","",декабрь!G9) | G9: =IF(январь!G9="","",январь!G9) | H9: =IF(февраль!G9="","",февраль!G9) | I9: =IF(март!G9="","",март!G9) | J9: =IF(апрель!G9="","",апрель!G9) | K9: =IF(май!G9="","",май!G9) -> 0 | L9: =IF(AND(C9="",D9="",E9="",F9="",G9="",H9="",I9="",J9="",K9=""),"",SUM(C9:K9)) -> 0 | M9: =IF('Кол.часов по УП'!C8="","",'Кол.часов по УП'!C8) -> 33 | N9: =IF(AND(L9="",M9=""),"",L9/M9*100) -> 0 | O9: =IF(сентябрь!L9="","",сентябрь!L9) | P9: =IF(октябрь!L9="","",октябрь!L9) | Q9: =IF(ноябрь!L9="","",ноябрь!L9) | R9: =IF(декабрь!L9="","",декабрь!L9) | S9: =IF(январь!L9="","",январь!L9) | T9: =IF(февраль!L9="","",февраль!L9) | U9: =IF(март!L9="","",март!L9) | V9: =IF(апрель!L9="","",апрель!L9) | W9: =IF(май!L9="","",май!L9) -> 0 | X9: =IF(AND(O9="",P9="",Q9="",R9="",S9="",T9="",U9="",V9="",W9=""),"",SUM(O9:W9)) -> 0 | Y9: =IF('Кол.часов по УП'!D8="","",'Кол.часов по УП'!D8) -> 33 | Z9: =IF(AND(X9="",Y9=""),"",X9/Y9*100) -> 0 | AA9: =IF(сентябрь!Q9="","",сентябрь!Q9) | AB9: =IF(октябрь!Q9="","",октябрь!Q9) | AC9: =IF(ноябрь!Q9="","",ноябрь!Q9) | AD9: =IF(декабрь!Q9="","",декабрь!Q9) | AE9: =IF(январь!Q9="","",январь!Q9) | AF9: =IF(февраль!Q9="","",февраль!Q9) | AG9: =IF(март!Q9="","",март!Q9) | AH9: =IF(апрель!Q9="","",апрель!Q9) | AI9: =IF(май!Q9="","",май!Q9) -> 0 | AJ9: =IF(AND(AA9="",AB9="",AC9="",AD9="",AE9="",AF9="",AG9="",AH9="",AI9=""),"",SUM(AA9:AI9)) -> 0 | AK9: =IF('Кол.часов по УП'!E8="","",'Кол.часов по УП'!E8) -> 33 | AL9: =IF(AND(AJ9="",AK9=""),"",AJ9/AK9*100) -> 0 | AM9: =IF(сентябрь!V9="","",сентябрь!V9) -> 0 | AN9: =IF(октябрь!V9="","",октябрь!V9) -> 0 | AO9: =IF(ноябрь!V9="","",ноябрь!V9) -> 0 | AP9: =IF(декабрь!V9="","",декабрь!V9) -> 0 | AQ9: =IF(январь!V9="","",январь!V9) -> 0 | AR9: =IF(февраль!V9="","",февраль!V9) -> 0 | AS9: =IF(март!V9="","",март!V9) -> 0 | AT9: =IF(апрель!V9="","",апрель!V9) -> 0 | AU9: =IF(май!V9="","",май!V9) -> 0 | AV9: =IF(AND(AM9="",AN9="",AO9="",AP9="",AQ9="",AR9="",AS9="",AT9="",AU9=""),"",SUM(AM9:AU9)) -> 0 | AW9: =IF('Кол.часов по УП'!F8="","",'Кол.часов по УП'!F8) -> 33 | AX9: =IF(AND(AV9="",AW9=""),"",AV9/AW9*100) -> 0 | AY9: =IF(сентябрь!AA9="","",сентябрь!AA9) | AZ9: =IF(октябрь!AA9="","",октябрь!AA9) | BA9: =IF(ноябрь!AA9="","",ноябрь!AA9) | BB9: =IF(декабрь!AA9="","",декабрь!AA9) | BC9: =IF(январь!AA9="","",январь!AA9) | BD9: =IF(февраль!AA9="","",февраль!AA9) | BE9: =IF(март!AA9="","",март!AA9) | BF9: =IF(апрель!AA9="","",апрель!AA9) | BG9: =IF(май!AA9="","",май!AA9) | BH9: =IF(AND(AY9="",AZ9="",BA9="",BB9="",BC9="",BD9="",BE9="",BF9="",BG9=""),"",SUM(AY9:BG9)) | BI9: =IF('Кол.часов по УП'!G8="","",'Кол.часов по УП'!G8) | BJ9: =IF(AND(BH9="",BI9=""),"",BH9/BI9*100) | BK9: =IF(сентябрь!AF9="","",сентябрь!AF9) | BL9: =IF(октябрь!AF9="","",октябрь!AF9) | BM9: =IF(ноябрь!AF9="","",ноябрь!AF9) | BN9: =IF(декабрь!AF9="","",декабрь!AF9) | BO9: =IF(январь!AF9="","",январь!AF9) | BP9: =IF(февраль!AF9="","",февраль!AF9) | BQ9: =IF(март!AF9="","",март!AF9) | BR9: =IF(апрель!AF9="","",апрель!AF9) | BS9: =IF(май!AF9="","",май!AF9) | BT9: =IF(AND(BK9="",BL9="",BM9="",BN9="",BO9="",BP9="",BQ9="",BR9="",BS9=""),"",SUM(BK9:BS9)) | BU9: =IF('Кол.часов по УП'!H8="","",'Кол.часов по УП'!H8) | BV9: =IF(AND(BT9="",BU9=""),"",BT9/BU9*100)
A10: 7 | B10: Труд (технология) | C10: =IF(сентябрь!G10="","",сентябрь!G10) | D10: =IF(октябрь!G10="","",октябрь!G10) | E10: =IF(ноябрь!G10="","",ноябрь!G10) | F10: =IF(декабрь!G10="","",декабрь!G10) | G10: =IF(январь!G10="","",январь!G10) | H10: =IF(февраль!G10="","",февраль!G10) | I10: =IF(март!G10="","",март!G10) | J10: =IF(апрель!G10="","",апрель!G10) | K10: =IF(май!G10="","",май!G10) -> 0 | L10: =IF(AND(C10="",D10="",E10="",F10="",G10="",H10="",I10="",J10="",K10=""),"",SUM(C10:K10)) -> 0 | M10: =IF('Кол.часов по УП'!C9="","",'Кол.часов по УП'!C9) -> 33 | N10: =IF(AND(L10="",M10=""),"",L10/M10*100) -> 0 | O10: =IF(сентябрь!L10="","",сентябрь!L10) | P10: =IF(октябрь!L10="","",октябрь!L10) | Q10: =IF(ноябрь!L10="","",ноябрь!L10) | R10: =IF(декабрь!L10="","",декабрь!L10) | S10: =IF(январь!L10="","",январь!L10) | T10: =IF(февраль!L10="","",февраль!L10) | U10: =IF(март!L10="","",март!L10) | V10: =IF(апрель!L10="","",апрель!L10) | W10: =IF(май!L10="","",май!L10) -> 0 | X10: =IF(AND(O10="",P10="",Q10="",R10="",S10="",T10="",U10="",V10="",W10=""),"",SUM(O10:W10)) -> 0 | Y10: =IF('Кол.часов по УП'!D9="","",'Кол.часов по УП'!D9) -> 33 | Z10: =IF(AND(X10="",Y10=""),"",X10/Y10*100) -> 0 | AA10: =IF(сентябрь!Q10="","",сентябрь!Q10) | AB10: =IF(октябрь!Q10="","",октябрь!Q10) | AC10: =IF(ноябрь!Q10="","",ноябрь!Q10) | AD10: =IF(декабрь!Q10="","",декабрь!Q10) | AE10: =IF(январь!Q10="","",январь!Q10) | AF10: =IF(февраль!Q10="","",февраль!Q10) | AG10: =IF(март!Q10="","",март!Q10) | AH10: =IF(апрель!Q10="","",апрель!Q10) | AI10: =IF(май!Q10="","",май!Q10) -> 0 | AJ10: =IF(AND(AA10="",AB10="",AC10="",AD10="",AE10="",AF10="",AG10="",AH10="",AI10=""),"",SUM(AA10:AI10)) -> 0 | AK10: =IF('Кол.часов по УП'!E9="","",'Кол.часов по УП'!E9) -> 33 | AL10: =IF(AND(AJ10="",AK10=""),"",AJ10/AK10*100) -> 0 | AM10: =IF(сентябрь!V10="","",сентябрь!V10) -> 0 | AN10: =IF(октябрь!V10="","",октябрь!V10) -> 0 | AO10: =IF(ноябрь!V10="","",ноябрь!V10) -> 0 | AP10: =IF(декабрь!V10="","",декабрь!V10) -> 0 | AQ10: =IF(январь!V10="","",январь!V10) -> 0 | AR10: =IF(февраль!V10="","",февраль!V10) -> 0 | AS10: =IF(март!V10="","",март!V10) -> 0 | AT10: =IF(апрель!V10="","",апрель!V10) -> 0 | AU10: =IF(май!V10="","",май!V10) -> 0 | AV10: =IF(AND(AM10="",AN10="",AO10="",AP10="",AQ10="",AR10="",AS10="",AT10="",AU10=""),"",SUM(AM10:AU10)) -> 0 | AW10: =IF('Кол.часов по УП'!F9="","",'Кол.часов по УП'!F9) -> 33 | AX10: =IF(AND(AV10="",AW10=""),"",AV10/AW10*100) -> 0 | AY10: =IF(сентябрь!AA10="","",сентябрь!AA10) | AZ10: =IF(октябрь!AA10="","",октябрь!AA10) | BA10: =IF(ноябрь!AA10="","",ноябрь!AA10) | BB10: =IF(декабрь!AA10="","",декабрь!AA10) | BC10: =IF(январь!AA10="","",январь!AA10) | BD10: =IF(февраль!AA10="","",февраль!AA10) | BE10: =IF(март!AA10="","",март!AA10) | BF10: =IF(апрель!AA10="","",апрель!AA10) | BG10: =IF(май!AA10="","",май!AA10) | BH10: =IF(AND(AY10="",AZ10="",BA10="",BB10="",BC10="",BD10="",BE10="",BF10="",BG10=""),"",SUM(AY10:BG10)) | BI10: =IF('Кол.часов по УП'!G9="","",'Кол.часов по УП'!G9) | BJ10: =IF(AND(BH10="",BI10=""),"",BH10/BI10*100) | BK10: =IF(сентябрь!AF10="","",сентябрь!AF10) | BL10: =IF(октябрь!AF10="","",октябрь!AF10) | BM10: =IF(ноябрь!AF10="","",ноябрь!AF10) | BN10: =IF(декабрь!AF10="","",декабрь!AF10) | BO10: =IF(январь!AF10="","",январь!AF10) | BP10: =IF(февраль!AF10="","",февраль!AF10) | BQ10: =IF(март!AF10="","",март!AF10) | BR10: =IF(апрель!AF10="","",апрель!AF10) | BS10: =IF(май!AF10="","",май!AF10) | BT10: =IF(AND(BK10="",BL10="",BM10="",BN10="",BO10="",BP10="",BQ10="",BR10="",BS10=""),"",SUM(BK10:BS10)) | BU10: =IF('Кол.часов по УП'!H9="","",'Кол.часов по УП'!H9) | BV10: =IF(AND(BT10="",BU10=""),"",BT10/BU10*100)
A11: 8 | B11: Физическая культура | C11: =IF(сентябрь!G11="","",сентябрь!G11) | D11: =IF(октябрь!G11="","",октябрь!G11) | E11: =IF(ноябрь!G11="","",ноябрь!G11) | F11: =IF(декабрь!G11="","",декабрь!G11) | G11: =IF(январь!G11="","",январь!G11) | H11: =IF(февраль!G11="","",февраль!G11) | I11: =IF(март!G11="","",март!G11) | J11: =IF(апрель!G11="","",апрель!G11) | K11: =IF(май!G11="","",май!G11) | L11: =IF(AND(C11="",D11="",E11="",F11="",G11="",H11="",I11="",J11="",K11=""),"",SUM(C11:K11)) | M11: =IF('Кол.часов по УП'!C10="","",'Кол.часов по УП'!C10) | N11: =IF(AND(L11="",M11=""),"",L11/M11*100) | O11: =IF(сентябрь!L11="","",сентябрь!L11) | P11: =IF(октябрь!L11="","",октябрь!L11) | Q11: =IF(ноябрь!L11="","",ноябрь!L11) | R11: =IF(декабрь!L11="","",декабрь!L11) | S11: =IF(январь!L11="","",январь!L11) | T11: =IF(февраль!L11="","",февраль!L11) | U11: =IF(март!L11="","",март!L11) | V11: =IF(апрель!L11="","",апрель!L11) | W11: =IF(май!L11="","",май!L11) | X11: =IF(AND(O11="",P11="",Q11="",R11="",S11="",T11="",U11="",V11="",W11=""),"",SUM(O11:W11)) | Y11: =IF('Кол.часов по УП'!D10="","",'Кол.часов по УП'!D10) | Z11: =IF(AND(X11="",Y11=""),"",X11/Y11*100) | AA11: =IF(сентябрь!Q11="","",сентябрь!Q11) | AB11: =IF(октябрь!Q11="","",октябрь!Q11) | AC11: =IF(ноябрь!Q11="","",ноябрь!Q11) | AD11: =IF(декабрь!Q11="","",декабрь!Q11) | AE11: =IF(январь!Q11="","",январь!Q11) | AF11: =IF(февраль!Q11="","",февраль!Q11) | AG11: =IF(март!Q11="","",март!Q11) | AH11: =IF(апрель!Q11="","",апрель!Q11) | AI11: =IF(май!Q11="","",май!Q11) | AJ11: =IF(AND(AA11="",AB11="",AC11="",AD11="",AE11="",AF11="",AG11="",AH11="",AI11=""),"",SUM(AA11:AI11)) | AK11: =IF('Кол.часов по УП'!E10="","",'Кол.часов по УП'!E10) | AL11: =IF(AND(AJ11="",AK11=""),"",AJ11/AK11*100) | AM11: =IF(сентябрь!V11="","",сентябрь!V11) | AN11: =IF(октябрь!V11="","",октябрь!V11) | AO11: =IF(ноябрь!V11="","",ноябрь!V11) | AP11: =IF(декабрь!V11="","",декабрь!V11) | AQ11: =IF(январь!V11="","",январь!V11) | AR11: =IF(февраль!V11="","",февраль!V11) | AS11: =IF(март!V11="","",март!V11) | AT11: =IF(апрель!V11="","",апрель!V11) | AU11: =IF(май!V11="","",май!V11) | AV11: =IF(AND(AM11="",AN11="",AO11="",AP11="",AQ11="",AR11="",AS11="",AT11="",AU11=""),"",SUM(AM11:AU11)) | AW11: =IF('Кол.часов по УП'!F10="","",'Кол.часов по УП'!F10) | AX11: =IF(AND(AV11="",AW11=""),"",AV11/AW11*100) | AY11: =IF(сентябрь!AA11="","",сентябрь!AA11) | AZ11: =IF(октябрь!AA11="","",октябрь!AA11) | BA11: =IF(ноябрь!AA11="","",ноябрь!AA11) | BB11: =IF(декабрь!AA11="","",декабрь!AA11) | BC11: =IF(январь!AA11="","",январь!AA11) | BD11: =IF(февраль!AA11="","",февраль!AA11) | BE11: =IF(март!AA11="","",март!AA11) | BF11: =IF(апрель!AA11="","",апрель!AA11) | BG11: =IF(май!AA11="","",май!AA11) | BH11: =IF(AND(AY11="",AZ11="",BA11="",BB11="",BC11="",BD11="",BE11="",BF11="",BG11=""),"",SUM(AY11:BG11)) | BI11: =IF('Кол.часов по УП'!G10="","",'Кол.часов по УП'!G10) | BJ11: =IF(AND(BH11="",BI11=""),"",BH11/BI11*100) | BK11: =IF(сентябрь!AF11="","",сентябрь!AF11) | BL11: =IF(октябрь!AF11="","",октябрь!AF11) | BM11: =IF(ноябрь!AF11="","",ноябрь!AF11) | BN11: =IF(декабрь!AF11="","",декабрь!AF11) | BO11: =IF(январь!AF11="","",январь!AF11) | BP11: =IF(февраль!AF11="","",февраль!AF11) | BQ11: =IF(март!AF11="","",март!AF11) | BR11: =IF(апрель!AF11="","",апрель!AF11) | BS11: =IF(май!AF11="","",май!AF11) | BT11: =IF(AND(BK11="",BL11="",BM11="",BN11="",BO11="",BP11="",BQ11="",BR11="",BS11=""),"",SUM(BK11:BS11)) | BU11: =IF('Кол.часов по УП'!H10="","",'Кол.часов по УП'!H10) | BV11: =IF(AND(BT11="",BU11=""),"",BT11/BU11*100)
C13: 2 А | O13: 2 Б | AA13: 2 В | AM13: 2 Г
B14: Предметы | C14: сентябрь | D14: октябрь | E14: ноябрь | F14: декабрь | G14: январь | H14: февраль | I14: март | J14: апрель | K14: май | L14: Всего оценочных процедур за год | M14: Кол-во часов по учебному плану (УП) | N14: % соотношение кол-ва оценочных процедур к кол-ву часов УП | O14: сентябрь | P14: октябрь | Q14: ноябрь | R14: декабрь | S14: январь | T14: февраль | U14: март | V14: апрель | W14: май | X14: Всего оценочных процедур за год | Y14: Кол-во часов по учебному плану (УП) | Z14: % соотношение кол-ва оценочных процедур к кол-ву часов УП | AA14: сентябрь | AB14: октябрь | AC14: ноябрь | AD14: декабрь | AE14: январь | AF14: февраль | AG14: март | AH14: апрель | AI14: май | AJ14: Всего оценочных процедур за год | AK14: Кол-во часов по учебному плану (УП) | AL14: % соотношение кол-ва оценочных процедур к кол-ву часов УП | AM14: сентябрь | AN14: октябрь | AO14: ноябрь | AP14: декабрь | AQ14: январь | AR14: февраль | AS14: март | AT14: апрель | AU14: май | AV14: Всего оценочных процедур за год | AW14: Кол-во часов по учебному плану (УП) | AX14: % соотношение кол-ва оценочных процедур к кол-ву часов УП | AY14: сентябрь | AZ14: октябрь | BA14: ноябрь | BB14: декабрь | BC14: январь | BD14: февраль | BE14: март | BF14: апрель | BG14: май | BH14: Всего оценочных процедур за год | BI14: Кол-во часов по учебному плану (УП) | BJ14: % соотношение кол-ва оценочных процедур к кол-ву часов УП | BK14: сентябрь | BL14: октябрь | BM14: ноябрь | BN14: декабрь | BO14: январь | BP14: февраль | BQ14: март | BR14: апрель | BS14: май | BT14: Всего оценочных процедур за год | BU14: Кол-во часов по учебному плану (УП) | BV14: % соотношение кол-ва оценочных процедур к кол-ву часов УП
A15: 1 | B15: Русский язык | C15: =IF(сентябрь!G15="","",сентябрь!G15) -> 1 | D15: =IF(октябрь!G15="","",октябрь!G15) -> 2 | E15: =IF(ноябрь!G15="","",ноябрь!G15) -> 1 | F15: =IF(декабрь!G15="","",декабрь!G15) -> 2 | G15: =IF(январь!G15="","",январь!G15) -> 2 | H15: =IF(февраль!G15="","",февраль!G15) -> 1 | I15: =IF(март!G15="","",март!G15) | J15: =IF(апрель!G15="","",апрель!G15) -> 2 | K15: =IF(май!G15="","",май!G15) -> 1 | L15: =IF(AND(C15="",D15="",E15="",F15="",G15="",H15="",I15="",J15="",K15=""),"",SUM(C15:K15)) -> 12 | M15: =IF('Кол.часов по УП'!C14="","",'Кол.часов по УП'!C14) -> 170 | N15: =IF(AND(L15="",M15=""),"",L15/M15*100) -> 7.0588235 | O15: =IF(сентябрь!L15="","",сентябрь!L15) -> 1 | P15: =IF(октябрь!L15="","",октябрь!L15) -> 2 | Q15: =IF(ноябрь!L15="","",ноябрь!L15) -> 1 | R15: =IF(декабрь!L15="","",декабрь!L15) -> 3 | S15: =IF(январь!L15="","",январь!L15) -> 2 | T15: =IF(февраль!L15="","",февраль!L15) -> 2 | U15: =IF(март!L15="","",март!L15) -> 1 | V15: =IF(апрель!L15="","",апрель!L15) -> 2 | W15: =IF(май!L15="","",май!L15) -> 1 | X15: =IF(AND(O15="",P15="",Q15="",R15="",S15="",T15="",U15="",V15="",W15=""),"",SUM(O15:W15)) -> 15 | Y15: =IF('Кол.часов по УП'!D14="","",'Кол.часов по УП'!D14) -> 170 | Z15: =IF(AND(X15="",Y15=""),"",X15/Y15*100) -> 8.8235294 | AA15: =IF(сентябрь!Q15="","",сентябрь!Q15) -> 1 | AB15: =IF(октябрь!Q15="","",октябрь!Q15) -> 2 | AC15: =IF(ноябрь!Q15="","",ноябрь!Q15) -> 1 | AD15: =IF(декабрь!Q15="","",декабрь!Q15) -> 1 | AE15: =IF(январь!Q15="","",январь!Q15) | AF15: =IF(февраль!Q15="","",февраль!Q15) -> 1 | AG15: =IF(март!Q15="","",март!Q15) | AH15: =IF(апрель!Q15="","",апрель!Q15) | AI15: =IF(май!Q15="","",май!Q15) -> 1 | AJ15: =IF(AND(AA15="",AB15="",AC15="",AD15="",AE15="",AF15="",AG15="",AH15="",AI15=""),"",SUM(AA15:AI15)) -> 7 | AK15: =IF('Кол.часов по УП'!E14="","",'Кол.часов по УП'!E14) -> 170 | AL15: =IF(AND(AJ15="",AK15=""),"",AJ15/AK15*100) -> 4.1176471 | AM15: =IF(сентябрь!V15="","",сентябрь!V15) | AN15: =IF(октябрь!V15="","",октябрь!V15) | AO15: =IF(ноябрь!V15="","",ноябрь!V15) | AP15: =IF(декабрь!V15="","",декабрь!V15) | AQ15: =IF(январь!V15="","",январь!V15) | AR15: =IF(февраль!V15="","",февраль!V15) | AS15: =IF(март!V15="","",март!V15) | AT15: =IF(апрель!V15="","",апрель!V15) | AU15: =IF(май!V15="","",май!V15) | AV15: =IF(AND(AM15="",AN15="",AO15="",AP15="",AQ15="",AR15="",AS15="",AT15="",AU15=""),"",SUM(AM15:AU15)) | AW15: =IF('Кол.часов по УП'!F14="","",'Кол.часов по УП'!F14) | AX15: =IF(AND(AV15="",AW15=""),"",AV15/AW15*100) | AY15: =IF(сентябрь!AA15="","",сентябрь!AA15) | AZ15: =IF(октябрь!AA15="","",октябрь!AA15) | BA15: =IF(ноябрь!AA15="","",ноябрь!AA15) | BB15: =IF(декабрь!AA15="","",декабрь!AA15) | BC15: =IF(январь!AA15="","",январь!AA15) | BD15: =IF(февраль!AA15="","",февраль!AA15) | BE15: =IF(март!AA15="","",март!AA15) | BF15: =IF(апрель!AA15="","",апрель!AA15) | BG15: =IF(май!AA15="","",май!AA15) | BH15: =IF(AND(AY15="",AZ15="",BA15="",BB15="",BC15="",BD15="",BE15="",BF15="",BG15=""),"",SUM(AY15:BG15)) | BI15: =IF('Кол.часов по УП'!G14="","",'Кол.часов по УП'!G14) | BJ15: =IF(AND(BH15="",BI15=""),"",BH15/BI15*100) | BK15: =IF(сентябрь!AF15="","",сентябрь!AF15) | BL15: =IF(октябрь!AF15="","",октябрь!AF15) | BM15: =IF(ноябрь!AF15="","",ноябрь!AF15) | BN15: =IF(декабрь!AF15="","",декабрь!AF15) | BO15: =IF(январь!AF15="","",январь!AF15) | BP15: =IF(февраль!AF15="","",февраль!AF15) | BQ15: =IF(март!AF15="","",март!AF15) | BR15: =IF(апрель!AF15="","",апрель!AF15) | BS15: =IF(май!AF15="","",май!AF15) | BT15: =IF(AND(BK15="",BL15="",BM15="",BN15="",BO15="",BP15="",BQ15="",BR15="",BS15=""),"",SUM(BK15:BS15)) | BU15: =IF('Кол.часов по УП'!H14="","",'Кол.часов по УП'!H14) | BV15: =IF(AND(BT15="",BU15=""),"",BT15/BU15*100)
A16: 2 | B16: Литературное чтение | C16: =IF(сентябрь!G16="","",сентябрь!G16) -> 2 | D16: =IF(октябрь!G16="","",октябрь!G16) -> 1 | E16: =IF(ноябрь!G16="","",ноябрь!G16) | F16: =IF(декабрь!G16="","",декабрь!G16) -> 1 | G16: =IF(январь!G16="","",январь!G16) | H16: =IF(февраль!G16="","",февраль!G16) -> 1 | I16: =IF(март!G16="","",март!G16) | J16: =IF(апрель!G16="","",апрель!G16) | K16: =IF(май!G16="","",май!G16) -> 2 | L16: =IF(AND(C16="",D16="",E16="",F16="",G16="",H16="",I16="",J16="",K16=""),"",SUM(C16:K16)) -> 7 | M16: =IF('Кол.часов по УП'!C15="","",'Кол.часов по УП'!C15) -> 136 | N16: =IF(AND(L16="",M16=""),"",L16/M16*100) -> 5.1470588 | O16: =IF(сентябрь!L16="","",сентябрь!L16) -> 2 | P16: =IF(октябрь!L16="","",октябрь!L16) -> 1 | Q16: =IF(ноябрь!L16="","",ноябрь!L16) | R16: =IF(декабрь!L16="","",декабрь!L16) -> 1 | S16: =IF(январь!L16="","",январь!L16) | T16: =IF(февраль!L16="","",февраль!L16) -> 1 | U16: =IF(март!L16="","",март!L16) -> 1 | V16: =IF(апрель!L16="","",апрель!L16) | W16: =IF(май!L16="","",май!L16) -> 1 | X16: =IF(AND(O16="",P16="",Q16="",R16="",S16="",T16="",U16="",V16="",W16=""),"",SUM(O16:W16)) -> 7 | Y16: =IF('Кол.часов по УП'!D15="","",'Кол.часов по УП'!D15) -> 136 | Z16: =IF(AND(X16="",Y16=""),"",X16/Y16*100) -> 5.1470588 | AA16: =IF(сентябрь!Q16="","",сентябрь!Q16) -> 2 | AB16: =IF(октябрь!Q16="","",октябрь!Q16) -> 1 | AC16: =IF(ноябрь!Q16="","",ноябрь!Q16) | AD16: =IF(декабрь!Q16="","",декабрь!Q16) -> 1 | AE16: =IF(январь!Q16="","",январь!Q16) | AF16: =IF(февраль!Q16="","",февраль!Q16) -> 1 | AG16: =IF(март!Q16="","",март!Q16) -> 1 | AH16: =IF(апрель!Q16="","",апрель!Q16) | AI16: =IF(май!Q16="","",май!Q16) -> 2 | AJ16: =IF(AND(AA16="",AB16="",AC16="",AD16="",AE16="",AF16="",AG16="",AH16="",AI16=""),"",SUM(AA16:AI16)) -> 8 | AK16: =IF('Кол.часов по УП'!E15="","",'Кол.часов по УП'!E15) -> 136 | AL16: =IF(AND(AJ16="",AK16=""),"",AJ16/AK16*100) -> 5.8823529 | AM16: =IF(сентябрь!V16="","",сентябрь!V16) | AN16: =IF(октябрь!V16="","",октябрь!V16) | AO16: =IF(ноябрь!V16="","",ноябрь!V16) | AP16: =IF(декабрь!V16="","",декабрь!V16) | AQ16: =IF(январь!V16="","",январь!V16) | AR16: =IF(февраль!V16="","",февраль!V16) | AS16: =IF(март!V16="","",март!V16) | AT16: =IF(апрель!V16="","",апрель!V16) | AU16: =IF(май!V16="","",май!V16) | AV16: =IF(AND(AM16="",AN16="",AO16="",AP16="",AQ16="",AR16="",AS16="",AT16="",AU16=""),"",SUM(AM16:AU16)) | AW16: =IF('Кол.часов по УП'!F15="","",'Кол.часов по УП'!F15) | AX16: =IF(AND(AV16="",AW16=""),"",AV16/AW16*100) | AY16: =IF(сентябрь!AA16="","",сентябрь!AA16) | AZ16: =IF(октябрь!AA16="","",октябрь!AA16) | BA16: =IF(ноябрь!AA16="","",ноябрь!AA16) | BB16: =IF(декабрь!AA16="","",декабрь!AA16) | BC16: =IF(январь!AA16="","",январь!AA16) | BD16: =IF(февраль!AA16="","",февраль!AA16) | BE16: =IF(март!AA16="","",март!AA16) | BF16: =IF(апрель!AA16="","",апрель!AA16) | BG16: =IF(май!AA16="","",май!AA16) | BH16: =IF(AND(AY16="",AZ16="",BA16="",BB16="",BC16="",BD16="",BE16="",BF16="",BG16=""),"",SUM(AY16:BG16)) | BI16: =IF('Кол.часов по УП'!G15="","",'Кол.часов по УП'!G15) | BJ16: =IF(AND(BH16="",BI16=""),"",BH16/BI16*100) | BK16: =IF(сентябрь!AF16="","",сентябрь!AF16) | BL16: =IF(октябрь!AF16="","",октябрь!AF16) | BM16: =IF(ноябрь!AF16="","",ноябрь!AF16) | BN16: =IF(декабрь!AF16="","",декабрь!AF16) | BO16: =IF(январь!AF16="","",январь!AF16) | BP16: =IF(февраль!AF16="","",февраль!AF16) | BQ16: =IF(март!AF16="","",март!AF16) | BR16: =IF(апрель!AF16="","",апрель!AF16) | BS16: =IF(май!AF16="","",май!AF16) | BT16: =IF(AND(BK16="",BL16="",BM16="",BN16="",BO16="",BP16="",BQ16="",BR16="",BS16=""),"",SUM(BK16:BS16)) | BU16: =IF('Кол.часов по УП'!H15="","",'Кол.часов по УП'!H15) | BV16: =IF(AND(BT16="",BU16=""),"",BT16/BU16*100)
A17: 3 | B17: Иностранный язык (английский) | C17: =IF(сентябрь!G17="","",сентябрь!G17) | D17: =IF(октябрь!G17="","",октябрь!G17) | E17: =IF(ноябрь!G17="","",ноябрь!G17) | F17: =IF(декабрь!G17="","",декабрь!G17) -> 1 | G17: =IF(январь!G17="","",январь!G17) | H17: =IF(февраль!G17="","",февраль!G17) -> 1 | I17: =IF(март!G17="","",март!G17) | J17: =IF(апрель!G17="","",апрель!G17) -> 1 | K17: =IF(май!G17="","",май!G17) | L17: =IF(AND(C17="",D17="",E17="",F17="",G17="",H17="",I17="",J17="",K17=""),"",SUM(C17:K17)) -> 3 | M17: =IF('Кол.часов по УП'!C16="","",'Кол.часов по УП'!C16) -> 68 | N17: =IF(AND(L17="",M17=""),"",L17/M17*100) -> 4.4117647 | O17: =IF(сентябрь!L17="","",сентябрь!L17) | P17: =IF(октябрь!L17="","",октябрь!L17) | Q17: =IF(ноябрь!L17="","",ноябрь!L17) | R17: =IF(декабрь!L17="","",декабрь!L17) -> 1 | S17: =IF(январь!L17="","",январь!L17) | T17: =IF(февраль!L17="","",февраль!L17) -> 1 | U17: =IF(март!L17="","",март!L17) | V17: =IF(апрель!L17="","",апрель!L17) -> 1 | W17: =IF(май!L17="","",май!L17) | X17: =IF(AND(O17="",P17="",Q17="",R17="",S17="",T17="",U17="",V17="",W17=""),"",SUM(O17:W17)) -> 3 | Y17: =IF('Кол.часов по УП'!D16="","",'Кол.часов по УП'!D16) -> 68 | Z17: =IF(AND(X17="",Y17=""),"",X17/Y17*100) -> 4.4117647 | AA17: =IF(сентябрь!Q17="","",сентябрь!Q17) | AB17: =IF(октябрь!Q17="","",октябрь!Q17) | AC17: =IF(ноябрь!Q17="","",ноябрь!Q17) | AD17: =IF(декабрь!Q17="","",декабрь!Q17) -> 1 | AE17: =IF(январь!Q17="","",январь!Q17) | AF17: =IF(февраль!Q17="","",февраль!Q17) -> 1 | AG17: =IF(март!Q17="","",март!Q17) | AH17: =IF(апрель!Q17="","",апрель!Q17) -> 1 | AI17: =IF(май!Q17="","",май!Q17) | AJ17: =IF(AND(AA17="",AB17="",AC17="",AD17="",AE17="",AF17="",AG17="",AH17="",AI17=""),"",SUM(AA17:AI17)) -> 3 | AK17: =IF('Кол.часов по УП'!E16="","",'Кол.часов по УП'!E16) -> 68 | AL17: =IF(AND(AJ17="",AK17=""),"",AJ17/AK17*100) -> 4.4117647 | AM17: =IF(сентябрь!V17="","",сентябрь!V17) | AN17: =IF(октябрь!V17="","",октябрь!V17) | AO17: =IF(ноябрь!V17="","",ноябрь!V17) | AP17: =IF(декабрь!V17="","",декабрь!V17) | AQ17: =IF(январь!V17="","",январь!V17) | AR17: =IF(февраль!V17="","",февраль!V17) | AS17: =IF(март!V17="","",март!V17) | AT17: =IF(апрель!V17="","",апрель!V17) | AU17: =IF(май!V17="","",май!V17) | AV17: =IF(AND(AM17="",AN17="",AO17="",AP17="",AQ17="",AR17="",AS17="",AT17="",AU17=""),"",SUM(AM17:AU17)) | AW17: =IF('Кол.часов по УП'!F16="","",'Кол.часов по УП'!F16) | AX17: =IF(AND(AV17="",AW17=""),"",AV17/AW17*100) | AY17: =IF(сентябрь!AA17="","",сентябрь!AA17) | AZ17: =IF(октябрь!AA17="","",октябрь!AA17) | BA17: =IF(ноябрь!AA17="","",ноябрь!AA17) | BB17: =IF(декабрь!AA17="","",декабрь!AA17) | BC17: =IF(январь!AA17="","",январь!AA17) | BD17: =IF(февраль!AA17="","",февраль!AA17) | BE17: =IF(март!AA17="","",март!AA17) | BF17: =IF(апрель!AA17="","",апрель!AA17) | BG17: =IF(май!AA17="","",май!AA17) | BH17: =IF(AND(AY17="",AZ17="",BA17="",BB17="",BC17="",BD17="",BE17="",BF17="",BG17=""),"",SUM(AY17:BG17)) | BI17: =IF('Кол.часов по УП'!G16="","",'Кол.часов по УП'!G16) | BJ17: =IF(AND(BH17="",BI17=""),"",BH17/BI17*100) | BK17: =IF(сентябрь!AF17="","",сентябрь!AF17) | BL17: =IF(октябрь!AF17="","",октябрь!AF17) | BM17: =IF(ноябрь!AF17="","",ноябрь!AF17) | BN17: =IF(декабрь!AF17="","",декабрь!AF17) | BO17: =IF(январь!AF17="","",январь!AF17) | BP17: =IF(февраль!AF17="","",февраль!AF17) | BQ17: =IF(март!AF17="","",март!AF17) | BR17: =IF(апрель!AF17="","",апрель!AF17) | BS17: =IF(май!AF17="","",май!AF17) | BT17: =IF(AND(BK17="",BL17="",BM17="",BN17="",BO17="",BP17="",BQ17="",BR17="",BS17=""),"",SUM(BK17:BS17)) | BU17: =IF('Кол.часов по УП'!H16="","",'Кол.часов по УП'!H16) | BV17: =IF(AND(BT17="",BU17=""),"",BT17/BU17*100)
A18: 4 | B18: Математика | C18: =IF(сентябрь!G18="","",сентябрь!G18) -> 1 | D18: =IF(октябрь!G18="","",октябрь!G18) -> 1 | E18: =IF(ноябрь!G18="","",ноябрь!G18) -> 1 | F18: =IF(декабрь!G18="","",декабрь!G18) -> 1 | G18: =IF(январь!G18="","",январь!G18) -> 1 | H18: =IF(февраль!G18="","",февраль!G18) -> 1 | I18: =IF(март!G18="","",март!G18) | J18: =IF(апрель!G18="","",апрель!G18) -> 1 | K18: =IF(май!G18="","",май!G18) -> 1 | L18: =IF(AND(C18="",D18="",E18="",F18="",G18="",H18="",I18="",J18="",K18=""),"",SUM(C18:K18)) -> 8 | M18: =IF('Кол.часов по УП'!C17="","",'Кол.часов по УП'!C17) -> 136 | N18: =IF(AND(L18="",M18=""),"",L18/M18*100) -> 5.8823529 | O18: =IF(сентябрь!L18="","",сентябрь!L18) -> 1 | P18: =IF(октябрь!L18="","",октябрь!L18) -> 1 | Q18: =IF(ноябрь!L18="","",ноябрь!L18) -> 1 | R18: =IF(декабрь!L18="","",декабрь!L18) -> 1 | S18: =IF(январь!L18="","",январь!L18) | T18: =IF(февраль!L18="","",февраль!L18) -> 1 | U18: =IF(март!L18="","",март!L18) -> 1 | V18: =IF(апрель!L18="","",апрель!L18) -> 1 | W18: =IF(май!L18="","",май!L18) | X18: =IF(AND(O18="",P18="",Q18="",R18="",S18="",T18="",U18="",V18="",W18=""),"",SUM(O18:W18)) -> 7 | Y18: =IF('Кол.часов по УП'!D17="","",'Кол.часов по УП'!D17) -> 136 | Z18: =IF(AND(X18="",Y18=""),"",X18/Y18*100) -> 5.1470588 | AA18: =IF(сентябрь!Q18="","",сентябрь!Q18) -> 1 | AB18: =IF(октябрь!Q18="","",октябрь!Q18) -> 1 | AC18: =IF(ноябрь!Q18="","",ноябрь!Q18) -> 1 | AD18: =IF(декабрь!Q18="","",декабрь!Q18) -> 1 | AE18: =IF(январь!Q18="","",январь!Q18) | AF18: =IF(февраль!Q18="","",февраль!Q18) -> 1 | AG18: =IF(март!Q18="","",март!Q18) -> 2 | AH18: =IF(апрель!Q18="","",апрель!Q18) | AI18: =IF(май!Q18="","",май!Q18) -> 1 | AJ18: =IF(AND(AA18="",AB18="",AC18="",AD18="",AE18="",AF18="",AG18="",AH18="",AI18=""),"",SUM(AA18:AI18)) -> 8 | AK18: =IF('Кол.часов по УП'!E17="","",'Кол.часов по УП'!E17) -> 136 | AL18: =IF(AND(AJ18="",AK18=""),"",AJ18/AK18*100) -> 5.8823529 | AM18: =IF(сентябрь!V18="","",сентябрь!V18) | AN18: =IF(октябрь!V18="","",октябрь!V18) | AO18: =IF(ноябрь!V18="","",ноябрь!V18) | AP18: =IF(декабрь!V18="","",декабрь!V18) | AQ18: =IF(январь!V18="","",январь!V18) | AR18: =IF(февраль!V18="","",февраль!V18) | AS18: =IF(март!V18="","",март!V18) | AT18: =IF(апрель!V18="","",апрель!V18) | AU18: =IF(май!V18="","",май!V18) | AV18: =IF(AND(AM18="",AN18="",AO18="",AP18="",AQ18="",AR18="",AS18="",AT18="",AU18=""),"",SUM(AM18:AU18)) | AW18: =IF('Кол.часов по УП'!F17="","",'Кол.часов по УП'!F17) | AX18: =IF(AND(AV18="",AW18=""),"",AV18/AW18*100) | AY18: =IF(сентябрь!AA18="","",сентябрь!AA18) | AZ18: =IF(октябрь!AA18="","",октябрь!AA18) | BA18: =IF(ноябрь!AA18="","",ноябрь!AA18) | BB18: =IF(декабрь!AA18="","",декабрь!AA18) | BC18: =IF(январь!AA18="","",январь!AA18) | BD18: =IF(февраль!AA18="","",февраль!AA18) | BE18: =IF(март!AA18="","",март!AA18) | BF18: =IF(апрель!AA18="","",апрель!AA18) | BG18: =IF(май!AA18="","",май!AA18) | BH18: =IF(AND(AY18="",AZ18="",BA18="",BB18="",BC18="",BD18="",BE18="",BF18="",BG18=""),"",SUM(AY18:BG18)) | BI18: =IF('Кол.часов по УП'!G17="","",'Кол.часов по УП'!G17) | BJ18: =IF(AND(BH18="",BI18=""),"",BH18/BI18*100) | BK18: =IF(сентябрь!AF18="","",сентябрь!AF18) | BL18: =IF(октябрь!AF18="","",октябрь!AF18) | BM18: =IF(ноябрь!AF18="","",ноябрь!AF18) | BN18: =IF(декабрь!AF18="","",декабрь!AF18) | BO18: =IF(январь!AF18="","",январь!AF18) | BP18: =IF(февраль!AF18="","",февраль!AF18) | BQ18: =IF(март!AF18="","",март!AF18) | BR18: =IF(апрель!AF18="","",апрель!AF18) | BS18: =IF(май!AF18="","",май!AF18) | BT18: =IF(AND(BK18="",BL18="",BM18="",BN18="",BO18="",BP18="",BQ18="",BR18="",BS18=""),"",SUM(BK18:BS18)) | BU18: =IF('Кол.часов по УП'!H17="","",'Кол.часов по УП'!H17) | BV18: =IF(AND(BT18="",BU18=""),"",BT18/BU18*100)
A19: 5 | B19: Окружающий мир | C19: =IF(сентябрь!G19="","",сентябрь!G19) -> 1 | D19: =IF(октябрь!G19="","",октябрь!G19) | E19: =IF(ноябрь!G19="","",ноябрь!G19) | F19: =IF(декабрь!G19="","",декабрь!G19) | G19: =IF(январь!G19="","",январь!G19) -> 1 | H19: =IF(февраль!G19="","",февраль!G19) | I19: =IF(март!G19="","",март!G19) | J19: =IF(апрель!G19="","",апрель!G19) | K19: =IF(май!G19="","",май!G19) -> 1 | L19: =IF(AND(C19="",D19="",E19="",F19="",G19="",H19="",I19="",J19="",K19=""),"",SUM(C19:K19)) -> 3 | M19: =IF('Кол.часов по УП'!C18="","",'Кол.часов по УП'!C18) -> 68 | N19: =IF(AND(L19="",M19=""),"",L19/M19*100) -> 4.4117647 | O19: =IF(сентябрь!L19="","",сентябрь!L19) -> 1 | P19: =IF(октябрь!L19="","",октябрь!L19) | Q19: =IF(ноябрь!L19="","",ноябрь!L19) | R19: =IF(декабрь!L19="","",декабрь!L19) | S19: =IF(январь!L19="","",январь!L19) -> 1 | T19: =IF(февраль!L19="","",февраль!L19) | U19: =IF(март!L19="","",март!L19) -> 1 | V19: =IF(апрель!L19="","",апрель!L19) | W19: =IF(май!L19="","",май!L19) -> 1 | X19: =IF(AND(O19="",P19="",Q19="",R19="",S19="",T19="",U19="",V19="",W19=""),"",SUM(O19:W19)) -> 4 | Y19: =IF('Кол.часов по УП'!D18="","",'Кол.часов по УП'!D18) -> 68 | Z19: =IF(AND(X19="",Y19=""),"",X19/Y19*100) -> 5.8823529 | AA19: =IF(сентябрь!Q19="","",сентябрь!Q19) -> 1 | AB19: =IF(октябрь!Q19="","",октябрь!Q19) | AC19: =IF(ноябрь!Q19="","",ноябрь!Q19) | AD19: =IF(декабрь!Q19="","",декабрь!Q19) | AE19: =IF(январь!Q19="","",январь!Q19) | AF19: =IF(февраль!Q19="","",февраль!Q19) | AG19: =IF(март!Q19="","",март!Q19) | AH19: =IF(апрель!Q19="","",апрель!Q19) | AI19: =IF(май!Q19="","",май!Q19) -> 1 | AJ19: =IF(AND(AA19="",AB19="",AC19="",AD19="",AE19="",AF19="",AG19="",AH19="",AI19=""),"",SUM(AA19:AI19)) -> 2 | AK19: =IF('Кол.часов по УП'!E18="","",'Кол.часов по УП'!E18) -> 68 | AL19: =IF(AND(AJ19="",AK19=""),"",AJ19/AK19*100) -> 2.9411765 | AM19: =IF(сентябрь!V19="","",сентябрь!V19) | AN19: =IF(октябрь!V19="","",октябрь!V19) | AO19: =IF(ноябрь!V19="","",ноябрь!V19) | AP19: =IF(декабрь!V19="","",декабрь!V19) | AQ19: =IF(январь!V19="","",январь!V19) | AR19: =IF(февраль!V19="","",февраль!V19) | AS19: =IF(март!V19="","",март!V19) | AT19: =IF(апрель!V19="","",апрель!V19) | AU19: =IF(май!V19="","",май!V19) | AV19: =IF(AND(AM19="",AN19="",AO19="",AP19="",AQ19="",AR19="",AS19="",AT19="",AU19=""),"",SUM(AM19:AU19)) | AW19: =IF('Кол.часов по УП'!F18="","",'Кол.часов по УП'!F18) | AX19: =IF(AND(AV19="",AW19=""),"",AV19/AW19*100) | AY19: =IF(сентябрь!AA19="","",сентябрь!AA19) | AZ19: =IF(октябрь!AA19="","",октябрь!AA19) | BA19: =IF(ноябрь!AA19="","",ноябрь!AA19) | BB19: =IF(декабрь!AA19="","",декабрь!AA19) | BC19: =IF(январь!AA19="","",январь!AA19) | BD19: =IF(февраль!AA19="","",февраль!AA19) | BE19: =IF(март!AA19="","",март!AA19) | BF19: =IF(апрель!AA19="","",апрель!AA19) | BG19: =IF(май!AA19="","",май!AA19) | BH19: =IF(AND(AY19="",AZ19="",BA19="",BB19="",BC19="",BD19="",BE19="",BF19="",BG19=""),"",SUM(AY19:BG19)) | BI19: =IF('Кол.часов по УП'!G18="","",'Кол.часов по УП'!G18) | BJ19: =IF(AND(BH19="",BI19=""),"",BH19/BI19*100) | BK19: =IF(сентябрь!AF19="","",сентябрь!AF19) | BL19: =IF(октябрь!AF19="","",октябрь!AF19) | BM19: =IF(ноябрь!AF19="","",ноябрь!AF19) | BN19: =IF(декабрь!AF19="","",декабрь!AF19) | BO19: =IF(январь!AF19="","",январь!AF19) | BP19: =IF(февраль!AF19="","",февраль!AF19) | BQ19: =IF(март!AF19="","",март!AF19) | BR19: =IF(апрель!AF19="","",апрель!AF19) | BS19: =IF(май!AF19="","",май!AF19) | BT19: =IF(AND(BK19="",BL19="",BM19="",BN19="",BO19="",BP19="",BQ19="",BR19="",BS19=""),"",SUM(BK19:BS19)) | BU19: =IF('Кол.часов по УП'!H18="","",'Кол.часов по УП'!H18) | BV19: =IF(AND(BT19="",BU19=""),"",BT19/BU19*100)
A20: 6 | B20: Музыка | C20: =IF(сентябрь!G20="","",сентябрь!G20) | D20: =IF(октябрь!G20="","",октябрь!G20) -> 1 | E20: =IF(ноябрь!G20="","",ноябрь!G20) | F20: =IF(декабрь!G20="","",декабрь!G20) | G20: =IF(январь!G20="","",январь!G20) -> 1 | H20: =IF(февраль!G20="","",февраль!G20) | I20: =IF(март!G20="","",март!G20) | J20: =IF(апрель!G20="","",апрель!G20) | K20: =IF(май!G20="","",май!G20) -> 1 | L20: =IF(AND(C20="",D20="",E20="",F20="",G20="",H20="",I20="",J20="",K20=""),"",SUM(C20:K20)) -> 3 | M20: =IF('Кол.часов по УП'!C19="","",'Кол.часов по УП'!C19) -> 31 | N20: =IF(AND(L20="",M20=""),"",L20/M20*100) -> 9.6774194 | O20: =IF(сентябрь!L20="","",сентябрь!L20) | P20: =IF(октябрь!L20="","",октябрь!L20) -> 1 | Q20: =IF(ноябрь!L20="","",ноябрь!L20) | R20: =IF(декабрь!L20="","",декабрь!L20) | S20: =IF(январь!L20="","",январь!L20) -> 1 | T20: =IF(февраль!L20="","",февраль!L20) | U20: =IF(март!L20="","",март!L20) | V20: =IF(апрель!L20="","",апрель!L20) | W20: =IF(май!L20="","",май!L20) -> 1 | X20: =IF(AND(O20="",P20="",Q20="",R20="",S20="",T20="",U20="",V20="",W20=""),"",SUM(O20:W20)) -> 3 | Y20: =IF('Кол.часов по УП'!D19="","",'Кол.часов по УП'!D19) -> 31 | Z20: =IF(AND(X20="",Y20=""),"",X20/Y20*100) -> 9.6774194 | AA20: =IF(сентябрь!Q20="","",сентябрь!Q20) | AB20: =IF(октябрь!Q20="","",октябрь!Q20) -> 1 | AC20: =IF(ноябрь!Q20="","",ноябрь!Q20) | AD20: =IF(декабрь!Q20="","",декабрь!Q20) | AE20: =IF(январь!Q20="","",январь!Q20) -> 1 | AF20: =IF(февраль!Q20="","",февраль!Q20) | AG20: =IF(март!Q20="","",март!Q20) | AH20: =IF(апрель!Q20="","",апрель!Q20) | AI20: =IF(май!Q20="","",май!Q20) -> 1 | AJ20: =IF(AND(AA20="",AB20="",AC20="",AD20="",AE20="",AF20="",AG20="",AH20="",AI20=""),"",SUM(AA20:AI20)) -> 3 | AK20: =IF('Кол.часов по УП'!E19="","",'Кол.часов по УП'!E19) -> 31 | AL20: =IF(AND(AJ20="",AK20=""),"",AJ20/AK20*100) -> 9.6774194 | AM20: =IF(сентябрь!V20="","",сентябрь!V20) | AN20: =IF(октябрь!V20="","",октябрь!V20) | AO20: =IF(ноябрь!V20="","",ноябрь!V20) | AP20: =IF(декабрь!V20="","",декабрь!V20) | AQ20: =IF(январь!V20="","",январь!V20) | AR20: =IF(февраль!V20="","",февраль!V20) | AS20: =IF(март!V20="","",март!V20) | AT20: =IF(апрель!V20="","",апрель!V20) | AU20: =IF(май!V20="","",май!V20) | AV20: =IF(AND(AM20="",AN20="",AO20="",AP20="",AQ20="",AR20="",AS20="",AT20="",AU20=""),"",SUM(AM20:AU20)) | AW20: =IF('Кол.часов по УП'!F19="","",'Кол.часов по УП'!F19) | AX20: =IF(AND(AV20="",AW20=""),"",AV20/AW20*100) | AY20: =IF(сентябрь!AA20="","",сентябрь!AA20) | AZ20: =IF(октябрь!AA20="","",октябрь!AA20) | BA20: =IF(ноябрь!AA20="","",ноябрь!AA20) | BB20: =IF(декабрь!AA20="","",декабрь!AA20) | BC20: =IF(январь!AA20="","",январь!AA20) | BD20: =IF(февраль!AA20="","",февраль!AA20) | BE20: =IF(март!AA20="","",март!AA20) | BF20: =IF(апрель!AA20="","",апрель!AA20) | BG20: =IF(май!AA20="","",май!AA20) | BH20: =IF(AND(AY20="",AZ20="",BA20="",BB20="",BC20="",BD20="",BE20="",BF20="",BG20=""),"",SUM(AY20:BG20)) | BI20: =IF('Кол.часов по УП'!G19="","",'Кол.часов по УП'!G19) | BJ20: =IF(AND(BH20="",BI20=""),"",BH20/BI20*100) | BK20: =IF(сентябрь!AF20="","",сентябрь!AF20) | BL20: =IF(октябрь!AF20="","",октябрь!AF20) | BM20: =IF(ноябрь!AF20="","",ноябрь!AF20) | BN20: =IF(декабрь!AF20="","",декабрь!AF20) | BO20: =IF(январь!AF20="","",январь!AF20) | BP20: =IF(февраль!AF20="","",февраль!AF20) | BQ20: =IF(март!AF20="","",март!AF20) | BR20: =IF(апрель!AF20="","",апрель!AF20) | BS20: =IF(май!AF20="","",май!AF20) | BT20: =IF(AND(BK20="",BL20="",BM20="",BN20="",BO20="",BP20="",BQ20="",BR20="",BS20=""),"",SUM(BK20:BS20)) | BU20: =IF('Кол.часов по УП'!H19="","",'Кол.часов по УП'!H19) | BV20: =IF(AND(BT20="",BU20=""),"",BT20/BU20*100)
A21: 7 | B21: Изобразительное искусство | C21: =IF(сентябрь!G21="","",сентябрь!G21) | D21: =IF(октябрь!G21="","",октябрь!G21) | E21: =IF(ноябрь!G21="","",ноябрь!G21) | F21: =IF(декабрь!G21="","",декабрь!G21) | G21: =IF(январь!G21="","",январь!G21) | H21: =IF(февраль!G21="","",февраль!G21) | I21: =IF(март!G21="","",март!G21) | J21: =IF(апрель!G21="","",апрель!G21) | K21: =IF(май!G21="","",май!G21) -> 1 | L21: =IF(AND(C21="",D21="",E21="",F21="",G21="",H21="",I21="",J21="",K21=""),"",SUM(C21:K21)) -> 1 | M21: =IF('Кол.часов по УП'!C20="","",'Кол.часов по УП'!C20) -> 34 | N21: =IF(AND(L21="",M21=""),"",L21/M21*100) -> 2.9411765 | O21: =IF(сентябрь!L21="","",сентябрь!L21) | P21: =IF(октябрь!L21="","",октябрь!L21) | Q21: =IF(ноябрь!L21="","",ноябрь!L21) | R21: =IF(декабрь!L21="","",декабрь!L21) | S21: =IF(январь!L21="","",январь!L21) | T21: =IF(февраль!L21="","",февраль!L21) | U21: =IF(март!L21="","",март!L21) | V21: =IF(апрель!L21="","",апрель!L21) -> 1 | W21: =IF(май!L21="","",май!L21) | X21: =IF(AND(O21="",P21="",Q21="",R21="",S21="",T21="",U21="",V21="",W21=""),"",SUM(O21:W21)) -> 1 | Y21: =IF('Кол.часов по УП'!D20="","",'Кол.часов по УП'!D20) -> 34 | Z21: =IF(AND(X21="",Y21=""),"",X21/Y21*100) -> 2.9411765 | AA21: =IF(сентябрь!Q21="","",сентябрь!Q21) | AB21: =IF(октябрь!Q21="","",октябрь!Q21) | AC21: =IF(ноябрь!Q21="","",ноябрь!Q21) | AD21: =IF(декабрь!Q21="","",декабрь!Q21) | AE21: =IF(январь!Q21="","",январь!Q21) | AF21: =IF(февраль!Q21="","",февраль!Q21) | AG21: =IF(март!Q21="","",март!Q21) | AH21: =IF(апрель!Q21="","",апрель!Q21) | AI21: =IF(май!Q21="","",май!Q21) -> 1 | AJ21: =IF(AND(AA21="",AB21="",AC21="",AD21="",AE21="",AF21="",AG21="",AH21="",AI21=""),"",SUM(AA21:AI21)) -> 1 | AK21: =IF('Кол.часов по УП'!E20="","",'Кол.часов по УП'!E20) -> 34 | AL21: =IF(AND(AJ21="",AK21=""),"",AJ21/AK21*100) -> 2.9411765 | AM21: =IF(сентябрь!V21="","",сентябрь!V21) | AN21: =IF(октябрь!V21="","",октябрь!V21) | AO21: =IF(ноябрь!V21="","",ноябрь!V21) | AP21: =IF(декабрь!V21="","",декабрь!V21) | AQ21: =IF(январь!V21="","",январь!V21) | AR21: =IF(февраль!V21="","",февраль!V21) | AS21: =IF(март!V21="","",март!V21) | AT21: =IF(апрель!V21="","",апрель!V21) | AU21: =IF(май!V21="","",май!V21) | AV21: =IF(AND(AM21="",AN21="",AO21="",AP21="",AQ21="",AR21="",AS21="",AT21="",AU21=""),"",SUM(AM21:AU21)) | AW21: =IF('Кол.часов по УП'!F20="","",'Кол.часов по УП'!F20) | AX21: =IF(AND(AV21="",AW21=""),"",AV21/AW21*100) | AY21: =IF(сентябрь!AA21="","",сентябрь!AA21) | AZ21: =IF(октябрь!AA21="","",октябрь!AA21) | BA21: =IF(ноябрь!AA21="","",ноябрь!AA21) | BB21: =IF(декабрь!AA21="","",декабрь!AA21) | BC21: =IF(январь!AA21="","",январь!AA21) | BD21: =IF(февраль!AA21="","",февраль!AA21) | BE21: =IF(март!AA21="","",март!AA21) | BF21: =IF(апрель!AA21="","",апрель!AA21) | BG21: =IF(май!AA21="","",май!AA21) | BH21: =IF(AND(AY21="",AZ21="",BA21="",BB21="",BC21="",BD21="",BE21="",BF21="",BG21=""),"",SUM(AY21:BG21)) | BI21: =IF('Кол.часов по УП'!G20="","",'Кол.часов по УП'!G20) | BJ21: =IF(AND(BH21="",BI21=""),"",BH21/BI21*100) | BK21: =IF(сентябрь!AF21="","",сентябрь!AF21) | BL21: =IF(октябрь!AF21="","",октябрь!AF21) | BM21: =IF(ноябрь!AF21="","",ноябрь!AF21) | BN21: =IF(декабрь!AF21="","",декабрь!AF21) | BO21: =IF(январь!AF21="","",январь!AF21) | BP21: =IF(февраль!AF21="","",февраль!AF21) | BQ21: =IF(март!AF21="","",март!AF21) | BR21: =IF(апрель!AF21="","",апрель!AF21) | BS21: =IF(май!AF21="","",май!AF21) | BT21: =IF(AND(BK21="",BL21="",BM21="",BN21="",BO21="",BP21="",BQ21="",BR21="",BS21=""),"",SUM(BK21:BS21)) | BU21: =IF('Кол.часов по УП'!H20="","",'Кол.часов по УП'!H20) | BV21: =IF(AND(BT21="",BU21=""),"",BT21/BU21*100)
